Workbook

Sheet 劳务清单表、分析表
A2: 劳务工程量清单报价表
C3: 项目名称：隆昌市2023年高标准农田建设项目设计施工总承包-碉楼村劳务单位采购项目
A4: 序号 | B4: 工程或费用名称 | C4: 工作内容 | D4: 单位 | E4: 工程数量 | F4: 人工费（含税） | I4: 备注
F5: 最高控制 单价（元） | G5: 投标单价（元） | H5: 投标合价(元)
A6: 1 | B6: 10cm厚泥结碎石路基 | C6: 1、测量放样、粗调纵坡、布置料堆、摊铺碎石、稳压、撒铺粘土、碾压 2、二转、养护、成品保护 | D6: =VLOOKUP(B6,[1]工程项目人工、材料、机械单价分析表!B:C,2,FALSE) -> m2 | E6: =SUMIF([1]工程项目人工、材料、机械单价分析表!$B4:$B$242,B6,[1]工程项目人工、材料、机械单价分析表!$D4:$D$242) -> 96 | F6: 3.61
A7: 2 | B7: 15cm厚泥结石路面 | C7: 1、测量放样、粗调纵坡、布置料堆、摊铺碎石、稳压、撒铺粘土、碾压 2、二转、养护、成品保护 | D7: =VLOOKUP(B7,[1]工程项目人工、材料、机械单价分析表!B:C,2,FALSE) -> m2 | E7: =SUMIF([1]工程项目人工、材料、机械单价分析表!$B4:$B$242,B7,[1]工程项目人工、材料、机械单价分析表!$D4:$D$242) -> 16019.05 | F7: 3.61
A8: 3 | B8: 20cm厚C20砼底板 | C8: 1、模板制作、安装、拆除； 2、混凝土运输、浇筑（砼浇注前、后的系列工作，包括砼施工的施工前准备，编制砼用量计划、清洁、修复、浇注、泵送配合、根据进度留设施工缝、施工缝处理剔打、养护、砼等垃圾处理、砼浇注质量问题处理等除砼搅拌外的砼施工的全部工序内容）； 3、安全设施搭拆、个人安全措施、自备辅材、自备所有施工机械设备及工器具； 4.养护； 5.现场安全防护及管理。 | D8: =VLOOKUP(B8,[1]工程项目人工、材料、机械单价分析表!B:C,2,FALSE) -> m3 | E8: =SUMIF([1]工程项目人工、材料、机械单价分析表!$B4:$B$242,B8,[1]工程项目人工、材料、机械单价分析表!$D4:$D$242) -> 981.46 | F8: 66.95
A9: 4 | B9: 20cm厚C30砼路面 | C9: 1.模板制作、安装、拆除、平面定位、高程控制 2.混凝浇筑、振捣、养护 3.类型：混凝土路面 4.拉毛、压痕或刻防滑槽 5.伸缩缝 6.锯缝、嵌缝 7.路面养护 8.现场安全防护及管理 | D9: =VLOOKUP(B9,[1]工程项目人工、材料、机械单价分析表!B:C,2,FALSE) -> m2 | E9: =SUMIF([1]工程项目人工、材料、机械单价分析表!$B4:$B$242,B9,[1]工程项目人工、材料、机械单价分析表!$D4:$D$242) -> 96 | F9: 10.76
A10: 5 | B10: C15混凝土管垫层 | C10: [项目特征] 1.截面尺寸:综合考虑 2.混凝土强度等级:综合 3.混凝土拌和料要求:满足设计及规范要求 4.混凝土种类:商品混凝土 5.表面凿毛或收光或收光 6.钢筋支架钢丝网或单层钢板网隔开 7.天棚为清水顶棚 [工程内容] 1.混凝土制作、运输、浇筑、振捣、养护、打磨平整、切缝、刻痕 2.表面凿毛或收光 3.商品砼采用甲供，其余材料及机械均由分包人提供 | D10: =VLOOKUP(B10,[1]工程项目人工、材料、机械单价分析表!B:C,2,FALSE) -> m3 | E10: =SUMIF([1]工程项目人工、材料、机械单价分析表!$B4:$B$242,B10,[1]工程项目人工、材料、机械单价分析表!$D4:$D$242) -> 10.44 | F10: 66.95
A11: 6 | B11: C20预制砼撑杆 | C11: 1、模板制作、安装、拆除、安装； 2、混凝土运输、浇筑（砼浇注前、后的系列工作，包括砼施工的施工前准备，编制砼用量计划、清洁、修复、浇注、泵送配合、根据进度留设施工缝、施工缝处理剔打、养护、砼等垃圾处理、砼浇注质量问题处理等除砼搅拌外的砼施工的全部工序内容）； 3、安全设施搭拆、个人安全措施、自备辅材、自备所有施工机械设备及工器具； 4.养护； 5.现场安全防护及管理。 | D11: =VLOOKUP(B11,[1]工程项目人工、材料、机械单价分析表!B:C,2,FALSE) -> m3 | E11: =SUMIF([1]工程项目人工、材料、机械单价分析表!$B4:$B$242,B11,[1]工程项目人工、材料、机械单价分析表!$D4:$D$242) -> 4.4 | F11: 123.6
A12: 7 | B12: C25砼底板 | C12: [项目特征] 1.截面尺寸:综合考虑 2.混凝土强度等级:综合 3.混凝土拌和料要求:满足设计及规范要求 4.混凝土种类:商品混凝土 5.表面凿毛或收光或收光 6.钢筋支架钢丝网或单层钢板网隔开 7.天棚为清水顶棚 [工程内容] 1.混凝土制作、运输、浇筑、振捣、养护、打磨平整、切缝、刻痕 2.表面凿毛或收光 3.商品砼采用甲供，其余材料及机械均由分包人提供 | D12: =VLOOKUP(B12,[1]工程项目人工、材料、机械单价分析表!B:C,2,FALSE) -> m3 | E12: =SUMIF([1]工程项目人工、材料、机械单价分析表!$B4:$B$242,B12,[1]工程项目人工、材料、机械单价分析表!$D4:$D$242) -> 6.03 | F12: 66.95
A13: 8 | B13: DN160（1.0MPa）PE100管道安装 | C13: 1、材料搬运； 2、材料准备：将管道或管件置于平坦位置，放于对接机上，留足10-20mm的切削余量。 3、夹紧：根据所焊制的管材、管件选择合适的卡瓦夹具，夹紧管材，为切削做好准备。 4、切削：切削所焊管段、管件端面杂质和氧化层，保证两对接端面平整、光洁、无杂质。 5、对中：两焊管段端面要完全对中，错边越小越好，错边不能超过壁厚的10%。否则，将影响对接质量。 6、加热：对接温度一般在210-230℃之间为宜，加热板加热时间冬夏有别，以两端面熔融长度为1-2mm为佳。 7、切换：将加热板拿开，迅速让两热融端面相粘并加压，为保证熔融对接质量，切换周期越短越好。 8、熔融对接：是焊接的关键，对接过程应始终处于熔融压力下进行，卷边宽度以2-4mm为宜。 9、冷却：保持对接压力不变，让接口缓慢冷却，冷却时间长短以手摸卷边生硬，感觉不到热为准。 10、对接完成：冷却好后松开卡瓦，移开对接机，重新准备下一接口连接。 | D13: =VLOOKUP(B13,[1]工程项目人工、材料、机械单价分析表!B:C,2,FALSE) -> m | E13: =SUMIF([1]工程项目人工、材料、机械单价分析表!$B4:$B$242,B13,[1]工程项目人工、材料、机械单价分析表!$D4:$D$242) -> 2180 | F13: 46.35
A14: 9 | B14: DN200（1.0MPa）PE100管道安装 | C14: 1、材料搬运； 2、材料准备：将管道或管件置于平坦位置，放于对接机上，留足10-20mm的切削余量。 3、夹紧：根据所焊制的管材、管件选择合适的卡瓦夹具，夹紧管材，为切削做好准备。 4、切削：切削所焊管段、管件端面杂质和氧化层，保证两对接端面平整、光洁、无杂质。 5、对中：两焊管段端面要完全对中，错边越小越好，错边不能超过壁厚的10%。否则，将影响对接质量。 6、加热：对接温度一般在210-230℃之间为宜，加热板加热时间冬夏有别，以两端面熔融长度为1-2mm为佳。 7、切换：将加热板拿开，迅速让两热融端面相粘并加压，为保证熔融对接质量，切换周期越短越好。 8、熔融对接：是焊接的关键，对接过程应始终处于熔融压力下进行，卷边宽度以2-4mm为宜。 9、冷却：保持对接压力不变，让接口缓慢冷却，冷却时间长短以手摸卷边生硬，感觉不到热为准。 10、对接完成：冷却好后松开卡瓦，移开对接机，重新准备下一接口连接。 | D14: =VLOOKUP(B14,[1]工程项目人工、材料、机械单价分析表!B:C,2,FALSE) -> m | E14: =SUMIF([1]工程项目人工、材料、机械单价分析表!$B4:$B$242,B14,[1]工程项目人工、材料、机械单价分析表!$D4:$D$242) -> 2515 | F14: 46.35
A15: 10 | B15: DN200钢筋砼管 | C15: 1.基础开挖：1）挂线；2）挖土；3）回填或将挖出的土筑成挡水埝；4）将沟槽断面修理到设计要求；5）清理现场等。 2.基础砌筑：石质：1）挂线；2）打眼、爆破、人工或机械清理；3）人工将沟槽断面修理到设计要求 3.涵身：1）选、修、洗石料；2）搭、拆脚手架、踏步或井字架；3）配、拌、运砂浆；4）砌筑；5）勾缝；6）养护。 4.涵管：1）构件修整；2）铺垫油毛毡支座；3）埋设及拆除地笼；4）起重机纵移过墩；5）构件吊装。 5.钢筋：1）搭、拆脚手架及轻型上下架、安全爬梯；2）定型钢模安装、拆除、修理、涂脱模剂、堆放；3）液压爬模拼拆及安装、提升、拆除、修理、涂脱模剂、堆放；4）钢筋除锈、制作、电焊、绑扎及骨架吊装入模；6）混凝土浇筑、捣固及养护。 | D15: =VLOOKUP(B15,[1]工程项目人工、材料、机械单价分析表!B:C,2,FALSE) -> m | E15: =SUMIF([1]工程项目人工、材料、机械单价分析表!$B4:$B$242,B15,[1]工程项目人工、材料、机械单价分析表!$D4:$D$242) -> 192 | F15: 41.2
A16: 11 | B16: DN500钢筋砼管 | C16: 1.基础开挖：1）挂线；2）挖土；3）回填或将挖出的土筑成挡水埝；4）将沟槽断面修理到设计要求；5）清理现场等。 2.基础砌筑：石质：1）挂线；2）打眼、爆破、人工或机械清理；3）人工将沟槽断面修理到设计要求 3.涵身：1）选、修、洗石料；2）搭、拆脚手架、踏步或井字架；3）配、拌、运砂浆；4）砌筑；5）勾缝；6）养护。 4.涵管：1）构件修整；2）铺垫油毛毡支座；3）埋设及拆除地笼；4）起重机纵移过墩；5）构件吊装。 5.钢筋：1）搭、拆脚手架及轻型上下架、安全爬梯；2）定型钢模安装、拆除、修理、涂脱模剂、堆放；3）液压爬模拼拆及安装、提升、拆除、修理、涂脱模剂、堆放；4）钢筋除锈、制作、电焊、绑扎及骨架吊装入模；6）混凝土浇筑、捣固及养护。 | D16: =VLOOKUP(B16,[1]工程项目人工、材料、机械单价分析表!B:C,2,FALSE) -> m | E16: =SUMIF([1]工程项目人工、材料、机械单价分析表!$B4:$B$242,B16,[1]工程项目人工、材料、机械单价分析表!$D4:$D$242) -> 60 | F16: 41.2
A17: 12 | B17: DN800钢筋砼管 | C17: 1.基础开挖：1）挂线；2）挖土；3）回填或将挖出的土筑成挡水埝；4）将沟槽断面修理到设计要求；5）清理现场等。 2.基础砌筑：石质：1）挂线；2）打眼、爆破、人工或机械清理；3）人工将沟槽断面修理到设计要求 3.涵身：1）选、修、洗石料；2）搭、拆脚手架、踏步或井字架；3）配、拌、运砂浆；4）砌筑；5）勾缝；6）养护。 4.涵管：1）构件修整；2）铺垫油毛毡支座；3）埋设及拆除地笼；4）起重机纵移过墩；5）构件吊装。 5.钢筋：1）搭、拆脚手架及轻型上下架、安全爬梯；2）定型钢模安装、拆除、修理、涂脱模剂、堆放；3）液压爬模拼拆及安装、提升、拆除、修理、涂脱模剂、堆放；4）钢筋除锈、制作、电焊、绑扎及骨架吊装入模；6）混凝土浇筑、捣固及养护。 | D17: =VLOOKUP(B17,[1]工程项目人工、材料、机械单价分析表!B:C,2,FALSE) -> m | E17: =SUMIF([1]工程项目人工、材料、机械单价分析表!$B4:$B$242,B17,[1]工程项目人工、材料、机械单价分析表!$D4:$D$242) -> 12 | F17: 41.2
A18: 13 | B18: M10砂浆抹面 | C18: 1.现场清理 2.基层清扫、洗刷、配、拌、运砂浆、抹平、养护 3.清理现场 | D18: =VLOOKUP(B18,[1]工程项目人工、材料、机械单价分析表!B:C,2,FALSE) -> m2 | E18: =SUMIF([1]工程项目人工、材料、机械单价分析表!$B4:$B$242,B18,[1]工程项目人工、材料、机械单价分析表!$D4:$D$242) -> 9453.46 | F18: 12.36
A19: 14 | B19: M10砂浆抹面（立面） | C19: 1.现场清理 2.基层清扫、洗刷、配、拌、运砂浆、抹平、养护 3.清理现场 | D19: =VLOOKUP(B19,[1]工程项目人工、材料、机械单价分析表!B:C,2,FALSE) -> m2 | E19: =SUMIF([1]工程项目人工、材料、机械单价分析表!$B4:$B$242,B19,[1]工程项目人工、材料、机械单价分析表!$D4:$D$242) -> 2 | F19: 12.36
A20: 15 | B20: M7.5浆砌砖 | C20: 1、M7.5砌筑工作； 2、材料搬运、拌、运砂浆； 3、搭、拆脚手架； 4、砌筑、勾缝、养护； 5、沉降缝胶泥制作与填抹； 6、排水孔下的胶泥铺设与孔口填石； 7、安全措施。 | D20: =VLOOKUP(B20,[1]工程项目人工、材料、机械单价分析表!B:C,2,FALSE) -> m3 | E20: =SUMIF([1]工程项目人工、材料、机械单价分析表!$B4:$B$242,B20,[1]工程项目人工、材料、机械单价分析表!$D4:$D$242) -> 1438.23 | F20: 297.41
A21: 16 | B21: PVC16 | C21: 1、材料搬运； 2、材料准备：将管道或管件置于平坦位置，放于对接机上，留足10-20mm的切削余量。 3、夹紧：根据所焊制的管材、管件选择合适的卡瓦夹具，夹紧管材，为切削做好准备。 4、切削：切削所焊管段、管件端面杂质和氧化层，保证两对接端面平整、光洁、无杂质。 5、对中：两焊管段端面要完全对中，错边越小越好，错边不能超过壁厚的10%。否则，将影响对接质量。 6、加热：对接温度一般在210-230℃之间为宜，加热板加热时间冬夏有别，以两端面熔融长度为1-2mm为佳。 7、切换：将加热板拿开，迅速让两热融端面相粘并加压，为保证熔融对接质量，切换周期越短越好。 8、熔融对接：是焊接的关键，对接过程应始终处于熔融压力下进行，卷边宽度以2-4mm为宜。 9、冷却：保持对接压力不变，让接口缓慢冷却，冷却时间长短以手摸卷边生硬，感觉不到热为准。 10、对接完成：冷却好后松开卡瓦，移开对接机，重新准备下一接口连接。 | D21: =VLOOKUP(B21,[1]工程项目人工、材料、机械单价分析表!B:C,2,FALSE) -> m | E21: =SUMIF([1]工程项目人工、材料、机械单价分析表!$B4:$B$242,B21,[1]工程项目人工、材料、机械单价分析表!$D4:$D$242) -> 100 | F21: 3.09
A22: 17 | B22: PVC-U排水管 | C22: 1、材料搬运； 2、材料准备：将管道或管件置于平坦位置，放于对接机上，留足10-20mm的切削余量。 3、夹紧：根据所焊制的管材、管件选择合适的卡瓦夹具，夹紧管材，为切削做好准备。 4、切削：切削所焊管段、管件端面杂质和氧化层，保证两对接端面平整、光洁、无杂质。 5、对中：两焊管段端面要完全对中，错边越小越好，错边不能超过壁厚的10%。否则，将影响对接质量。 6、加热：对接温度一般在210-230℃之间为宜，加热板加热时间冬夏有别，以两端面熔融长度为1-2mm为佳。 7、切换：将加热板拿开，迅速让两热融端面相粘并加压，为保证熔融对接质量，切换周期越短越好。 8、熔融对接：是焊接的关键，对接过程应始终处于熔融压力下进行，卷边宽度以2-4mm为宜。 9、冷却：保持对接压力不变，让接口缓慢冷却，冷却时间长短以手摸卷边生硬，感觉不到热为准。 10、对接完成：冷却好后松开卡瓦，移开对接机，重新准备下一接口连接。 | D22: =VLOOKUP(B22,[1]工程项目人工、材料、机械单价分析表!B:C,2,FALSE) -> m | E22: =SUMIF([1]工程项目人工、材料、机械单价分析表!$B4:$B$242,B22,[1]工程项目人工、材料、机械单价分析表!$D4:$D$242) -> 500 | F22: 10.3
A23: 18 | B23: PVC管45°接头 | C23: 1、材料搬运； 2、材料准备：将管道或管件置于平坦位置，放于对接机上，留足10-20mm的切削余量。 3、夹紧：根据所焊制的管材、管件选择合适的卡瓦夹具，夹紧管材，为切削做好准备。 4、切削：切削所焊管段、管件端面杂质和氧化层，保证两对接端面平整、光洁、无杂质。 5、对中：两焊管段端面要完全对中，错边越小越好，错边不能超过壁厚的10%。否则，将影响对接质量。 6、加热：对接温度一般在210-230℃之间为宜，加热板加热时间冬夏有别，以两端面熔融长度为1-2mm为佳。 7、切换：将加热板拿开，迅速让两热融端面相粘并加压，为保证熔融对接质量，切换周期越短越好。 8、熔融对接：是焊接的关键，对接过程应始终处于熔融压力下进行，卷边宽度以2-4mm为宜。 9、冷却：保持对接压力不变，让接口缓慢冷却，冷却时间长短以手摸卷边生硬，感觉不到热为准。 10、对接完成：冷却好后松开卡瓦，移开对接机，重新准备下一接口连接。 | D23: =VLOOKUP(B23,[1]工程项目人工、材料、机械单价分析表!B:C,2,FALSE) -> 个 | E23: =SUMIF([1]工程项目人工、材料、机械单价分析表!$B4:$B$242,B23,[1]工程项目人工、材料、机械单价分析表!$D4:$D$242) -> 200 | F23: 5.15
A24: 19 | B24: PVC排水管90°接头 | C24: 1、材料搬运； 2、材料准备：将管道或管件置于平坦位置，放于对接机上，留足10-20mm的切削余量。 3、夹紧：根据所焊制的管材、管件选择合适的卡瓦夹具，夹紧管材，为切削做好准备。 4、切削：切削所焊管段、管件端面杂质和氧化层，保证两对接端面平整、光洁、无杂质。 5、对中：两焊管段端面要完全对中，错边越小越好，错边不能超过壁厚的10%。否则，将影响对接质量。 6、加热：对接温度一般在210-230℃之间为宜，加热板加热时间冬夏有别，以两端面熔融长度为1-2mm为佳。 7、切换：将加热板拿开，迅速让两热融端面相粘并加压，为保证熔融对接质量，切换周期越短越好。 8、熔融对接：是焊接的关键，对接过程应始终处于熔融压力下进行，卷边宽度以2-4mm为宜。 9、冷却：保持对接压力不变，让接口缓慢冷却，冷却时间长短以手摸卷边生硬，感觉不到热为准。 10、对接完成：冷却好后松开卡瓦，移开对接机，重新准备下一接口连接。 | D24: =VLOOKUP(B24,[1]工程项目人工、材料、机械单价分析表!B:C,2,FALSE) -> 个 | E24: =SUMIF([1]工程项目人工、材料、机械单价分析表!$B4:$B$242,B24,[1]工程项目人工、材料、机械单价分析表!$D4:$D$242) -> 200 | F24: 5.15
A25: 20 | B25: 背沟清理 | C25: [项目特征] 1.土石类别:不区分土石成分，综合考虑 2.判断标准:人工开挖槽凡图示槽底宽（不含加宽工作面）在5m以内，且槽底长大于底宽三倍以上者，执行本清单项；机械开挖槽凡图示槽底宽（不含加宽工作面）在7m以内，且槽底长大于底宽三倍以上者，执行本清单项；除上述规定外执行平基项目。 3.开挖深度:根据原始地形图、平基施工图、地质勘察报告、基础设计施工图等综合考虑 4.开挖方式:机械开挖，人工捡底 6.弃渣运距:综合考虑 [工程内容] 1.土方回填（格田调型） 2.土石方回填 3.处理渗水、积水 4.清理 5.场内运输 6.安全防护、警卫 7.平整、夯实；修整底、边 | D25: =VLOOKUP(B25,[1]工程项目人工、材料、机械单价分析表!B:C,2,FALSE) -> m3 | E25: =SUMIF([1]工程项目人工、材料、机械单价分析表!$B4:$B$242,B25,[1]工程项目人工、材料、机械单价分析表!$D4:$D$242) -> 116.33 | F25: 3.35
A26: 21 | B26: 泵房 | C26: 1.模板制作、安装、拆除 2.混凝土运输、浇筑（砼浇注前、后的系列工作，包括砼施工的施工前准备，编制砼用量计划、清洁、修复、浇注、泵送配合、根据进度留设施工缝、施工缝处理剔打、养护、砼等垃圾处理、砼浇注质量问题处理等除砼搅拌外的砼施工的全部工序内容） 3.安全设施搭拆、个人安全措施、自备辅材、自备所有施工机械设备及工器具 4.养护： | D26: =VLOOKUP(B26,[1]工程项目人工、材料、机械单价分析表!B:C,2,FALSE) -> m2 | E26: =SUMIF([1]工程项目人工、材料、机械单价分析表!$B4:$B$242,B26,[1]工程项目人工、材料、机械单价分析表!$D4:$D$242) -> 11.47 | F26: 422.3
A27: 22 | B27: 扁钢-25×3×400镀锌避雷带支持卡子 | C27: [项目特征] 1.设备房机电安装，材料甲方提供 [工程内容] 1.开槽、安装、布线、成品保护 | D27: =VLOOKUP(B27,[1]工程项目人工、材料、机械单价分析表!B:C,2,FALSE) -> 套 | E27: =SUMIF([1]工程项目人工、材料、机械单价分析表!$B4:$B$242,B27,[1]工程项目人工、材料、机械单价分析表!$D4:$D$242) -> 8 | F27: 2.06
A28: 23 | B28: 表土剥离 | C28: 1.配合机械表土剥离 2.测量放样、规划剥离区域 3.人工配合转移机械 4.现场安全防护及管理 | D28: =VLOOKUP(B28,[1]工程项目人工、材料、机械单价分析表!B:C,2,FALSE) -> m3 | E28: =SUMIF([1]工程项目人工、材料、机械单价分析表!$B4:$B$242,B28,[1]工程项目人工、材料、机械单价分析表!$D4:$D$242) -> 103060 | F28: 0.31
A29: 24 | B29: 表土回填 | C29: 1.配合机械整平土方 2.测量放样 3.表土回填、人工配合机械夯实 4.现场安全防护及管理 | D29: =VLOOKUP(B29,[1]工程项目人工、材料、机械单价分析表!B:C,2,FALSE) -> m3 | E29: =SUMIF([1]工程项目人工、材料、机械单价分析表!$B4:$B$242,B29,[1]工程项目人工、材料、机械单价分析表!$D4:$D$242) -> 103060 | F29: 0.31
A30: 25 | B30: 拆除田坎 | C30: 1、拆除、装车、人工配合转用 | D30: =VLOOKUP(B30,[1]工程项目人工、材料、机械单价分析表!B:C,2,FALSE) -> m3 | E30: =SUMIF([1]工程项目人工、材料、机械单价分析表!$B4:$B$242,B30,[1]工程项目人工、材料、机械单价分析表!$D4:$D$242) -> 4290.59 | F30: 1.29
A31: 26 | B31: 地力培肥 | C31: 1、配合机械地力培肥； 2、分配平衡施肥比例。 | D31: =VLOOKUP(B31,[1]工程项目人工、材料、机械单价分析表!B:C,2,FALSE) -> t | E31: =SUMIF([1]工程项目人工、材料、机械单价分析表!$B4:$B$242,B31,[1]工程项目人工、材料、机械单价分析表!$D4:$D$242) -> 31.7 | F31: 309
A32: 27 | B32: 底阀DN200 | C32: [项目特征] 1.设备房机电安装，材料甲方提供 [工程内容] 1.开槽、安装、布线、成品保护 | D32: =VLOOKUP(B32,[1]工程项目人工、材料、机械单价分析表!B:C,2,FALSE) -> 个 | E32: =SUMIF([1]工程项目人工、材料、机械单价分析表!$B4:$B$242,B32,[1]工程项目人工、材料、机械单价分析表!$D4:$D$242) -> 1 | F32: 51.5
A33: 28 | B33: 镀锌扁钢-40×4接地支线 | C33: [项目特征] 1.设备房机电安装，材料甲方提供 [工程内容] 1.开槽、安装、布线、成品保护 | D33: =VLOOKUP(B33,[1]工程项目人工、材料、机械单价分析表!B:C,2,FALSE) -> m | E33: =SUMIF([1]工程项目人工、材料、机械单价分析表!$B4:$B$242,B33,[1]工程项目人工、材料、机械单价分析表!$D4:$D$242) -> 50 | F33: 2.06
A34: 29 | B34: 镀锌扁钢-50×5接地干线 | C34: [项目特征] 1.设备房机电安装，材料甲方提供 [工程内容] 1.开槽、安装、布线、成品保护 | D34: =VLOOKUP(B34,[1]工程项目人工、材料、机械单价分析表!B:C,2,FALSE) -> m | E34: =SUMIF([1]工程项目人工、材料、机械单价分析表!$B4:$B$242,B34,[1]工程项目人工、材料、机械单价分析表!$D4:$D$242) -> 50 | F34: 2.06
A35: 30 | B35: 墩 | C35: [项目特征] 1.截面尺寸:综合考虑 2.混凝土强度等级:综合 3.混凝土拌和料要求:满足设计及规范要求 4.混凝土种类:商品混凝土 5.表面凿毛或收光或收光 6.钢筋支架钢丝网或单层钢板网隔开 7.天棚为清水顶棚 [工程内容] 1.混凝土制作、运输、浇筑、振捣、养护、打磨平整、切缝、刻痕 2.表面凿毛或收光 3.商品砼采用甲供，其余材料及机械均由分包人提供 | D35: =VLOOKUP(B35,[1]工程项目人工、材料、机械单价分析表!B:C,2,FALSE) -> m3 | E35: =SUMIF([1]工程项目人工、材料、机械单价分析表!$B4:$B$242,B35,[1]工程项目人工、材料、机械单价分析表!$D4:$D$242) -> 5.46 | F35: 154.5
A36: 31 | B36: 复合式高速进排气阀 1.0MPa DN200 | C36: 1、材料搬运； 2、材料准备：将管道或管件置于平坦位置，放于对接机上，留足10-20mm的切削余量。 3、夹紧：根据所焊制的管材、管件选择合适的卡瓦夹具，夹紧管材，为切削做好准备。 4、切削：切削所焊管段、管件端面杂质和氧化层，保证两对接端面平整、光洁、无杂质。 5、对中：两焊管段端面要完全对中，错边越小越好，错边不能超过壁厚的10%。否则，将影响对接质量。 6、加热：对接温度一般在210-230℃之间为宜，加热板加热时间冬夏有别，以两端面熔融长度为1-2mm为佳。 7、切换：将加热板拿开，迅速让两热融端面相粘并加压，为保证熔融对接质量，切换周期越短越好。 8、熔融对接：是焊接的关键，对接过程应始终处于熔融压力下进行，卷边宽度以2-4mm为宜。 9、冷却：保持对接压力不变，让接口缓慢冷却，冷却时间长短以手摸卷边生硬，感觉不到热为准。 10、对接完成：冷却好后松开卡瓦，移开对接机，重新准备下一接口连接。 | D36: =VLOOKUP(B36,[1]工程项目人工、材料、机械单价分析表!B:C,2,FALSE) -> 个 | E36: =SUMIF([1]工程项目人工、材料、机械单价分析表!$B4:$B$242,B36,[1]工程项目人工、材料、机械单价分析表!$D4:$D$242) -> 4 | F36: 51.5
A37: 32 | B37: 钢筋制作与安装 | C37: [项目特征] 1.钢筋种类、规格:型号:综合，详设计 2.连接方式:综合，详设计 3.钢筋连接接头:不区分绑扎、焊接及机械连接，电渣压力焊与机械连接的接头费用综合考虑在包干费中 4.异形构件：异形、弧形构件钢筋制作及安装，不另列 5.适用范围：主体结构钢筋、所有二次构件及砌体加筋等 6.钢筋主材为甲供，其余套筒、焊条、成品马櫈、预埋铁件、砌体加固及绑扎丝等所有辅材及工具由分包人提供 [工程内容] 1.钢筋(网、笼)制作、运输 2.钢筋(网、笼)安装 | D37: =VLOOKUP(B37,[1]工程项目人工、材料、机械单价分析表!B:C,2,FALSE) -> t | E37: =SUMIF([1]工程项目人工、材料、机械单价分析表!$B4:$B$242,B37,[1]工程项目人工、材料、机械单价分析表!$D4:$D$242) -> 2.42 | F37: 1055.75
A38: 33 | B38: 钢套管DN200（壁厚4.5mm） | C38: [项目特征] 1.管道安装，材料甲方提供 [工程内容] 1、材料搬运； 2、材料准备：将管道或管件置于平坦位置，放于对接机上，留足10-20mm的切削余量。 3、夹紧：根据所焊制的管材、管件选择合适的卡瓦夹具，夹紧管材，为切削做好准备。 4、切削：切削所焊管段、管件端面杂质和氧化层，保证两对接端面平整、光洁、无杂质。 5、对中：两焊管段端面要完全对中，错边越小越好，错边不能超过壁厚的10%。否则，将影响对接质量。 6、加热：对接温度一般在210-230℃之间为宜，加热板加热时间冬夏有别，以两端面熔融长度为1-2mm为佳。 7、切换：将加热板拿开，迅速让两热融端面相粘并加压，为保证熔融对接质量，切换周期越短越好。 8、熔融对接：是焊接的关键，对接过程应始终处于熔融压力下进行，卷边宽度以2-4mm为宜。 9、冷却：保持对接压力不变，让接口缓慢冷却，冷却时间长短以手摸卷边生硬，感觉不到热为准。 10、对接完成：冷却好后松开卡瓦，移开对接机，重新准备下一接口连接。 | D38: =VLOOKUP(B38,[1]工程项目人工、材料、机械单价分析表!B:C,2,FALSE) -> m | E38: =SUMIF([1]工程项目人工、材料、机械单价分析表!$B4:$B$242,B38,[1]工程项目人工、材料、机械单价分析表!$D4:$D$242) -> 64 | F38: 20.6
A39: 34 | B39: 沟槽土方开挖 | C39: [项目特征] 1.土石类别:不区分土石成分，综合考虑 2.判断标准:人工开挖槽凡图示槽底宽（不含加宽工作面）在5m以内，且槽底长大于底宽三倍以上者，执行本清单项；机械开挖槽凡图示槽底宽（不含加宽工作面）在7m以内，且槽底长大于底宽三倍以上者，执行本清单项；除上述规定外执行平基项目。 3.开挖深度:根据原始地形图、平基施工图、地质勘察报告、基础设计施工图等综合考虑 4.开挖方式:机械开挖，人工捡底 6.弃渣运距:综合考虑 [工程内容] 1.挖沟槽土石方 2.沟槽内土石方回填 3.处理渗水、积水 4.清理 5.场内运输 6.安全防护、警卫 7.围护、支撑 8.平整、夯实；修整底、边 | D39: =VLOOKUP(B39,[1]工程项目人工、材料、机械单价分析表!B:C,2,FALSE) -> m3 | E39: =SUMIF([1]工程项目人工、材料、机械单价分析表!$B4:$B$242,B39,[1]工程项目人工、材料、机械单价分析表!$D4:$D$242) -> 4643.93 | F39: 2.32
A40: 35 | B40: 混凝土拆除 | C40: 1、拆除、装车、人工配合转用 | D40: =VLOOKUP(B40,[1]工程项目人工、材料、机械单价分析表!B:C,2,FALSE) -> m3 | E40: =SUMIF([1]工程项目人工、材料、机械单价分析表!$B4:$B$242,B40,[1]工程项目人工、材料、机械单价分析表!$D4:$D$242) -> 19.2 | F40: 66.95
A41: 36 | B41: 活动接头 | C41: 1、材料搬运； 2、材料准备：将管道或管件置于平坦位置，放于对接机上，留足10-20mm的切削余量。 3、夹紧：根据所焊制的管材、管件选择合适的卡瓦夹具，夹紧管材，为切削做好准备。 4、切削：切削所焊管段、管件端面杂质和氧化层，保证两对接端面平整、光洁、无杂质。 5、对中：两焊管段端面要完全对中，错边越小越好，错边不能超过壁厚的10%。否则，将影响对接质量。 6、加热：对接温度一般在210-230℃之间为宜，加热板加热时间冬夏有别，以两端面熔融长度为1-2mm为佳。 7、切换：将加热板拿开，迅速让两热融端面相粘并加压，为保证熔融对接质量，切换周期越短越好。 8、熔融对接：是焊接的关键，对接过程应始终处于熔融压力下进行，卷边宽度以2-4mm为宜。 9、冷却：保持对接压力不变，让接口缓慢冷却，冷却时间长短以手摸卷边生硬，感觉不到热为准。 10、对接完成：冷却好后松开卡瓦，移开对接机，重新准备下一接口连接。 | D41: =VLOOKUP(B41,[1]工程项目人工、材料、机械单价分析表!B:C,2,FALSE) -> 个 | E41: =SUMIF([1]工程项目人工、材料、机械单价分析表!$B4:$B$242,B41,[1]工程项目人工、材料、机械单价分析表!$D4:$D$242) -> 200 | F41: 5.15
...
