{"text_format":"3","workbook":"xlsx","n_sheets":3,"sheets":["1","筛选分析-数量 (求和)","Sheet1"],"not_rendered":{"images":2,"defined_names":4},"read":"whole","date_system":"1900"}

{"sheet":"1","index":0,"n_rows":183,"n_cols":7,"rows_kept":183,"merged":[[0,0,0,6],[1,0,1,6],[182,1,182,4]]}
["控制价清单表"]
["隆昌市城市污水处理设施能力提升项目设计施工总承包 二 标段-劳务分包采购"]
["序号","工程或费用名称","工作内容","单位","工程量\n（暂估）","含税控制单价（3%）","含税控制合价（3%）"]
[1,{"$f":"'筛选分析-数量 (求和)'!A2","v":"1:1碎石砂"},"1、密实度要求:按设计及规范要\n求\n2、填方材料品种:1:1碎石砂\n3、其他：包含施工图纸、技术\n规范所需全部工作内容",{"$f":"'筛选分析-数量 (求和)'!C2","v":"m3"},158.83,15.45,{"$f":"ROUND(E4*F4,2)","v":2453.92}]
[2,{"$f":"'筛选分析-数量 (求和)'!A3","v":"15cm C20水泥混凝土"},"1、混凝土强度等级:C20\n2、厚度:15cm\n3、其他：包含施工图纸、技术\n规范所需全部工作内容",{"$f":"'筛选分析-数量 (求和)'!C3","v":"m2"},3487.77,9.63,33587.23]
[3,{"$f":"'筛选分析-数量 (求和)'!A4","v":"1cm 乳化沥青下封层"},"1、材料品种:乳化沥青下封层\n2、喷油量:按设计图纸要求\n3、厚度:1cm\n4、部位:下封层",{"$f":"'筛选分析-数量 (求和)'!C4","v":"m2"},13064.97,0.52,6793.78]
[4,{"$f":"'筛选分析-数量 (求和)'!A5","v":"20cm 4%水泥稳定碎石"},"1、水泥含量:4%\n2、厚度:20cm",{"$f":"'筛选分析-数量 (求和)'!C5","v":"m2"},13064.97,7.21,94198.43]
[5,{"$f":"'筛选分析-数量 (求和)'!A6","v":"20cm 5%水泥稳定碎石"},"1、水泥含量:5%\n2、厚度:20cm",{"$f":"'筛选分析-数量 (求和)'!C6","v":"m2"},13064.97,7.21,94198.43]
[6,{"$f":"'筛选分析-数量 (求和)'!A7","v":"20cm 级配碎石"},"1.石料规格：按设计图纸\n2.厚度：20cm",{"$f":"'筛选分析-数量 (求和)'!C7","v":"m2"},23429.64,5.71,133783.24]
[7,{"$f":"'筛选分析-数量 (求和)'!A8","v":"22cm C40水泥砼面层"},"1.混凝土强度等级：C40\n2.厚度：22cm",{"$f":"'筛选分析-数量 (求和)'!C8","v":"m2"},10364.67,13.91,144172.56]
[8,{"$f":"'筛选分析-数量 (求和)'!A9","v":"2cm水泥防水砂浆"},"1.2cm水泥防水砂浆",{"$f":"'筛选分析-数量 (求和)'!C9","v":"m2"},{"v":1800,"d":"1800.00"},13.39,{"v":24102,"d":"24102.00"}]
[9,{"$f":"'筛选分析-数量 (求和)'!A10","v":"5cm 细粒式改性沥青砼(AC-13C)"},"1、名称及规格:5cm 细粒式改性\n沥青砼(AC-13C)\n2、其他：包含图纸、技术规范\n所需全部工作内容",{"$f":"'筛选分析-数量 (求和)'!C10","v":"m2"},13064.97,3.63,47425.84]
[10,{"$f":"'筛选分析-数量 (求和)'!A11","v":"5cm厚透水砖"},"1.块料品种、 规格：5cm厚透水\n砖\n2.结合层做法： 3cm1：3水泥砂\n浆\n3.其他：包含施工图纸、技术规\n范所需全部工作内容岩",{"$f":"'筛选分析-数量 (求和)'!C11","v":"m2"},3487.77,24.21,84438.91]
[11,{"$f":"'筛选分析-数量 (求和)'!A12","v":"7cm 中粒式沥青混凝土（AC-20C）"},"1、名称及规格:7cm 中粒式沥青\n混凝土（AC-20C）\n2、其他：包含图纸、技术规范\n所需全部工作内容",{"$f":"'筛选分析-数量 (求和)'!C12","v":"m2"},13064.97,4.35,56832.62]
[12,{"$f":"'筛选分析-数量 (求和)'!A13","v":"Ⅱ级混凝土管 d1500 雨水管"},"1、材质及规格:II级钢筋混凝土\n管 d1500\n2、其他：包含施工图纸、技术\n规范所需全部工作内容",{"$f":"'筛选分析-数量 (求和)'!C13","v":"m"},{"v":328.4,"d":"328.40"},{"v":154.5,"d":"154.50"},{"v":50737.8,"d":"50737.80"}]
[13,{"$f":"'筛选分析-数量 (求和)'!A14","v":"Ⅱ级混凝土管 d1650  雨水管"},"1、管材规格： II级钢筋混凝土\n管 d1650\n2、接口方式：橡胶圈接口\n3、管座材质： 枕基C20混凝土\n4、其他：包含施工图纸、技术\n规范所需全部工作内容",{"$f":"'筛选分析-数量 (求和)'!C14","v":"m"},{"v":424.8,"d":"424.80"},{"v":154.5,"d":"154.50"},{"v":65631.6,"d":"65631.60"}]
[14,{"$f":"'筛选分析-数量 (求和)'!A15","v":"Ⅱ级混凝土管 d1800  雨水管"},"1、管材规格： II级钢筋混凝土\n管 d1800\n2、其他：包含施工图纸、技术\n规范所需全部工作内容",{"$f":"'筛选分析-数量 (求和)'!C15","v":"m"},{"v":422,"d":"422.00"},{"v":206,"d":"206.00"},{"v":86932,"d":"86932.00"}]
[15,{"$f":"'筛选分析-数量 (求和)'!A16","v":"Ⅱ级混凝土管 d1800  雨水管（远期预留）"},"1、材质及规格:II级钢筋混凝土\n管 d1800\n2、其他：包含施工图纸、技术\n规范所需全部工作内容",{"$f":"'筛选分析-数量 (求和)'!C16","v":"m"},17.56,{"v":206,"d":"206.00"},3617.36]
[16,{"$f":"'筛选分析-数量 (求和)'!A17","v":"Ⅱ级混凝土管 d2000  雨水管"},"1、材质及规格:II级钢筋混凝土\n管 d2000\n2、其他：包含施工图纸、技术\n规范所需全部工作内容",{"$f":"'筛选分析-数量 (求和)'!C17","v":"m"},{"v":277,"d":"277.00"},{"v":206,"d":"206.00"},{"v":57062,"d":"57062.00"}]
[17,{"$f":"'筛选分析-数量 (求和)'!A18","v":"Ⅱ级混凝土管 d300 雨水管（包管）"},"1、管材规格： II级钢筋混凝土\n管 d300\n2、接口方式：橡胶圈接口\n3、管座材质： 枕基C20混凝土\n4、其他：包含施工图纸、技术\n规范所需全部工作内容",{"$f":"'筛选分析-数量 (求和)'!C18","v":"m"},2774.28,66.95,185738.05]
[18,{"$f":"'筛选分析-数量 (求和)'!A19","v":"Ⅱ级混凝土管 d300（包管）"},"1、管材规格： II级钢筋混凝土\n管 d300\n2、接口方式：承插式弹性密封\n圈连接\n3、管座材质： 枕基C20混凝土\n4、其他：包含施工图纸、技术\n规范所需全部工作内容",{"$f":"'筛选分析-数量 (求和)'!C19","v":"m"},1080.47,66.95,72337.47]
[19,{"$f":"'筛选分析-数量 (求和)'!A20","v":"标线（热涂）1.8mm厚"},"1.名称：虚线\n2.材质：热熔型反光环保涂料\n3.规格：综合\n4.厚度：1.8mm\n5.工艺：符合设计及相关规范要求\n6.其他：满足施工规范及验收要求",{"$f":"'筛选分析-数量 (求和)'!C20","v":"m2"},{"v":904.7,"d":"904.70"},3.09,2795.52]
[20,{"$f":"'筛选分析-数量 (求和)'!A21","v":"玻纤格栅"},"1.材料品种、 规格:按设计图纸\n2.搭接方式:按设计图纸",{"$f":"'筛选分析-数量 (求和)'!C21","v":"m2"},13064.97,2.06,26913.84]
[21,{"$f":"'筛选分析-数量 (求和)'!A22","v":"仓面脚手架"},"1、名称： 脚手架",{"$f":"'筛选分析-数量 (求和)'!C22","v":"m2"},{"v":606.6,"d":"606.60"},8.65,5247.09]
[22,{"$f":"'筛选分析-数量 (求和)'!A23","v":"槽钢引孔φ400"},"1、地层情况:按地质勘察报告\n2、引孔长度:按设计图纸要求\n3、其他：包含施工图纸、技术\n规范所需全部工作内容",{"$f":"'筛选分析-数量 (求和)'!C23","v":"m"},60410.21,{"v":10.3,"d":"10.30"},622225.16]
[23,{"$f":"'筛选分析-数量 (求和)'!A24","v":"槽型钢板桩（含支撑）"},"1、地层情况:按地质勘察报告\n2、桩长:按设计图纸要求\n3、其他：包含施工图纸、技术\n规范所需全部工作内容",{"$f":"'筛选分析-数量 (求和)'!C24","v":"t"},{"v":6334.868,"d":"6334.87"},46.35,293621.13]
[24,{"$f":"'筛选分析-数量 (求和)'!A35","v":"成品硅砂雨水入渗井"},"1.成品硅砂雨水入渗井",{"$f":"'筛选分析-数量 (求和)'!C35","v":"座"},{"v":2,"d":"2.00"},{"v":51.5,"d":"51.50"},{"$f":"ROUND(E27*F27,2)","v":{"v":103,"d":"103.00"}}]
[25,{"$f":"'筛选分析-数量 (求和)'!A36","v":"挡土板 密撑"},"1、材质:挡土板\n2、挡土深度:综合考虑\n3、其他：包含施工图纸、技术\n规范所需全部工作内容",{"$f":"'筛选分析-数量 (求和)'!C36","v":"m2"},31576.93,4.12,130096.95]
[26,{"$f":"'筛选分析-数量 (求和)'!A37","v":"堤岸破除修复 HXL 4.4X5"},"1、名称： 堤岸破除修复 HXL\n4.4X5\n2、其他：包含图纸、技术规范\n所需全部工作内容",{"$f":"'筛选分析-数量 (求和)'!C37","v":"m"},{"v":5,"d":"5.00"},{"v":515,"d":"515.00"},{"v":2575,"d":"2575.00"}]
[27,{"$f":"'筛选分析-数量 (求和)'!A38","v":"堤岸破除修复 HXL 6.5X5"},"1、名称： 堤岸破除修复 HXL\n6.5X5\n2、其他：包含图纸、技术规范\n所需全部工作内容",{"$f":"'筛选分析-数量 (求和)'!C38","v":"m"},{"v":10,"d":"10.00"},{"v":515,"d":"515.00"},{"v":5150,"d":"5150.00"}]
[28,{"$f":"'筛选分析-数量 (求和)'!A39","v":"垫层模板"},"1、名称： 模板",{"$f":"'筛选分析-数量 (求和)'!C39","v":"m2"},1123.24,18.54,20824.87]
[29,{"$f":"'筛选分析-数量 (求和)'!A40","v":"反光标志牌100cm×120cm"},"1.交通标志板：反光标志牌100cm×120cm\n2.其它：满足设计规范及交通管理部门要求",{"$f":"'筛选分析-数量 (求和)'!C40","v":"套"},{"v":23,"d":"23.00"},{"v":103,"d":"103.00"},{"v":2369,"d":"2369.00"}]
[30,{"$f":"'筛选分析-数量 (求和)'!A41","v":"反光标志牌80cm×60cm"},"1.交通标志板：反光标志牌80cm×60cm\n2.其它：满足设计规范及交通管理部门要求",{"$f":"'筛选分析-数量 (求和)'!C41","v":"套"},{"v":52,"d":"52.00"},{"v":51.5,"d":"51.50"},{"v":2678,"d":"2678.00"}]
[31,{"$f":"'筛选分析-数量 (求和)'!A42","v":"反光标志牌D=80cm"},"1.交通标志板：反光标志牌D=80cm\n2.其它：满足设计规范及交通管理部门要求",{"$f":"'筛选分析-数量 (求和)'!C42","v":"套"},{"v":40,"d":"40.00"},{"v":51.5,"d":"51.50"},{"v":2060,"d":"2060.00"}]
[32,{"$f":"'筛选分析-数量 (求和)'!A43","v":"方沟侧壁模板"},"1、名称： 模板",{"$f":"'筛选分析-数量 (求和)'!C43","v":"m2"},10046.92,18.54,{"v":186269.9,"d":"186269.90"}]
[33,{"$f":"'筛选分析-数量 (求和)'!A44","v":"方沟底板模板"},"1、名称： 模板",{"$f":"'筛选分析-数量 (求和)'!C44","v":"m2"},1820.14,18.54,{"v":33745.4,"d":"33745.40"}]
[34,{"$f":"'筛选分析-数量 (求和)'!A45","v":"防撞沙桶"},"1.材料品种：防撞沙桶\n2.其他：包含施工图纸、技术规范所需全部工作内容",{"$f":"'筛选分析-数量 (求和)'!C45","v":"个"},{"v":128,"d":"128.00"},{"v":10.3,"d":"10.30"},{"v":1318.4,"d":"1318.40"}]
[35,{"$f":"'筛选分析-数量 (求和)'!A46","v":"钢带增强聚乙烯螺旋波纹管DN1000mm SN12.5 雨水管"},"1、材质及规格:钢带增强聚乙烯\n螺旋波纹管、DN1000\n2、其他：包含施工图纸、技术\n规范所需全部工作内容",{"$f":"'筛选分析-数量 (求和)'!C46","v":"m"},{"v":1069.5,"d":"1069.50"},44.81,{"v":47924.3,"d":"47924.30"}]
[36,{"$f":"'筛选分析-数量 (求和)'!A47","v":"钢带增强聚乙烯螺旋波纹管DN1000mm SN8.0"},"1、材质及规格:孔网钢带增强聚\n乙烯螺旋波纹管、DN1000mm\nSN8.0\n2、其他：包含施工图纸、技术\n规范所需全部工作内容",{"$f":"'筛选分析-数量 (求和)'!C47","v":"m"},{"v":32.3,"d":"32.30"},44.81,1447.36]
[37,{"$f":"'筛选分析-数量 (求和)'!A48","v":"钢带增强聚乙烯螺旋波纹管DN1200mm SN12.5 雨水管"},"1、材质及规格:钢带增强聚乙烯\n螺旋波纹管、DN1200\n2、其他：包含施工图纸、技术\n规范所需全部工作内容",{"$f":"'筛选分析-数量 (求和)'!C48","v":"m"},{"v":225.5,"d":"225.50"},44.81,10104.66]
[38,{"$f":"'筛选分析-数量 (求和)'!A49","v":"钢带增强聚乙烯螺旋波纹管DN300mm SN8.0"},"1、材质及规格:钢带增强聚乙烯\n螺旋波纹管、DN300mm SN8.0\n2、其他：包含施工图纸、技术\n规范所需全部工作内容",{"$f":"'筛选分析-数量 (求和)'!C49","v":"m"},{"v":679,"d":"679.00"},44.81,30425.99]
[39,{"$f":"'筛选分析-数量 (求和)'!A50","v":"钢带增强聚乙烯螺旋波纹管DN300mm SN8.0 （污水管）"},"1、材质及规格:钢带增强聚乙烯\n螺旋波纹管、DN300mm SN8.0\n2、其他：包含施工图纸、技术\n规范所需全部工作内容",{"$f":"'筛选分析-数量 (求和)'!C50","v":"m"},{"v":66.1,"d":"66.10"},44.81,2961.94]
[40,{"$f":"'筛选分析-数量 (求和)'!A51","v":"钢带增强聚乙烯螺旋波纹管DN400mm SN12.5 污水管"},"1、材质及规格:钢带增强聚乙烯\n螺旋波纹管、DN400\n2、其他：包含施工图纸、技术\n规范所需全部工作内容",{"$f":"'筛选分析-数量 (求和)'!C51","v":"m"},{"v":297.5,"d":"297.50"},44.81,13330.98]
[41,{"$f":"'筛选分析-数量 (求和)'!A52","v":"钢带增强聚乙烯螺旋波纹管DN400mm SN12.5 雨水管"},"1、材质及规格:钢带增强聚乙烯\n螺旋波纹管、DN400\n2、其他：包含施工图纸、技术\n规范所需全部工作内容",{"$f":"'筛选分析-数量 (求和)'!C52","v":"m"},{"v":883.3,"d":"883.30"},44.81,39580.67]
[42,{"$f":"'筛选分析-数量 (求和)'!A53","v":"钢带增强聚乙烯螺旋波纹管DN400mm SN8.0"},"1、材质及规格:钢带增强聚乙烯\n螺旋波纹管、DN400mm SN8.0\n2、其他：包含施工图纸、技术\n规范所需全部工作内容",{"$f":"'筛选分析-数量 (求和)'!C53","v":"m"},{"v":5263.5,"d":"5263.50"},44.81,235857.44]
[43,{"$f":"'筛选分析-数量 (求和)'!A54","v":"钢带增强聚乙烯螺旋波纹管DN500mm SN12.5 雨水管"},"1、材质及规格:钢带增强聚乙烯\n螺旋波纹管、DN500\n2、其他：包含施工图纸、技术\n规范所需全部工作内容",{"$f":"'筛选分析-数量 (求和)'!C54","v":"m"},{"v":483.6,"d":"483.60"},44.81,21670.12]
[44,{"$f":"'筛选分析-数量 (求和)'!A55","v":"钢带增强聚乙烯螺旋波纹管DN500mm SN8.0"},"1、材质及规格:钢带增强聚乙烯\n螺旋波纹管、DN500mm SN8.0\n2、其他：包含施工图纸、技术\n规范所需全部工作内容",{"$f":"'筛选分析-数量 (求和)'!C55","v":"m"},949.36,44.81,42540.82]
[45,{"$f":"'筛选分析-数量 (求和)'!A56","v":"钢带增强聚乙烯螺旋波纹管DN600mm SN12.5 雨水管"},"1、材质及规格:钢带增强聚乙烯\n螺旋波纹管、DN600\n2、其他：包含施工图纸、技术\n规范所需全部工作内容",{"$f":"'筛选分析-数量 (求和)'!C56","v":"m"},532.94,44.81,23881.04]
[46,{"$f":"'筛选分析-数量 (求和)'!A57","v":"钢带增强聚乙烯螺旋波纹管DN600mm SN12.5 雨水管孔网"},"1、材质及规格:钢带增强聚乙烯\n螺旋波纹管、DN600\n2、其他：包含施工图纸、技术\n规范所需全部工作内容",{"$f":"'筛选分析-数量 (求和)'!C57","v":"m"},{"v":100,"d":"100.00"},44.81,{"v":4481,"d":"4481.00"}]
[47,{"$f":"'筛选分析-数量 (求和)'!A58","v":"钢带增强聚乙烯螺旋波纹管DN600mm SN8.0"},"1、材质及规格:钢带增强聚乙烯\n螺旋波纹管、DN600mm SN8.0\n2、其他：包含施工图纸、技术\n规范所需全部工作内容",{"$f":"'筛选分析-数量 (求和)'!C58","v":"m"},{"v":625,"d":"625.00"},44.81,28006.25]
[48,{"$f":"'筛选分析-数量 (求和)'!A59","v":"钢带增强聚乙烯螺旋波纹管DN800mm SN12.5"},"1、材质及规格：钢带增强聚乙\n烯螺旋波纹管、DN800\n2、其他：包含施工图纸、技术\n规范所需全部工作内容",{"$f":"'筛选分析-数量 (求和)'!C59","v":"m"},{"v":46.8,"d":"46.80"},44.81,2097.11]
[49,{"$f":"'筛选分析-数量 (求和)'!A60","v":"钢带增强聚乙烯螺旋波纹管DN800mm SN12.5 污水管"},"1、材质及规格:钢带增强聚乙烯\n螺旋波纹管、DN800\n2、其他：包含施工图纸、技术\n规范所需全部工作内容",{"$f":"'筛选分析-数量 (求和)'!C60","v":"m"},{"v":215,"d":"215.00"},44.81,9634.15]
[50,{"$f":"'筛选分析-数量 (求和)'!A61","v":"钢带增强聚乙烯螺旋波纹管DN800mm SN12.5 雨水管"},"1、材质及规格:钢带增强聚乙烯\n螺旋波纹管、DN800\n2、其他：包含施工图纸、技术\n规范所需全部工作内容",{"$f":"'筛选分析-数量 (求和)'!C61","v":"m"},{"v":375.2,"d":"375.20"},44.81,16812.71]
[51,{"$f":"'筛选分析-数量 (求和)'!A62","v":"钢带增强聚乙烯螺旋波纹管DN800mm SN12.5 雨水管（远期预留）"},"1、材质及规格:钢带增强聚乙烯\n螺旋波纹管、DN800\n2、其他：包含施工图纸、技术\n规范所需全部工作内容",{"$f":"'筛选分析-数量 (求和)'!C62","v":"m"},27.18,44.81,1217.94]
[52,{"$f":"'筛选分析-数量 (求和)'!A63","v":"钢带增强聚乙烯螺旋波纹管DN800mm SN8.0"},"1、材质及规格:钢带增强聚乙烯\n螺旋波纹管、DN800mm SN8.0\n2、其他：包含施工图纸、技术\n规范所需全部工作内容",{"$f":"'筛选分析-数量 (求和)'!C63","v":"m"},{"v":205.2,"d":"205.20"},44.81,9195.01]
[53,{"$f":"'筛选分析-数量 (求和)'!A64","v":"钢筋混凝土 沉泥井 1700×1100（井高1.80+0.5m， 图集20s515-39)"},"1、井径:按设计图纸\n2、混凝土强度等级:按设计图纸\n3、其他：包含图纸、技术规范\n所需全部工作内容",{"$f":"'筛选分析-数量 (求和)'!C64","v":"座"},{"v":2,"d":"2.00"},1065.84,2131.68]
[54,{"$f":"'筛选分析-数量 (求和)'!A65","v":"钢筋混凝土 沉泥井 1700×1500（井高1.90+0.5m， 图集20s515-122)"},"1、井径:按设计图纸\n2、混凝土强度等级:按设计图纸\n3、其他：包含图纸、技术规范\n所需全部工作内容",{"$f":"'筛选分析-数量 (求和)'!C65","v":"座"},{"v":7,"d":"7.00"},1849.98,12949.86]
[55,{"$f":"'筛选分析-数量 (求和)'!A66","v":"钢筋混凝土 沉泥井 2100×1800（井高1.92+0.5m， 图集20s515-122)"},"1、井径:按设计图纸\n2、混凝土强度等级:按设计图纸\n3、其他：包含图纸、技术规范\n所需全部工作内容",{"$f":"'筛选分析-数量 (求和)'!C66","v":"座"},{"v":2,"d":"2.00"},2004.33,{"$f":"ROUND(E58*F58,2)","v":4008.66}]
[56,{"$f":"'筛选分析-数量 (求和)'!A67","v":"钢筋混凝土 沉泥井 2400×2000（井高1.94+0.5m， 图集20s515-122)"},"1、井径:按设计图纸\n2、混凝土强度等级:按设计图纸\n3、其他：包含图纸、技术规范\n所需全部工作内容",{"$f":"'筛选分析-数量 (求和)'!C67","v":"座"},{"v":1,"d":"1.00"},3837.42,3837.42]
[57,{"$f":"'筛选分析-数量 (求和)'!A68","v":"钢筋混凝土 沉泥井 2700×2300（井高2.17+0.5m， 图集20s515-122)"},"1、井径:按设计图纸\n2、混凝土强度等级:按设计图纸\n3、其他：包含图纸、技术规范\n所需全部工作内容",{"$f":"'筛选分析-数量 (求和)'!C68","v":"座"},{"v":3,"d":"3.00"},5029.28,15087.84]
[58,{"$f":"'筛选分析-数量 (求和)'!A69","v":"钢筋混凝土 沉泥井 3800×1600（井高5.56m， 图集20s515-263)单圆形竖槽式跌水井1m"},"1、井径:按设计图纸\n2、混凝土强度等级:按设计图纸\n3、其他：包含图纸、技术规范\n所需全部工作内容",{"$f":"'筛选分析-数量 (求和)'!C69","v":"座"},{"v":1,"d":"1.00"},4107.59,4107.59]
[59,{"$f":"'筛选分析-数量 (求和)'!A70","v":"钢筋混凝土 沉泥井 4000×3400（井高3.23m， 图集20s515-122)"},"1、井径:按设计图纸\n2、混凝土强度等级:按设计图纸\n3、其他：包含图纸、技术规范\n所需全部工作内容",{"$f":"'筛选分析-数量 (求和)'!C70","v":"座"},{"v":2,"d":"2.00"},8731.16,17462.32]
[60,{"$f":"'筛选分析-数量 (求和)'!A71","v":"钢筋混凝土 沉泥井 A=1400（井高1.9m， 图集20s515-188)90 °"},"1、井径:按设计图纸\n2、混凝土强度等级:按设计图纸\n3、其他：包含图纸、技术规范\n所需全部工作内容",{"$f":"'筛选分析-数量 (求和)'!C71","v":"座"},{"v":1,"d":"1.00"},1488.92,1488.92]
[61,{"$f":"'筛选分析-数量 (求和)'!A72","v":"钢筋混凝土 沉泥井 A=1700（井高1.92m， 图集20s515-188)90 °"},"1、井径:按设计图纸\n2、混凝土强度等级:按设计图纸\n3、其他：包含图纸、技术规范\n所需全部工作内容",{"$f":"'筛选分析-数量 (求和)'!C72","v":"座"},{"v":2,"d":"2.00"},1961.43,3922.86]
[62,{"$f":"'筛选分析-数量 (求和)'!A73","v":"钢筋混凝土 沉泥井 A=2200（井高1.9m， 图集20s515-188)90 °"},"1、井径:按设计图纸\n2、混凝土强度等级:按设计图纸\n3、其他：包含图纸、技术规范\n所需全部工作内容",{"$f":"'筛选分析-数量 (求和)'!C73","v":"座"},{"v":1,"d":"1.00"},3170.44,3170.44]
[63,{"$f":"'筛选分析-数量 (求和)'!A74","v":"钢筋混凝土 沉泥井 A=2400（井高1.9m， 图集20s515-188)90 °"},"1、井径:按设计图纸\n2、混凝土强度等级:按设计图纸\n3、其他：包含图纸、技术规范\n所需全部工作内容",{"$f":"'筛选分析-数量 (求和)'!C74","v":"座"},{"v":2,"d":"2.00"},3543.92,7087.84]
[64,{"$f":"'筛选分析-数量 (求和)'!A75","v":"钢筋混凝土 沉泥井 A=2600（井高1.9m， 图集20s515-188)90 °"},"1、井径:按设计图纸\n2、混凝土强度等级:按设计图纸\n3、其他：包含图纸、技术规范\n所需全部工作内容",{"$f":"'筛选分析-数量 (求和)'!C75","v":"座"},{"v":1,"d":"1.00"},4131.64,4131.64]
[65,{"$f":"'筛选分析-数量 (求和)'!A76","v":"钢筋混凝土 沉泥井 φ 1000（井高1.84m，DN400 图集20s515-29)"},"1、井径:按设计图纸\n2、混凝土强度等级:按设计图纸\n3、其他：包含图纸、技术规范\n所需全部工作内容",{"$f":"'筛选分析-数量 (求和)'!C76","v":"座"},{"v":2,"d":"2.00"},{"v":772.5,"d":"772.50"},{"v":1545,"d":"1545.00"}]
[66,{"$f":"'筛选分析-数量 (求和)'!A77","v":"钢筋混凝土 沉泥井 φ 1000（井高1.85m，DN500 图集20s515-29)"},"1、井径:按设计图纸\n2、混凝土强度等级:按设计图纸\n3、其他：包含图纸、技术规范\n所需全部工作内容",{"$f":"'筛选分析-数量 (求和)'!C77","v":"座"},{"v":2,"d":"2.00"},{"v":772.5,"d":"772.50"},{"v":1545,"d":"1545.00"}]
[67,{"$f":"'筛选分析-数量 (求和)'!A78","v":"钢筋混凝土 沉泥井 φ 1000（井高2.9m，DN500 图集20s515-313)"},"1、井径:按设计图纸\n2、混凝土强度等级:按设计图纸\n3、其他：包含图纸、技术规范\n所需全部工作内容",{"$f":"'筛选分析-数量 (求和)'!C78","v":"座"},{"v":11,"d":"11.00"},{"v":772.5,"d":"772.50"},{"v":8497.5,"d":"8497.50"}]
[68,{"$f":"'筛选分析-数量 (求和)'!A79","v":"钢筋混凝土 沉泥井 φ 1250（井高1.86m，DN600 图集20s515-29)"},"1、井径:按设计图纸\n2、混凝土强度等级:按设计图纸\n3、其他：包含图纸、技术规范\n所需全部工作内容",{"$f":"'筛选分析-数量 (求和)'!C79","v":"座"},{"v":2,"d":"2.00"},{"v":772.5,"d":"772.50"},{"v":1545,"d":"1545.00"}]
[69,{"$f":"'筛选分析-数量 (求和)'!A80","v":"钢筋混凝土 沉泥井 φ 1250（井高1.88m，DN800 图集20s515-29)"},"1、井径:按设计图纸\n2、混凝土强度等级:按设计图纸\n3、其他：包含图纸、技术规范\n所需全部工作内容",{"$f":"'筛选分析-数量 (求和)'!C80","v":"座"},{"v":1,"d":"1.00"},{"v":772.5,"d":"772.50"},{"v":772.5,"d":"772.50"}]
[70,{"$f":"'筛选分析-数量 (求和)'!A81","v":"钢筋混凝土 沉泥井 φ 1500（井高3.4m，DN1000 图集20s515-313)"},"1、井径:按设计图纸\n2、混凝土强度等级:按设计图纸\n3、其他：包含图纸、技术规范\n所需全部工作内容",{"$f":"'筛选分析-数量 (求和)'!C81","v":"座"},{"v":1,"d":"1.00"},{"v":772.5,"d":"772.50"},{"v":772.5,"d":"772.50"}]
[71,{"$f":"'筛选分析-数量 (求和)'!A82","v":"钢筋混凝土 沉泥井 φ 1800（井高1.91+0.5m，DN1000图集20s515-29)"},"1、井径:按设计图纸\n2、混凝土强度等级:按设计图纸\n3、其他：包含图纸、技术规范\n所需全部工作内容",{"$f":"'筛选分析-数量 (求和)'!C82","v":"座"},{"v":8,"d":"8.00"},{"v":772.5,"d":"772.50"},{"v":6180,"d":"6180.00"}]
[72,{"$f":"'筛选分析-数量 (求和)'!A83","v":"钢筋混凝土 沉泥井 φ 1800（井高1.9m，DN1000 图集20s515-29)"},"1、井径:按设计图纸\n2、混凝土强度等级:按设计图纸\n3、其他：包含图纸、技术规范\n所需全部工作内容",{"$f":"'筛选分析-数量 (求和)'!C83","v":"座"},{"v":1,"d":"1.00"},{"v":772.5,"d":"772.50"},{"v":772.5,"d":"772.50"}]
[73,{"$f":"'筛选分析-数量 (求和)'!A84","v":"钢筋混凝土 沉泥井（1700+1200） × 1600（井高4.76m， 图集20s515-263)单圆形竖槽式跌水井1m"},"1、井径:按设计图纸\n2、混凝土强度等级:按设计图纸\n3、其他：包含图纸、技术规范\n所需全部工作内容",{"$f":"'筛选分析-数量 (求和)'!C84","v":"座"},{"v":1,"d":"1.00"},3053.23,3053.23]
[74,{"$f":"'筛选分析-数量 (求和)'!A85","v":"钢筋混凝土 沉泥井（2200+1200） × 1600（井高3.65m， 图集20s515-263)单圆形竖槽式跌水井1m"},"1、井径:按设计图纸\n2、混凝土强度等级:按设计图纸\n3、其他：包含图纸、技术规范\n所需全部工作内容",{"$f":"'筛选分析-数量 (求和)'!C85","v":"座"},{"v":1,"d":"1.00"},3227.45,3227.45]
[75,{"$f":"'筛选分析-数量 (求和)'!A86","v":"钢筋混凝土 沉泥井1200X1100（井高1.88+0.5m， 图集20s515-39)"},"1、井径:按设计图纸\n2、混凝土强度等级:按设计图纸\n3、其他：包含图纸、技术规范\n所需全部工作内容",{"$f":"'筛选分析-数量 (求和)'!C86","v":"座"},{"v":1,"d":"1.00"},1077.28,1077.28]
[76,{"$f":"'筛选分析-数量 (求和)'!A87","v":"钢筋混凝土 沉泥井1700X1100（井高1.92+0.5m， 图集20s515-39)"},"1、井径:按设计图纸\n2、混凝土强度等级:按设计图纸\n3、其他：包含图纸、技术规范\n所需全部工作内容",{"$f":"'筛选分析-数量 (求和)'!C87","v":"座"},{"v":1,"d":"1.00"},1115.39,1115.39]
[77,{"$f":"'筛选分析-数量 (求和)'!A88","v":"钢筋混凝土 沉泥井2200X1100（井高2.17+0.5m， 图集20s515-39)"},"1、井径:按设计图纸\n2、混凝土强度等级:按设计图纸\n3、其他：包含图纸、技术规范\n所需全部工作内容",{"$f":"'筛选分析-数量 (求和)'!C88","v":"座"},{"v":1,"d":"1.00"},1395.91,1395.91]
[78,{"$f":"'筛选分析-数量 (求和)'!A89","v":"钢筋混凝土 沉泥井2400X1100（井高2.41+0.5m， 图集20s515-39)"},"1、井径:按设计图纸\n2、混凝土强度等级:按设计图纸\n3、其他：包含图纸、技术规范\n所需全部工作内容",{"$f":"'筛选分析-数量 (求和)'!C89","v":"座"},{"v":10,"d":"10.00"},1554.06,{"v":15540.6,"d":"15540.60"}]
[79,{"$f":"'筛选分析-数量 (求和)'!A90","v":"钢筋混凝土 单箅偏沟式雨水口（图集16S518-39）400X700"},"1、井径:按设计图纸\n2、混凝土强度等级:按设计图纸\n3、其他：包含图纸、技术规范\n所需全部工作内容",{"$f":"'筛选分析-数量 (求和)'!C90","v":"座"},{"v":192,"d":"192.00"},{"v":82.4,"d":"82.40"},{"v":15820.8,"d":"15820.80"}]
[80,{"$f":"'筛选分析-数量 (求和)'!A91","v":"钢筋混凝土 单箅偏沟式雨水口（图集16S518-43）400X700"},"1、井径:按设计图纸\n2、混凝土强度等级:按设计图纸\n3、其他：包含图纸、技术规范\n所需全部工作内容",{"$f":"'筛选分析-数量 (求和)'!C91","v":"座"},{"v":225,"d":"225.00"},{"v":82.4,"d":"82.40"},{"v":18540,"d":"18540.00"}]
[81,{"$f":"'筛选分析-数量 (求和)'!A92","v":"钢筋混凝土 跌水井 φ 1250（井高2.75m， 图集20s515-250)"},"1、井径:按设计图纸\n2、混凝土强度等级:按设计图纸\n3、其他：包含图纸、技术规范\n所需全部工作内容",{"$f":"'筛选分析-数量 (求和)'!C92","v":"座"},{"v":1,"d":"1.00"},{"v":772.5,"d":"772.50"},{"v":772.5,"d":"772.50"}]
[82,{"$f":"'筛选分析-数量 (求和)'!A93","v":"钢筋混凝土 跌水井2100X1000（井高2.35m， 图集20s515-259)"},"1、井径:按设计图纸\n2、混凝土强度等级:按设计图纸\n3、其他：包含图纸、技术规范\n所需全部工作内容",{"$f":"'筛选分析-数量 (求和)'!C93","v":"座"},{"v":1,"d":"1.00"},1610.92,1610.92]
[83,{"$f":"'筛选分析-数量 (求和)'!A94","v":"钢筋混凝土 跌水井2100X1000（井高2.35m， 图集20s515-261)"},"1、井径:按设计图纸\n2、混凝土强度等级:按设计图纸\n3、其他：包含图纸、技术规范\n所需全部工作内容",{"$f":"'筛选分析-数量 (求和)'!C94","v":"座"},{"v":1,"d":"1.00"},1598.56,1598.56]
[84,{"$f":"'筛选分析-数量 (求和)'!A95","v":"钢筋混凝土 跌水井2100X1000（井高2.45m，DN400 图集20s515-259)"},"1、井径:按设计图纸\n2、混凝土强度等级:按设计图纸\n3、其他：包含图纸、技术规范\n所需全部工作内容",{"$f":"'筛选分析-数量 (求和)'!C95","v":"座"},{"v":2,"d":"2.00"},1629.98,3259.96]
[85,{"$f":"'筛选分析-数量 (求和)'!A96","v":"钢筋混凝土 跌水井2200X1100（井高2.35m， 图集20s515-259)"},"1、井径:按设计图纸\n2、混凝土强度等级:按设计图纸\n3、其他：包含图纸、技术规范\n所需全部工作内容",{"$f":"'筛选分析-数量 (求和)'!C96","v":"座"},{"v":1,"d":"1.00"},1633.79,1633.79]
[86,{"$f":"'筛选分析-数量 (求和)'!A97","v":"钢筋混凝土 跌水井2400X1600（井高2.85m，DN800， 图集20s515-263)"},"1、井径:按设计图纸\n2、混凝土强度等级:按设计图纸\n3、其他：包含图纸、技术规范\n所需全部工作内容",{"$f":"'筛选分析-数量 (求和)'!C97","v":"座"},{"v":2,"d":"2.00"},1961.27,3922.54]
[87,{"$f":"'筛选分析-数量 (求和)'!A98","v":"钢筋混凝土 跌水井3600X1600（井高2.35m， 图集20s515-272)"},"1、井径:按设计图纸\n2、混凝土强度等级:按设计图纸\n3、其他：包含图纸、技术规范\n所需全部工作内容",{"$f":"'筛选分析-数量 (求和)'!C98","v":"座"},{"v":1,"d":"1.00"},2742.32,2742.32]
[88,{"$f":"'筛选分析-数量 (求和)'!A99","v":"钢筋混凝土 检查井 1700×1100（井高1.90m， 图集20s515-59)"},"1、井径:按设计图纸\n2、混凝土强度等级:按设计图纸\n3、其他：包含图纸、技术规范\n所需全部工作内容",{"$f":"'筛选分析-数量 (求和)'!C99","v":"座"},{"v":1,"d":"1.00"},1828.46,1828.46]
[89,{"$f":"'筛选分析-数量 (求和)'!A100","v":"钢筋混凝土 检查井 1700×1500（井高1.90m， 图集20s515-122)"},"1、井径:按设计图纸\n2、混凝土强度等级:按设计图纸\n3、其他：包含图纸、技术规范\n所需全部工作内容",{"$f":"'筛选分析-数量 (求和)'!C100","v":"座"},{"v":1,"d":"1.00"},1909.31,1909.31]
[90,{"$f":"'筛选分析-数量 (求和)'!A101","v":"钢筋混凝土 检查井 1700×1700（井高1.90m， 图集20s515-59)"},"1、井径:按设计图纸\n2、混凝土强度等级:按设计图纸\n3、其他：包含图纸、技术规范\n所需全部工作内容",{"$f":"'筛选分析-数量 (求和)'!C101","v":"座"},{"v":1,"d":"1.00"},{"v":2015.2,"d":"2015.20"},{"v":2015.2,"d":"2015.20"}]
[91,{"$f":"'筛选分析-数量 (求和)'!A102","v":"钢筋混凝土 检查井 A=1400（井高1.9m， 图集20s515-188)90 °"},"1、井径:按设计图纸\n2、混凝土强度等级:按设计图纸\n3、其他：包含图纸、技术规范\n所需全部工作内容",{"$f":"'筛选分析-数量 (求和)'!C102","v":"座"},{"v":1,"d":"1.00"},1593.05,1593.05]
[92,{"$f":"'筛选分析-数量 (求和)'!A103","v":"钢筋混凝土 检查井 A=1700（井高1.92m， 图集20s515-188)90 °"},"1、井径:按设计图纸\n2、混凝土强度等级:按设计图纸\n3、其他：包含图纸、技术规范\n所需全部工作内容",{"$f":"'筛选分析-数量 (求和)'!C103","v":"座"},{"v":1,"d":"1.00"},1954.79,1954.79]
[93,{"$f":"'筛选分析-数量 (求和)'!A104","v":"钢筋混凝土 检查井 A=2200（井高1.9m， 图集20s515-188)90 °"},"1、井径:按设计图纸\n2、混凝土强度等级:按设计图纸\n3、其他：包含图纸、技术规范\n所需全部工作内容",{"$f":"'筛选分析-数量 (求和)'!C104","v":"座"},{"v":1,"d":"1.00"},2798.51,2798.51]
[94,{"$f":"'筛选分析-数量 (求和)'!A105","v":"钢筋混凝土 检查井 A=2200（井高2.17m， 图集20s515-188)90 °"},"1、井径:按设计图纸\n2、混凝土强度等级:按设计图纸\n3、其他：包含图纸、技术规范\n所需全部工作内容",{"$f":"'筛选分析-数量 (求和)'!C105","v":"座"},{"v":1,"d":"1.00"},2825.19,2825.19]
[95,{"$f":"'筛选分析-数量 (求和)'!A106","v":"钢筋混凝土 检查井 A=2400（井高1.9m， 图集20s515-188)90 °"},"1、井径:按设计图纸\n2、混凝土强度等级:按设计图纸\n3、其他：包含图纸、技术规范\n所需全部工作内容",{"$f":"'筛选分析-数量 (求和)'!C106","v":"座"},{"v":2,"d":"2.00"},2838.53,5677.06]
[96,{"$f":"'筛选分析-数量 (求和)'!A107","v":"钢筋混凝土 检查井 φ 1000（井高1.84m，DN300、DN400 图集20s515-29)"},"1、井径:按设计图纸\n2、混凝土强度等级:按设计图纸\n3、其他：包含图纸、技术规范\n所需全部工作内容",{"$f":"'筛选分析-数量 (求和)'!C107","v":"座"},{"v":123,"d":"123.00"},{"v":772.5,"d":"772.50"},{"v":95017.5,"d":"95017.50"}]
[97,{"$f":"'筛选分析-数量 (求和)'!A108","v":"钢筋混凝土 检查井 φ 1000（井高1.84m，DN400 图集20s515-29)"},"1、井径:按设计图纸\n2、混凝土强度等级:按设计图纸\n3、其他：包含图纸、技术规范\n所需全部工作内容",{"$f":"'筛选分析-数量 (求和)'!C108","v":"座"},{"v":12,"d":"12.00"},{"v":772.5,"d":"772.50"},{"v":9270,"d":"9270.00"}]
[98,{"$f":"'筛选分析-数量 (求和)'!A109","v":"钢筋混凝土 检查井 φ 1000（井高1.86m，DN600 图集20s515-29)"},"1、井径:按设计图纸\n2、混凝土强度等级:按设计图纸\n3、其他：包含图纸、技术规范\n所需全部工作内容",{"$f":"'筛选分析-数量 (求和)'!C109","v":"座"},{"v":224,"d":"224.00"},{"v":772.5,"d":"772.50"},{"v":173040,"d":"173040.00"}]
[99,{"$f":"'筛选分析-数量 (求和)'!A110","v":"钢筋混凝土 检查井 φ 1000（井高1.91m，DN600 图集20s515-29)"},"1、井径:按设计图纸\n2、混凝土强度等级:按设计图纸\n3、其他：包含图纸、技术规范\n所需全部工作内容",{"$f":"'筛选分析-数量 (求和)'!C110","v":"座"},{"v":10,"d":"10.00"},{"v":772.5,"d":"772.50"},{"v":7725,"d":"7725.00"}]
[100,{"$f":"'筛选分析-数量 (求和)'!A111","v":"钢筋混凝土 检查井 φ 1250（井高1.86m，DN500 图集20s515-29)"},"1、井径:按设计图纸\n2、混凝土强度等级:按设计图纸\n3、其他：包含图纸、技术规范\n所需全部工作内容",{"$f":"'筛选分析-数量 (求和)'!C111","v":"座"},{"v":5,"d":"5.00"},{"v":772.5,"d":"772.50"},{"v":3862.5,"d":"3862.50"}]
[101,{"$f":"'筛选分析-数量 (求和)'!A112","v":"钢筋混凝土 检查井 φ 1250（井高1.88m，DN800 图集20s515-29)"},"1、井径:按设计图纸\n2、混凝土强度等级:按设计图纸\n3、其他：包含图纸、技术规范\n所需全部工作内容",{"$f":"'筛选分析-数量 (求和)'!C112","v":"座"},{"v":18,"d":"18.00"},{"v":772.5,"d":"772.50"},{"v":13905,"d":"13905.00"}]
[102,{"$f":"'筛选分析-数量 (求和)'!A113","v":"钢筋混凝土 检查井 φ 1500（井高1.88m，DN600 图集20s515-29)"},"1、井径:按设计图纸\n2、混凝土强度等级:按设计图纸\n3、其他：包含图纸、技术规范\n所需全部工作内容",{"$f":"'筛选分析-数量 (求和)'!C113","v":"座"},{"v":23,"d":"23.00"},{"v":772.5,"d":"772.50"},{"v":17767.5,"d":"17767.50"}]
[103,{"$f":"'筛选分析-数量 (求和)'!A114","v":"钢筋混凝土 检查井 φ 1800（井高1.91m，DN1000 图集20s515-29)"},"1、井径:按设计图纸\n2、混凝土强度等级:按设计图纸\n3、其他：包含图纸、技术规范\n所需全部工作内容",{"$f":"'筛选分析-数量 (求和)'!C114","v":"座"},{"v":16,"d":"16.00"},{"v":772.5,"d":"772.50"},{"v":12360,"d":"12360.00"}]
[104,{"$f":"'筛选分析-数量 (求和)'!A115","v":"钢筋混凝土 检查井 φ 1800（井高1.9m，DN1000 图集20s515-29)"},"1、井径:按设计图纸\n2、混凝土强度等级:按设计图纸\n3、其他：包含图纸、技术规范\n所需全部工作内容",{"$f":"'筛选分析-数量 (求和)'!C115","v":"座"},{"v":5,"d":"5.00"},{"v":772.5,"d":"772.50"},{"v":3862.5,"d":"3862.50"}]
[105,{"$f":"'筛选分析-数量 (求和)'!A116","v":"钢筋混凝土 检查井 φ700（图集20s515-29)"},"1、井径:按设计图纸\n2、混凝土强度等级:按设计图纸\n3、其他：包含图纸、技术规范\n所需全部工作内容",{"$f":"'筛选分析-数量 (求和)'!C116","v":"座"},{"v":5,"d":"5.00"},{"v":772.5,"d":"772.50"},{"v":3862.5,"d":"3862.50"}]
[106,{"$f":"'筛选分析-数量 (求和)'!A117","v":"钢筋混凝土 检查井（井高1.5m， 图集20S515-328）700X700"},"1、井径:按设计图纸\n2、混凝土强度等级:按设计图纸\n3、其他：包含图纸、技术规范\n所需全部工作内容",{"$f":"'筛选分析-数量 (求和)'!C117","v":"座"},{"v":26,"d":"26.00"},{"v":772.5,"d":"772.50"},{"v":20085,"d":"20085.00"}]
[107,{"$f":"'筛选分析-数量 (求和)'!A118","v":"钢筋混凝土 检查井（井高1m， 图集20S515-326）600X600"},"1、井径:按设计图纸\n2、混凝土强度等级:按设计图纸\n3、其他：包含图纸、技术规范\n所需全部工作内容",{"$f":"'筛选分析-数量 (求和)'!C118","v":"座"},{"v":3,"d":"3.00"},{"v":772.5,"d":"772.50"},{"v":2317.5,"d":"2317.50"}]
[108,{"$f":"'筛选分析-数量 (求和)'!A119","v":"钢筋混凝土 检查井（井高1m， 图集20S515-328）700X700"},"1、井径:按设计图纸\n2、混凝土强度等级:按设计图纸\n3、其他：包含图纸、技术规范\n所需全部工作内容",{"$f":"'筛选分析-数量 (求和)'!C119","v":"座"},{"v":11,"d":"11.00"},773.53,8508.83]
[109,{"$f":"'筛选分析-数量 (求和)'!A120","v":"钢筋混凝土 检查井1200X1100（井高1.88m， 图集20s515-39)"},"1、井径:按设计图纸\n2、混凝土强度等级:按设计图纸\n3、其他：包含图纸、技术规范\n所需全部工作内容",{"$f":"'筛选分析-数量 (求和)'!C120","v":"座"},{"v":2,"d":"2.00"},1123.47,2246.94]
[110,{"$f":"'筛选分析-数量 (求和)'!A121","v":"钢筋混凝土 检查井1400X1100（井高1.88m， 图集20s515-39)"},"1、井径:按设计图纸\n2、混凝土强度等级:按设计图纸\n3、其他：包含图纸、技术规范\n所需全部工作内容",{"$f":"'筛选分析-数量 (求和)'!C121","v":"座"},{"v":1,"d":"1.00"},1151.08,1151.08]
[111,{"$f":"'筛选分析-数量 (求和)'!A122","v":"钢筋混凝土 检查井1700X1100（井高1.88m， 图集20s515-39)"},"1、井径:按设计图纸\n2、混凝土强度等级:按设计图纸\n3、其他：包含图纸、技术规范\n所需全部工作内容",{"$f":"'筛选分析-数量 (求和)'!C122","v":"座"},{"v":5,"d":"5.00"},1241.97,6209.85]
[112,{"$f":"'筛选分析-数量 (求和)'!A123","v":"钢筋混凝土 检查井1700X1100（井高1.92m， 图集20s515-39)"},"1、井径:按设计图纸\n2、混凝土强度等级:按设计图纸\n3、其他：包含图纸、技术规范\n所需全部工作内容",{"$f":"'筛选分析-数量 (求和)'!C123","v":"座"},{"v":3,"d":"3.00"},1255.31,3765.93]
[113,{"$f":"'筛选分析-数量 (求和)'!A124","v":"钢筋混凝土 检查井1700X1500（井高1.9m， 图集20s515-122)"},"1、井径:按设计图纸\n2、混凝土强度等级:按设计图纸\n3、其他：包含图纸、技术规范\n所需全部工作内容",{"$f":"'筛选分析-数量 (求和)'!C124","v":"座"},{"v":1,"d":"1.00"},1278.18,1278.18]
[114,{"$f":"'筛选分析-数量 (求和)'!A125","v":"钢筋混凝土 检查井1900X1100（井高1.94m， 图集20s515-39)"},"1、井径:按设计图纸\n2、混凝土强度等级:按设计图纸\n3、其他：包含图纸、技术规范\n所需全部工作内容",{"$f":"'筛选分析-数量 (求和)'!C125","v":"座"},{"v":2,"d":"2.00"},1485.62,2971.24]
[115,{"$f":"'筛选分析-数量 (求和)'!A126","v":"钢筋混凝土 检查井2200X1100（井高2.17m， 图集20s515-39)"},"1、井径:按设计图纸\n2、混凝土强度等级:按设计图纸\n3、其他：包含图纸、技术规范\n所需全部工作内容",{"$f":"'筛选分析-数量 (求和)'!C126","v":"座"},{"v":5,"d":"5.00"},2001.91,10009.55]
[116,{"$f":"'筛选分析-数量 (求和)'!A127","v":"钢筋混凝土 检查井2200X1100（井高2.41m， 图集20s515-39)"},"1、井径:按设计图纸\n2、混凝土强度等级:按设计图纸\n3、其他：包含图纸、技术规范\n所需全部工作内容",{"$f":"'筛选分析-数量 (求和)'!C127","v":"座"},{"v":2,"d":"2.00"},2059.07,4118.14]
[117,{"$f":"'筛选分析-数量 (求和)'!A128","v":"钢筋混凝土 检查井2400X1100（井高2.41m， 图集20s515-39)"},"1、井径:按设计图纸\n2、混凝土强度等级:按设计图纸\n3、其他：包含图纸、技术规范\n所需全部工作内容",{"$f":"'筛选分析-数量 (求和)'!C128","v":"座"},{"v":11,"d":"11.00"},2148.94,23638.34]
[118,{"$f":"'筛选分析-数量 (求和)'!A129","v":"钢筋混凝土 检查井2600X1100（井高2.75m， 图集20s515-39)"},"1、井径:按设计图纸\n2、混凝土强度等级:按设计图纸\n3、其他：包含图纸、技术规范\n所需全部工作内容",{"$f":"'筛选分析-数量 (求和)'!C129","v":"座"},{"v":4,"d":"4.00"},2437.86,9751.44]
[119,{"$f":"'筛选分析-数量 (求和)'!A130","v":"钢筋混凝土 双箅偏沟式雨水口（图集16S518-43）400X700X2"},"1、井径:按设计图纸\n2、混凝土强度等级:按设计图纸\n3、其他：包含图纸、技术规范\n所需全部工作内容",{"$f":"'筛选分析-数量 (求和)'!C130","v":"座"},{"v":286,"d":"286.00"},{"v":82.4,"d":"82.40"},{"$f":"ROUND(E122*F122,2)","v":{"v":23566.4,"d":"23566.40"}}]
[120,{"$f":"'筛选分析-数量 (求和)'!A131","v":"钢筋混凝土 污水检查井 φ1000（井高1.84m，DN400图集20s515-30)"},"1、井径:按设计图纸\n2、混凝土强度等级:按设计图纸\n3、其他：包含图纸、技术规范\n所需全部工作内容",{"$f":"'筛选分析-数量 (求和)'!C131","v":"座"},{"v":1,"d":"1.00"},{"v":772.5,"d":"772.50"},{"v":772.5,"d":"772.50"}]
[121,{"$f":"'筛选分析-数量 (求和)'!A132","v":"钢筋混凝土 污水检查井 φ1000（井高1.86m，DN400图集20s515-29)"},"1、井径:按设计图纸\n2、混凝土强度等级:按设计图纸\n3、其他：包含图纸、技术规范\n所需全部工作内容",{"$f":"'筛选分析-数量 (求和)'!C132","v":"座"},{"v":12,"d":"12.00"},{"v":772.5,"d":"772.50"},{"v":9270,"d":"9270.00"}]
[122,{"$f":"'筛选分析-数量 (求和)'!A133","v":"钢筋混凝土 污水检查井 φ1000（井高2.24m，DN400图集20s515-30)"},"1、井径:按设计图纸\n2、混凝土强度等级:按设计图纸\n3、其他：包含图纸、技术规范\n所需全部工作内容",{"$f":"'筛选分析-数量 (求和)'!C133","v":"座"},{"v":6,"d":"6.00"},{"v":772.5,"d":"772.50"},{"v":4635,"d":"4635.00"}]
[123,{"$f":"'筛选分析-数量 (求和)'!A134","v":"钢筋混凝土 污水检查井 φ1250（井高1.88m，DN800图集20s515-30)"},"1、井径:按设计图纸\n2、混凝土强度等级:按设计图纸\n3、其他：包含图纸、技术规范\n所需全部工作内容",{"$f":"'筛选分析-数量 (求和)'!C134","v":"座"},{"v":9,"d":"9.00"},{"v":772.5,"d":"772.50"},{"v":6952.5,"d":"6952.50"}]
[124,{"$f":"'筛选分析-数量 (求和)'!A135","v":"钢筋混凝土 污水检查井 φ1500（井高2.9m，DN1000图集20s515-29)"},"1、井径:按设计图纸\n2、混凝土强度等级:按设计图纸\n3、其他：包含图纸、技术规范\n所需全部工作内容",{"$f":"'筛选分析-数量 (求和)'!C135","v":"座"},{"v":2,"d":"2.00"},{"v":772.5,"d":"772.50"},{"v":1545,"d":"1545.00"}]
[125,{"$f":"'筛选分析-数量 (求和)'!A136","v":"钢筋混凝土 溢流井 680×380 井高1m"},"1、井径:按设计图纸\n2、混凝土强度等级:按设计图纸\n3、其他：包含图纸、技术规范\n所需全部工作内容",{"$f":"'筛选分析-数量 (求和)'!C136","v":"座"},{"v":1,"d":"1.00"},{"v":82.4,"d":"82.40"},{"v":82.4,"d":"82.40"}]
[126,{"$f":"'筛选分析-数量 (求和)'!A137","v":"钢筋混凝土 溢流井（井高1m，详见大样图）700X400"},"1、井径:按设计图纸\n2、混凝土强度等级:按设计图纸\n3、其他：包含图纸、技术规范\n所需全部工作内容",{"$f":"'筛选分析-数量 (求和)'!C137","v":"座"},{"v":7,"d":"7.00"},{"v":82.4,"d":"82.40"},{"v":576.8,"d":"576.80"}]
[127,{"$f":"'筛选分析-数量 (求和)'!A138","v":"沟槽回填石屑"},"1、密实度要求:按设计图纸要求\n2、填方材料品种:石屑\n3、其他：包含施工图纸、技术\n规范所需全部工作内容",{"$f":"'筛选分析-数量 (求和)'!C138","v":"m3"},20426.31,28.51,{"v":582354.1,"d":"582354.10"}]
[128,{"$f":"'筛选分析-数量 (求和)'!A139","v":"沟槽回填土方（利用挖方）"},"1、密实度要求:按设计及规范要\n求\n2、填方材料品种:土方\n3、其他：包含施工图纸、技术\n规范所需全部工作内容",{"$f":"'筛选分析-数量 (求和)'!C139","v":"m3"},14162.88,{"v":1.3,"d":"1.30"},18411.74]
[129,{"$f":"'筛选分析-数量 (求和)'!A140","v":"管道封堵"},"1、名称： 管道封堵\n2、其他：包含图纸、技术规范\n所需全部工作内容",{"$f":"'筛选分析-数量 (求和)'!C140","v":"处"},{"v":296,"d":"296.00"},36.05,{"v":10670.8,"d":"10670.80"}]
[130,{"$f":"'筛选分析-数量 (求和)'!A141","v":"管道封堵 DN300"},"1、名称： 管道封堵 DN300\n2、其他：包含图纸、技术规范\n所需全部工作内容",{"$f":"'筛选分析-数量 (求和)'!C141","v":"处"},{"v":36,"d":"36.00"},36.05,{"v":1297.8,"d":"1297.80"}]
[131,{"$f":"'筛选分析-数量 (求和)'!A142","v":"管道基础模板"},"1、名称： 模板",{"$f":"'筛选分析-数量 (求和)'!C142","v":"m2"},{"v":3468.3,"d":"3468.30"},18.54,64302.28]
[132,{"$f":"'筛选分析-数量 (求和)'!A143","v":"花岗岩路缘石90×15×30cm"},"1.材料品种、 规格 ：花岗岩路\n缘石90×15×30cm\n2.其他：包含图纸、技术规范所\n需全部工作内容",{"$f":"'筛选分析-数量 (求和)'!C143","v":"m"},{"v":3691.7,"d":"3691.70"},36.05,133085.79]
[133,{"$f":"'筛选分析-数量 (求和)'!A144","v":"换填1:1碎石砂"},"1、密实度要求:按设计及规范要\n求\n2、填方材料品种:1:1碎石砂\n3、其他：包含施工图纸、技术\n规范所需全部工作内容",{"$f":"'筛选分析-数量 (求和)'!C144","v":"m3"},1612.66,15.45,{"v":24915.6,"d":"24915.60"}]
[134,{"$f":"'筛选分析-数量 (求和)'!A145","v":"混凝土出水口 D1650"},"1、名称： 混凝土出水口 D1650\n2、其他：包含图纸、技术规范\n所需全部工作内容",{"$f":"'筛选分析-数量 (求和)'!C145","v":"座"},{"v":1,"d":"1.00"},{"v":1030,"d":"1030.00"},{"v":1030,"d":"1030.00"}]
[135,{"$f":"'筛选分析-数量 (求和)'!A146","v":"混凝土出水口 D1800"},"1、名称： 混凝土出水口 D1800\n2、其他：包含图纸、技术规范\n所需全部工作内容",{"$f":"'筛选分析-数量 (求和)'!C146","v":"座"},{"v":1,"d":"1.00"},{"v":2060,"d":"2060.00"},{"v":2060,"d":"2060.00"}]
[136,{"$f":"'筛选分析-数量 (求和)'!A147","v":"混凝土出水口 D3000"},"1、名称： 混凝土出水口 D3000\n2、其他：包含图纸、技术规范\n所需全部工作内容",{"$f":"'筛选分析-数量 (求和)'!C147","v":"座"},{"v":1,"d":"1.00"},{"v":2060,"d":"2060.00"},{"v":2060,"d":"2060.00"}]
[137,{"$f":"'筛选分析-数量 (求和)'!A148","v":"混凝土出水口 D400"},"1、名称： 混凝土出水口 D3000\n2、其他：包含图纸、技术规范\n所需全部工作内容",{"$f":"'筛选分析-数量 (求和)'!C148","v":"座"},{"v":2,"d":"2.00"},{"v":824,"d":"824.00"},{"v":1648,"d":"1648.00"}]
[138,{"$f":"'筛选分析-数量 (求和)'!A149","v":"混凝土垫层 C20"},"1.混凝土强度等级：C20\n2.其他：包含施工图纸、技术规\n范所需全部工作内容",{"$f":"'筛选分析-数量 (求和)'!C149","v":"m3"},{"v":80,"d":"80.00"},67.44,{"v":5395.2,"d":"5395.20"}]
[139,{"$f":"'筛选分析-数量 (求和)'!A150","v":"混凝土方沟 300×400"},"1.断面规格：300×400mm\n2.垫层、 基础材质及厚度：\nC15,100mm\n3.混凝土强度等级:C30 P6\n4.盖板材质、规格:球墨铸铁盖\n板",{"$f":"'筛选分析-数量 (求和)'!C150","v":"m"},5363.68,25.75,138114.76]
[140,{"$f":"'筛选分析-数量 (求和)'!A151","v":"混凝土基础 C20包管"},"1、混凝土强度等级:C20\n2、其他：包含施工图纸、技术\n规范所需全部工作内容",{"$f":"'筛选分析-数量 (求和)'!C151","v":"m3"},23.27,67.44,1569.33]
[141,{"$f":"'筛选分析-数量 (求和)'!A152","v":"检查井周加强"},"1.车行道上检查井应采用检查井\n井周加强，井周80cm范围内采用\n5%水稳碎石回填，作法详设计图\n。",{"$f":"'筛选分析-数量 (求和)'!C152","v":"座"},{"v":631,"d":"631.00"},{"v":618,"d":"618.00"},{"v":389958,"d":"389958.00"}]
[142,{"$f":"'筛选分析-数量 (求和)'!A153","v":"井壁模板"},"1、名称： 模板",{"$f":"'筛选分析-数量 (求和)'!C153","v":"m2"},12859.82,18.54,238421.06]
[143,{"$f":"'筛选分析-数量 (求和)'!A154","v":"井底模板"},"1、名称： 模板",{"$f":"'筛选分析-数量 (求和)'!C154","v":"m2"},{"v":1490.1,"d":"1490.10"},18.54,27626.45]
[144,{"$f":"'筛选分析-数量 (求和)'!A155","v":"立管断接"},"1、名称： 管道封堵\n2、其他：包含图纸、技术规范\n所需全部工作内容",{"$f":"'筛选分析-数量 (求和)'!C155","v":"处"},{"v":7,"d":"7.00"},{"v":82.4,"d":"82.40"},{"v":576.8,"d":"576.80"}]
[145,{"$f":"'筛选分析-数量 (求和)'!A156","v":"立管断接 UPVC管 PVC-U排水管 DN200（含弯头、聚乙烯缓冲沉砂井等）"},"1、名称： 立管断接 UPVC管\nPVC-U排水管 DN200（含弯头、\n聚乙烯缓冲沉砂井等）\n2、其他：包含图纸、技术规范\n所需全部工作内容",{"$f":"'筛选分析-数量 (求和)'!C156","v":"处"},{"v":106,"d":"106.00"},{"v":82.4,"d":"82.40"},{"v":8734.4,"d":"8734.40"}]
[146,{"$f":"'筛选分析-数量 (求和)'!A157","v":"立管接驳--UPVC管 PVC-U排水管 DN200"},"1.材质及规格：PVC-U排水管\nDN200\n3.连接形式：按设计图纸要求\n3.其他：包含图纸、技术规范所\n需全部工作内容",{"$f":"'筛选分析-数量 (求和)'!C157","v":"m"},1296.25,15.45,20027.06]
[147,{"$f":"'筛选分析-数量 (求和)'!A158","v":"立柱式杆件φ89*4*5150mm"},"1.材料品种：立柱式杆件φ89*8*3500mm\n2.滑动槽钢：采用LC4铝合金挤压型材，并符合GB/T6892-2006《铝及铝合金挤压型材》的规定\n3.高强螺栓：高强连接螺栓和高强地脚下螺栓（包括相应的螺母、垫圈）应采用40B或45号钢（并镀锌）\n4.预埋铁件：详见设计施工图\n5.其他：含法兰盘、横梁加劲肋、抱箍、抱箍底衬、滑动螺栓、滑动螺母、垫圈、柱帽、柱脚收边、吊装等；满足设计规范及交通管理部门要求\n6.满足使用功能\n7.其他：满足设计图纸和相关规范要求",{"$f":"'筛选分析-数量 (求和)'!C158","v":"套"},{"v":63,"d":"63.00"},{"v":185.4,"d":"185.40"},{"v":11680.2,"d":"11680.20"}]
[148,{"$f":"'筛选分析-数量 (求和)'!A159","v":"破除并修复围墙"},"1.部位\n2.材料品种、 规格\n3.砂浆强度等级\n4.泄水孔材料品种、 规格\n5.滤水层要求\n6.沉降缝要求",{"$f":"'筛选分析-数量 (求和)'!C159","v":"m"},{"v":36,"d":"36.00"},421.48,15173.28]
[149,{"$f":"'筛选分析-数量 (求和)'!A160","v":"铺种草皮"},"1.草皮种类\n2.铺种方式\n3.养护期",{"$f":"'筛选分析-数量 (求和)'!C160","v":"m2"},{"v":87,"d":"87.00"},15.45,1344.15]
[150,{"$f":"'筛选分析-数量 (求和)'!A161","v":"墙面脚手架"},"1、名称： 脚手架",{"$f":"'筛选分析-数量 (求和)'!C161","v":"m2"},5713.51,8.65,49421.86]
[151,{"$f":"'筛选分析-数量 (求和)'!A162","v":"球墨铸铁防坠网"},"1.防坠网由检查井井盖厂家配套\n提供,井框内壁配套预留6个防坠\n网挂环,小区井框内应配套安装\n与井盖相同材质的球墨铸铁或尼\n龙防坠网,市政道路井框内应配\n套安装与井盖相同材质的球墨铸\n铁防坠网",{"$f":"'筛选分析-数量 (求和)'!C162","v":"座"},{"v":560,"d":"560.00"},{"v":10.3,"d":"10.30"},{"v":5768,"d":"5768.00"}]
[152,{"$f":"'筛选分析-数量 (求和)'!A163","v":"人行横道标线"},"1.名称：实线\n2.材质：热熔型反光环保涂料\n3.规格：综合\n4.厚度：1.8mm\n5.工艺：符合设计及相关规范要求\n6.其他：满足施工规范及验收要求",{"$f":"'筛选分析-数量 (求和)'!C163","v":"m2"},{"v":683.8,"d":"683.80"},3.13,2140.29]
[153,{"$f":"'筛选分析-数量 (求和)'!A164","v":"砂垫层"},"1、密实度要求:按设计及规范要\n求\n2、填方材料品种:砂垫层\n3、其他：包含施工图纸、技术\n规范所需全部工作内容",{"$f":"'筛选分析-数量 (求和)'!C164","v":"m3"},7191.08,15.45,111102.19]
[154,{"$f":"'筛选分析-数量 (求和)'!A165","v":"水马1.3X0.65（摊销5次）"},"1.名称：A1装配式方钢结构\n2.规格、型号：高度2.5米\n3.其他符合规范及设计要求",{"$f":"'筛选分析-数量 (求和)'!C165","v":"m"},{"v":6489,"d":"6489.00"},3.61,23425.29]
[155,{"$f":"'筛选分析-数量 (求和)'!A166","v":"太阳能导向牌（1.4×0.4m）"},"1.交通标志板：太阳能导向牌（1.4×0.4m）\n2.其它：满足设计规范及交通管理部门要求",{"$f":"'筛选分析-数量 (求和)'!C166","v":"套"},{"v":22,"d":"22.00"},{"v":30.9,"d":"30.90"},{"v":679.8,"d":"679.80"}]
[156,{"$f":"'筛选分析-数量 (求和)'!A167","v":"太阳能施工牌（1.2×0.5m）"},"1.交通标志板：太阳能施工牌（1.2×0.5m）\n2.其它：满足设计规范及交通管理部门要求",{"$f":"'筛选分析-数量 (求和)'!C167","v":"套"},{"v":194,"d":"194.00"},{"v":30.9,"d":"30.90"},{"v":5994.6,"d":"5994.60"}]
[157,{"$f":"'筛选分析-数量 (求和)'!A168","v":"铁马1.5X1m（摊销5次）"},"1.名称：A1装配式方钢结构\n2.规格、型号：高度2.5米\n3.其他符合规范及设计要求",{"$f":"'筛选分析-数量 (求和)'!C168","v":"m"},{"v":680,"d":"680.00"},3.61,{"v":2454.8,"d":"2454.80"}]
[158,{"$f":"'筛选分析-数量 (求和)'!A169","v":"挖沟槽石方（极软岩)"},"1、岩石类别:极软岩\n2、开挖深度:综合考虑\n3、其他：包含图纸、技术规范\n所需全部工作内容",{"$f":"'筛选分析-数量 (求和)'!C169","v":"m3"},10496.17,1.39,14589.68]
[159,{"$f":"'筛选分析-数量 (求和)'!A170","v":"挖沟槽石方（较软岩）"},"1、岩石类别:较软岩\n2、开挖深度:综合考虑\n3、其他：包含图纸、技术规范\n所需全部工作内容",{"$f":"'筛选分析-数量 (求和)'!C170","v":"m3"},{"v":5248.1,"d":"5248.10"},1.39,7294.86]
[160,{"$f":"'筛选分析-数量 (求和)'!A171","v":"挖沟槽土方"},"1、土壤类别:综合考虑\n2、挖土深度:综合考虑\n3、其他：包含图纸、技术规范\n所需全部工作内容",{"$f":"'筛选分析-数量 (求和)'!C171","v":"m3"},42062.23,1.39,{"v":58466.5,"d":"58466.50"}]
[161,{"$f":"'筛选分析-数量 (求和)'!A172","v":"挖淤泥、流砂"},"1、淤泥类别:综合考虑\n2、挖土深度:综合考虑\n3、其他：包含图纸、技术规范\n所需全部工作内容",{"$f":"'筛选分析-数量 (求和)'!C172","v":"m3"},258.99,1.39,{"v":360,"d":"360.00"}]
[162,{"$f":"'筛选分析-数量 (求和)'!A174","v":"围堰"},"1、名称： 围堰",{"$f":"'筛选分析-数量 (求和)'!C174","v":"m3"},{"v":846,"d":"846.00"},15.45,{"$f":"ROUND(E165*F165,2)","v":{"v":13070.7,"d":"13070.70"}}]
[163,{"$f":"'筛选分析-数量 (求和)'!A175","v":"污水管改道 钢带增强聚乙烯螺旋波纹管 DN400mmSN8.0"},"1、材质及规格:钢带增强聚乙烯\n螺旋波纹管、DN400mm SN8.0\n2、其他：包含施工图纸、技术\n规范所需全部工作内容",{"$f":"'筛选分析-数量 (求和)'!C175","v":"m"},{"v":189,"d":"189.00"},44.81,8469.09]
[164,{"$f":"'筛选分析-数量 (求和)'!A176","v":"污水管检修孔"},"1、名称：污水管检修孔\n2、其他：包含图纸、技术规范\n所需全部工作内容",{"$f":"'筛选分析-数量 (求和)'!C176","v":"座"},{"v":2,"d":"2.00"},{"v":515,"d":"515.00"},{"v":1030,"d":"1030.00"}]
[165,{"$f":"'筛选分析-数量 (求和)'!A177","v":"现浇构件钢筋 螺纹钢HRB400"},"1.钢筋种类：螺纹钢HRB400\n2.规格：综合考虑\n3.连接方式：综合（无论采用机\n械连接与否，连接套筒均含在综\n合单价内）\n4.其它：满足设计及施工验收规\n范要求",{"$f":"'筛选分析-数量 (求和)'!C177","v":"t"},157.39,{"v":1050.6,"d":"1050.60"},165353.93]
[166,{"$f":"'筛选分析-数量 (求和)'!A178","v":"现浇混凝土池壁（隔墙）"},"1.混凝土强度等级：C35 P6\n2.其他：包含施工图纸、技术规\n范所需全部工作内容",{"$f":"'筛选分析-数量 (求和)'!C178","v":"m3"},509.54,{"v":82.4,"d":"82.40"},{"v":41986.1,"d":"41986.10"}]
[167,{"$f":"'筛选分析-数量 (求和)'!A179","v":"现浇混凝土池底"},"1.混凝土强度等级：C35 P6\n2.其他：包含施工图纸、技术规\n范所需全部工作内容",{"$f":"'筛选分析-数量 (求和)'!C179","v":"m3"},307.34,{"v":82.4,"d":"82.40"},25324.82]
[168,{"$f":"'筛选分析-数量 (求和)'!A180","v":"现浇混凝土池盖板"},"1.混凝土强度等级：C35 P6\n2.其他：包含施工图纸、技术规\n范所需全部工作内容",{"$f":"'筛选分析-数量 (求和)'!C180","v":"m3"},307.34,{"v":82.4,"d":"82.40"},25324.82]
[169,{"$f":"'筛选分析-数量 (求和)'!A181","v":"箱涵侧墙模板"},"1、名称： 模板",{"$f":"'筛选分析-数量 (求和)'!C181","v":"m2"},1374.96,18.54,25491.76]
[170,{"$f":"'筛选分析-数量 (求和)'!A182","v":"箱涵垫层模板"},"1、名称： 模板",{"$f":"'筛选分析-数量 (求和)'!C182","v":"m2"},40.44,18.54,749.76]
[171,{"$f":"'筛选分析-数量 (求和)'!A183","v":"箱涵顶板模板"},"1、名称： 模板",{"$f":"'筛选分析-数量 (求和)'!C183","v":"m2"},{"v":606.6,"d":"606.60"},18.54,11246.36]
[172,{"$f":"'筛选分析-数量 (求和)'!A184","v":"箱涵滑（底）板模板"},"1、名称： 模板",{"$f":"'筛选分析-数量 (求和)'!C184","v":"m2"},161.76,18.54,2999.03]
[173,{"$f":"'筛选分析-数量 (求和)'!A186","v":"引孔后注粘土浆 比重1.4"},"1、名称及规格：注粘土浆 比重\n1.4\n2、其他：包含施工图纸、技术\n规范所需全部工作内容",{"$f":"'筛选分析-数量 (求和)'!C186","v":"m3"},4566.58,{"v":10.3,"d":"10.30"},47035.77]
[174,{"$f":"'筛选分析-数量 (求和)'!A191","v":"雨水井周加强"},"1.车行道范围内的雨水口采用钢\n筋混凝土加固，雨水口周围30cm\n范围内采用5%水稳碎石回填，作\n法详设计图。",{"$f":"'筛选分析-数量 (求和)'!C191","v":"座"},{"v":727,"d":"727.00"},{"v":206,"d":"206.00"},{"v":149762,"d":"149762.00"}]
[175,{"$f":"'筛选分析-数量 (求和)'!A193","v":"雨水口 封盖 450X750X60混凝土盖板"},"1、名称：雨水口 封盖\n2、其他：包含图纸、技术规范\n所需全部工作内容",{"$f":"'筛选分析-数量 (求和)'!C193","v":"座"},{"v":282,"d":"282.00"},15.45,{"v":4356.9,"d":"4356.90"}]
[176,{"$f":"'筛选分析-数量 (求和)'!A194","v":"植草沟"},"1.材料品种、 规格\n2.断面尺寸",{"$f":"'筛选分析-数量 (求和)'!C194","v":"m"},{"v":25,"d":"25.00"},15.45,386.25]
[177,{"$f":"'筛选分析-数量 (求和)'!A195","v":"植草沟 B=500"},"1.回填土质要求\n2.取土运距\n3.回填厚度\n4.弃土运距",{"$f":"'筛选分析-数量 (求和)'!C195","v":"m"},{"v":58,"d":"58.00"},15.45,{"v":896.1,"d":"896.10"}]
[178,"安全文明施工费","包括但不限于施工范围及附近所含道路范围内安全文明施工（施工范围内三宝四口五临边及安全通道转运安拆（单价含安全标识标语材料）、所有水平垂直防护网、兜网、挂网（单价含所有水平、垂直安全防护网材料）、踢脚板（或跳板）（单价含踢脚板或跳板材料）、楼层标志线（含标志线材料）、安全通道及加工棚水平垂直防护（单价含防护所有材料）、市政道路所有临边洞口防护（含防护材料）、办公区及生活区临时建筑搭拆、环境保护所设置的大门冲洗设施设备及施工大门进出口清洁维护、施工临时围挡搭拆、场内道路硬化、场内临时绿化、场内扬尘控制措施、垃圾封闭处理、工完场清的清洁及垃圾外运及弃渣费以及其他零星工程的人工、机械（机具）、所有材料；所有施工内容涉及劳务住宿费用、垂直运输机械基础制安、司机和信号工等全部劳务费用；现场一级配电箱(或箱变房）后的所有临电布置、现场主接水点后的所有临水布置；对施工范围内所有专业分包施工所产生的配合、吊装、转运。","项",{"v":1,"d":"1.00"},1510349.48,1510349.48]
[179,"其它零星工程","包括但不限于市政道路工程：施工范围内的冬雨季施工、二次搬运、工程定位复测、夜间施工；配合迎检进行场地布置及所有主体工程的收边收口等；除本清单项包含的内容外剩余的市政工程劳务均包含在本项当中（如人工、辅材、大小型机械或机具等）","项",{"v":1,"d":"1.00"},123380.75,123380.75]
[null,"合计",{"$nulls":4},{"$f":"SUM(G4:G182)","v":7943629.29}]

{"sheet":"筛选分析-数量 (求和)","index":1,"n_rows":206,"n_cols":37,"rows_kept":206,"hidden":true}
["项目名称","数量","单位","单价","人工","机械","材料","合计","人工费","机械费","材料费","基础","井身","盖板","钢筋","井盖","井筒","单价","单价","单价","单价","单价","单价",{"$nulls":3},"人工费","机械费","材料费",null,null,"备注"]
["1:1碎石砂",158.83,"m3",271.87,{"v":15,"d":"15.00"},{"v":22.495,"d":"22.50"},{"$f":"153*0.5+177*0.5","v":{"v":165,"d":"165.00"}},{"$f":"SUM(E2:G2)","v":{"v":202.495,"d":"202.50"}},{"$f":"ROUND(E2*1.03,2)","v":15.45},{"$f":"ROUND(F2*1.03,2)","v":23.17},{"$f":"ROUND(G2*1.13,2)","v":186.45},{"$nulls":15},{"$f":"I2","v":15.45},{"$f":"J2","v":23.17},{"$f":"K2","v":186.45},{"$f":"AA2+AB2+AC2","v":225.07},{"$f":"D2*1.09261-AD2","v":{"v":71.9778807,"d":"71.98"}},{"$f":"D2*B2","v":{"v":43181.1121,"d":"43181"}}]
["15cm C20水泥混凝土",3487.77,"m2",69.6,{"v":9.3495145631068,"d":"9.35"},{"v":3.55339805825243,"d":"3.55"},{"$f":"408*0.15","v":{"v":61.2,"d":"61.20"}},{"v":74.1029126213592,"d":"74.10"},9.63,3.66,69.16,{"$nulls":15},9.63,3.66,69.16,82.45,{"v":-6.40434400000001,"d":"-6.40"},{"v":242748.792,"d":"242749"}]
["1cm 乳化沥青下封层",13064.97,"m2",6.76,{"v":0.5,"d":"0.50"},0.56,1.35,2.41,0.52,0.58,1.53,{"$nulls":15},0.52,0.58,1.53,2.63,{"v":4.7560436,"d":"4.76"},{"v":88319.1972,"d":"88319"}]
["20cm 4%水泥稳定碎石",13064.97,"m2",67.63,{"v":7,"d":"7.00"},{"v":12.6,"d":"12.60"},{"$f":"235.9*0.2","v":47.18},66.78,7.21,12.98,53.31,{"$nulls":15},7.21,12.98,53.31,{"v":73.5,"d":"73.50"},{"v":0.393214299999997,"d":"0.39"},{"v":883583.9211,"d":"883584"}]
["20cm 5%水泥稳定碎石",13064.97,"m2",68.65,{"v":7,"d":"7.00"},{"v":12.6,"d":"12.60"},{"$f":"235.9*0.2","v":47.18},66.78,7.21,12.98,53.31,{"$nulls":15},7.21,12.98,53.31,{"v":73.5,"d":"73.50"},{"v":1.50767650000002,"d":"1.51"},{"v":896910.1905,"d":"896910"}]
["20cm 级配碎石",23429.64,"m2",49.58,5.54,{"v":3,"d":"3.00"},{"$f":"153*0.2","v":{"v":30.6,"d":"30.60"}},39.14,5.71,3.09,34.58,{"$nulls":15},5.71,3.09,34.58,43.38,{"v":10.7916038,"d":"10.79"},{"v":1161641.5512,"d":"1161642"}]
["22cm C40水泥砼面层",10364.67,"m2",115.75,{"v":13.5,"d":"13.50"},null,{"$f":"457*0.22","v":100.54},114.04,13.91,{"v":0,"d":"0.00"},113.61,{"$nulls":15},13.91,{"v":0,"d":"0.00"},113.61,127.52,{"v":-1.05039249999999,"d":"-1.05"},{"v":1199710.5525,"d":"1199711"}]
["2cm水泥防水砂浆",1800,"m2",20.02,{"v":13,"d":"13.00"},{"v":0,"d":"0.00"},{"v":6,"d":"6.00"},{"v":19,"d":"19.00"},13.39,{"v":0,"d":"0.00"},6.78,{"$nulls":15},13.39,{"v":0,"d":"0.00"},6.78,20.17,{"v":1.7040522,"d":"1.70"},36036]
["5cm 细粒式改性沥青砼(AC-13C)",13064.97,"m2",76.19,3.52,5.45,{"$f":"1250*0.05","v":{"v":62.5,"d":"62.50"}},71.47,3.63,5.61,70.63,{"$nulls":15},3.63,5.61,70.63,79.87,{"v":3.37595590000001,"d":"3.38"},{"v":995420.0643,"d":"995420"}]
["5cm厚透水砖",3487.77,"m2",107.11,{"v":23.504854368932,"d":"23.50"},{"v":11.3495145631068,"d":"11.35"},38.52,{"v":73.3743689320388,"d":"73.37"},24.21,11.69,43.53,{"$nulls":15},24.21,11.69,43.53,79.43,{"v":37.5994571,"d":"37.60"},{"v":373575.0447,"d":"373575"}]
["7cm 中粒式沥青混凝土（AC-20C）",13064.97,"m2",94.15,4.22,6.54,{"$f":"1195*0.07","v":83.65},94.41,4.35,6.74,94.52,{"$nulls":15},4.35,6.74,94.52,105.61,{"v":-2.74076849999999,"d":"-2.74"},{"v":1230066.9255,"d":"1230067"}]
["Ⅱ级混凝土管 d1500 雨水管",328.4,"m",1311.98,{"v":150,"d":"150.00"},{"v":35,"d":"35.00"},{"$f":"1192+30","v":{"v":1222,"d":"1222.00"}},{"v":1407,"d":"1407.00"},{"v":154.5,"d":"154.50"},36.05,1380.86,{"$nulls":15},{"v":154.5,"d":"154.50"},36.05,1380.86,1571.41,{"v":-137.9275322,"d":"-137.93"},{"v":430854.232,"d":"430854"}]
["Ⅱ级混凝土管 d1650  雨水管",424.8,"m",1527,{"v":150,"d":"150.00"},{"v":35,"d":"35.00"},{"$f":"1311+30","v":{"v":1341,"d":"1341.00"}},{"v":1526,"d":"1526.00"},{"v":154.5,"d":"154.50"},36.05,1515.33,{"$nulls":15},{"v":154.5,"d":"154.50"},36.05,1515.33,1705.88,{"v":-37.4645299999997,"d":"-37.46"},{"v":648669.6,"d":"648670"}]
["Ⅱ级混凝土管 d1800  雨水管",422,"m",1647.74,{"v":200,"d":"200.00"},{"v":35,"d":"35.00"},{"$f":"1342+30","v":{"v":1372,"d":"1372.00"}},{"v":1607,"d":"1607.00"},{"v":206,"d":"206.00"},36.05,1550.36,{"$nulls":15},{"v":206,"d":"206.00"},36.05,1550.36,1792.41,{"v":7.92720140000029,"d":"7.93"},{"v":695346.28,"d":"695346"}]
["Ⅱ级混凝土管 d1800  雨水管（远期预留）",17.56,"m",1647.74,{"v":200,"d":"200.00"},{"v":35,"d":"35.00"},{"$f":"1342+30","v":{"v":1372,"d":"1372.00"}},{"v":1607,"d":"1607.00"},{"v":206,"d":"206.00"},36.05,1550.36,{"$nulls":15},{"v":206,"d":"206.00"},36.05,1550.36,1792.41,{"v":7.92720140000029,"d":"7.93"},{"v":28934.3144,"d":"28934"}]
["Ⅱ级混凝土管 d2000  雨水管",277,"m",1990.53,{"v":200,"d":"200.00"},{"v":35,"d":"35.00"},{"$f":"1492+30","v":{"v":1522,"d":"1522.00"}},{"v":1757,"d":"1757.00"},{"v":206,"d":"206.00"},36.05,1719.86,{"$nulls":15},{"v":206,"d":"206.00"},36.05,1719.86,1961.91,{"v":212.9629833,"d":"212.96"},{"v":551376.81,"d":"551377"}]
["Ⅱ级混凝土管 d300 雨水管（包管）",2774.28,"m",256.38,{"v":65,"d":"65.00"},{"v":20,"d":"20.00"},{"$f":"70.3+15","v":{"v":85.3,"d":"85.30"}},{"v":170.3,"d":"170.30"},66.95,{"v":20.6,"d":"20.60"},96.39,{"$nulls":15},66.95,{"v":20.6,"d":"20.60"},96.39,183.94,{"v":96.1833518,"d":"96.18"},{"v":711269.9064,"d":"711270"}]
["Ⅱ级混凝土管 d300（包管）",1080.47,"m",259.07,{"v":65,"d":"65.00"},{"v":20,"d":"20.00"},{"$f":"70.3+15","v":{"v":85.3,"d":"85.30"}},{"v":170.3,"d":"170.30"},66.95,{"v":20.6,"d":"20.60"},96.39,{"$nulls":15},66.95,{"v":20.6,"d":"20.60"},96.39,183.94,{"v":99.1224727,"d":"99.12"},{"v":279917.3629,"d":"279917"}]
["标线（热涂）1.8mm厚",904.7,"m2",30.01,{"v":3,"d":"3.00"},{"v":1.9,"d":"1.90"},{"v":27,"d":"27.00"},{"v":31.9,"d":"31.90"},3.09,1.96,30.51,{"$nulls":15},3.09,1.96,30.51,35.56,{"v":-2.77077389999999,"d":"-2.77"},{"v":27150.047,"d":"27150"}]
["玻纤格栅",13064.97,"m2",8.74,{"v":2,"d":"2.00"},null,{"v":2,"d":"2.00"},{"v":4,"d":"4.00"},2.06,{"v":0,"d":"0.00"},2.26,{"$nulls":15},2.06,{"v":0,"d":"0.00"},2.26,4.32,{"v":5.2294114,"d":"5.23"},{"v":114187.8378,"d":"114188"}]
["仓面脚手架",606.6,"m2",13.3,{"v":8.4,"d":"8.40"},null,6.48,14.88,8.65,{"v":0,"d":"0.00"},7.32,{"$nulls":15},8.65,{"v":0,"d":"0.00"},7.32,15.97,{"v":-1.438287,"d":"-1.44"},{"v":8067.78,"d":"8068"}]
["槽钢引孔φ400",60410.21,"m",124.35,{"v":10,"d":"10.00"},38.34,15.17,63.51,{"v":10.3,"d":"10.30"},39.49,17.14,{"$nulls":15},{"v":10.3,"d":"10.30"},39.49,17.14,66.93,{"v":68.9360535,"d":"68.94"},{"v":7512009.6135,"d":"7512010"}]
["槽型钢板桩（含支撑）",6334.868,"t",814.05,{"v":45,"d":"45.00"},{"v":40,"d":"40.00"},{"v":604.5,"d":"604.50"},{"v":689.5,"d":"689.50"},46.35,{"v":41.2,"d":"41.20"},683.09,{"$nulls":15},46.35,{"v":41.2,"d":"41.20"},683.09,770.64,{"v":118.7991705,"d":"118.80"},{"v":5156899.2954,"d":"5156899"}]
["拆除侧、平（缘）石",3689.3,"m",2.3,null,0.34,null,0.34,{"v":0,"d":"0.00"},0.35,{"v":0,"d":"0.00"},{"$nulls":15},{"v":0,"d":"0.00"},0.35,{"v":0,"d":"0.00"},0.35,{"v":2.163003,"d":"2.16"},{"v":8485.39,"d":"8485"},null,{"$f":"#REF!","v":{"$error":"#REF!"}}]
["拆除混凝土路面 22cm",10364.67,"m2",7.02,null,{"$f":"375*8/249","v":{"v":12.0481927710843,"d":"12.05"}},null,{"v":12.0481927710843,"d":"12.05"},{"v":0,"d":"0.00"},12.41,{"v":0,"d":"0.00"},{"$nulls":15},{"v":0,"d":"0.00"},12.41,{"v":0,"d":"0.00"},12.41,{"v":-4.7398778,"d":"-4.74"},{"v":72759.9834,"d":"72760"},null,{"$f":"#REF!","v":{"$error":"#REF!"}}]
["拆除基层",3507.17,"m2",11.04,null,4.18,null,4.18,{"v":0,"d":"0.00"},4.31,{"v":0,"d":"0.00"},{"$nulls":15},{"v":0,"d":"0.00"},4.31,{"v":0,"d":"0.00"},4.31,{"v":7.7524144,"d":"7.75"},{"v":38719.1568,"d":"38719"}]
["拆除基层 15cm",3467.52,"m2",2.76,null,4.18,null,4.18,{"v":0,"d":"0.00"},4.31,{"v":0,"d":"0.00"},{"$nulls":15},{"v":0,"d":"0.00"},4.31,{"v":0,"d":"0.00"},4.31,{"v":-1.2943964,"d":"-1.29"},{"v":9570.3552,"d":"9570"}]
["拆除基层 15cm厚",835.79,"m2",11.04,null,4.18,null,4.18,{"v":0,"d":"0.00"},4.31,{"v":0,"d":"0.00"},{"$nulls":15},{"v":0,"d":"0.00"},4.31,{"v":0,"d":"0.00"},4.31,{"v":7.7524144,"d":"7.75"},{"v":9227.1216,"d":"9227"},null,{"$f":"AH26/0.03","v":{"$error":"#REF!"}}]
["拆除基层 20cm",10364.67,"m2",3.68,null,4.18,null,4.18,{"v":0,"d":"0.00"},4.31,{"v":0,"d":"0.00"},{"$nulls":15},{"v":0,"d":"0.00"},4.31,{"v":0,"d":"0.00"},4.31,{"v":-0.289195199999999,"d":"-0.29"},{"v":38141.9856,"d":"38142"}]
["拆除基层 60cm厚",9557.8,"m2",11.04,null,{"$f":"F30*3","v":12.54},null,12.54,{"v":0,"d":"0.00"},12.92,{"v":0,"d":"0.00"},{"$nulls":15},{"v":0,"d":"0.00"},12.92,{"v":0,"d":"0.00"},12.92,{"v":-0.8575856,"d":"-0.86"},{"v":105518.112,"d":"105518"}]
["拆除沥青路面",3507.17,"m2",3.58,null,4.18,null,4.18,{"v":0,"d":"0.00"},4.31,{"v":0,"d":"0.00"},{"$nulls":15},{"v":0,"d":"0.00"},4.31,{"v":0,"d":"0.00"},4.31,{"v":-0.398456199999999,"d":"-0.40"},{"v":12555.6686,"d":"12556"}]
["拆除沥青路面 12cm厚",9557.8,"m2",3.58,null,4.18,null,4.18,{"v":0,"d":"0.00"},4.31,{"v":0,"d":"0.00"},{"$nulls":15},{"v":0,"d":"0.00"},4.31,{"v":0,"d":"0.00"},4.31,{"v":-0.398456199999999,"d":"-0.40"},{"v":34216.924,"d":"34217"}]
["拆除人行道",3487.77,"m2",0.93,null,4.18,null,4.18,{"v":0,"d":"0.00"},4.31,{"v":0,"d":"0.00"},{"$nulls":15},{"v":0,"d":"0.00"},4.31,{"v":0,"d":"0.00"},4.31,{"v":-3.2938727,"d":"-3.29"},{"v":3243.6261,"d":"3244"}]
["成品硅砂雨水入渗井",2,"座",3000,{"v":50,"d":"50.00"},null,{"v":1239,"d":"1239.00"},{"v":1289,"d":"1289.00"},{"v":51.5,"d":"51.50"},{"v":0,"d":"0.00"},1400.07,{"$nulls":15},{"v":51.5,"d":"51.50"},{"v":0,"d":"0.00"},1400.07,1451.57,1826.26,6000]
["挡土板 密撑",31576.93,"m2",16.06,{"v":4,"d":"4.00"},null,{"v":10,"d":"10.00"},{"v":14,"d":"14.00"},4.12,{"v":0,"d":"0.00"},{"v":11.3,"d":"11.30"},{"$nulls":15},4.12,{"v":0,"d":"0.00"},{"v":11.3,"d":"11.30"},15.42,{"v":2.1273166,"d":"2.13"},{"v":507125.4958,"d":"507125"}]
["堤岸破除修复 HXL 4.4X5",5,"m",3500,{"v":500,"d":"500.00"},null,{"v":1500,"d":"1500.00"},{"v":2000,"d":"2000.00"},{"v":515,"d":"515.00"},{"v":0,"d":"0.00"},{"v":1695,"d":"1695.00"},{"$nulls":15},{"v":515,"d":"515.00"},{"v":0,"d":"0.00"},{"v":1695,"d":"1695.00"},{"v":2210,"d":"2210.00"},{"v":1614.135,"d":"1614.14"},17500]
["堤岸破除修复 HXL 6.5X5",10,"m",5000,{"v":500,"d":"500.00"},null,{"v":3000,"d":"3000.00"},{"v":3500,"d":"3500.00"},{"v":515,"d":"515.00"},{"v":0,"d":"0.00"},{"v":3390,"d":"3390.00"},{"$nulls":15},{"v":515,"d":"515.00"},{"v":0,"d":"0.00"},{"v":3390,"d":"3390.00"},{"v":3905,"d":"3905.00"},1558.05,50000]
["垫层模板",1123.24,"m2",30.36,{"v":18,"d":"18.00"},{"v":0.5,"d":"0.50"},{"v":38,"d":"38.00"},{"v":56.5,"d":"56.50"},18.54,0.52,42.94,{"$nulls":15},18.54,0.52,42.94,{"v":62,"d":"62.00"},{"v":-28.8283604,"d":"-28.83"},{"v":34101.5664,"d":"34102"}]
["反光标志牌100cm×120cm",23,"套",694.32,{"v":100,"d":"100.00"},null,{"v":450,"d":"450.00"},{"v":550,"d":"550.00"},{"v":103,"d":"103.00"},{"v":0,"d":"0.00"},{"v":508.5,"d":"508.50"},{"$nulls":15},{"v":103,"d":"103.00"},{"v":0,"d":"0.00"},{"v":508.5,"d":"508.50"},{"v":611.5,"d":"611.50"},{"v":147.1209752,"d":"147.12"},{"v":15969.36,"d":"15969"}]
["反光标志牌80cm×60cm",52,"套",417.41,{"v":50,"d":"50.00"},null,{"v":275,"d":"275.00"},{"v":325,"d":"325.00"},{"v":51.5,"d":"51.50"},{"v":0,"d":"0.00"},310.75,{"$nulls":15},{"v":51.5,"d":"51.50"},{"v":0,"d":"0.00"},310.75,362.25,{"v":93.8163401,"d":"93.82"},{"v":21705.32,"d":"21705"}]
["反光标志牌D=80cm",40,"套",383.58,{"v":50,"d":"50.00"},null,{"v":260,"d":"260.00"},{"v":310,"d":"310.00"},{"v":51.5,"d":"51.50"},{"v":0,"d":"0.00"},{"v":293.8,"d":"293.80"},{"$nulls":15},{"v":51.5,"d":"51.50"},{"v":0,"d":"0.00"},{"v":293.8,"d":"293.80"},{"v":345.3,"d":"345.30"},{"v":73.8033438,"d":"73.80"},{"v":15343.2,"d":"15343"}]
["方沟侧壁模板",10046.92,"m2",44.54,{"v":18,"d":"18.00"},{"v":0.5,"d":"0.50"},{"v":38,"d":"38.00"},{"v":56.5,"d":"56.50"},18.54,0.52,42.94,{"$nulls":15},18.54,0.52,42.94,{"v":62,"d":"62.00"},{"v":-13.3351506,"d":"-13.34"},{"v":447489.8168,"d":"447490"}]
["方沟底板模板",1820.14,"m2",38.8,{"v":18,"d":"18.00"},{"v":0.5,"d":"0.50"},{"v":38,"d":"38.00"},{"v":56.5,"d":"56.50"},18.54,0.52,42.94,{"$nulls":15},18.54,0.52,42.94,{"v":62,"d":"62.00"},{"v":-19.606732,"d":"-19.61"},{"v":70621.432,"d":"70621"}]
["防撞沙桶",128,"个",80,{"v":10,"d":"10.00"},null,{"v":100,"d":"100.00"},{"v":110,"d":"110.00"},{"v":10.3,"d":"10.30"},{"v":0,"d":"0.00"},{"v":113,"d":"113.00"},{"$nulls":15},{"v":10.3,"d":"10.30"},{"v":0,"d":"0.00"},{"v":113,"d":"113.00"},{"v":123.3,"d":"123.30"},{"v":-35.8912,"d":"-35.89"},10240]
["钢带增强聚乙烯螺旋波纹管DN1000mm SN12.5 雨水管",1069.5,"m",753.04,{"v":43.5,"d":"43.50"},null,{"v":1223,"d":"1223.00"},{"v":1266.5,"d":"1266.50"},44.81,{"v":0,"d":"0.00"},1381.99,{"$nulls":15},44.81,{"v":0,"d":"0.00"},1381.99,{"v":1426.8,"d":"1426.80"},{"v":-604.0209656,"d":"-604.02"},{"v":805376.28,"d":"805376"}]
["钢带增强聚乙烯螺旋波纹管DN1000mm SN8.0",32.3,"m",725.99,{"v":43.5,"d":"43.50"},null,{"v":1109,"d":"1109.00"},{"v":1152.5,"d":"1152.50"},44.81,{"v":0,"d":"0.00"},1253.17,{"$nulls":15},44.81,{"v":0,"d":"0.00"},1253.17,1297.98,{"v":-504.7560661,"d":"-504.76"},{"v":23449.477,"d":"23449"}]
["钢带增强聚乙烯螺旋波纹管DN1200mm SN12.5 雨水管",225.5,"m",962.37,{"v":43.5,"d":"43.50"},null,{"v":1650,"d":"1650.00"},{"v":1693.5,"d":"1693.50"},44.81,{"v":0,"d":"0.00"},{"v":1864.5,"d":"1864.50"},{"$nulls":15},44.81,{"v":0,"d":"0.00"},{"v":1864.5,"d":"1864.50"},1909.31,{"v":-857.8149143,"d":"-857.81"},{"v":217014.435,"d":"217014"}]
["钢带增强聚乙烯螺旋波纹管DN300mm SN8.0",679,"m",122,{"v":43.5,"d":"43.50"},null,{"v":141,"d":"141.00"},{"v":184.5,"d":"184.50"},44.81,{"v":0,"d":"0.00"},159.33,{"$nulls":15},44.81,{"v":0,"d":"0.00"},159.33,204.14,{"v":-70.84158,"d":"-70.84"},82838]
["钢带增强聚乙烯螺旋波纹管DN300mm SN8.0 （污水管）",66.1,"m",131.86,{"v":43.5,"d":"43.50"},null,{"v":141,"d":"141.00"},{"v":184.5,"d":"184.50"},44.81,{"v":0,"d":"0.00"},159.33,{"$nulls":15},44.81,{"v":0,"d":"0.00"},159.33,204.14,{"v":-60.0684454,"d":"-60.07"},{"v":8715.946,"d":"8716"}]
["钢带增强聚乙烯螺旋波纹管DN400mm SN12.5 污水管",297.5,"m",204.32,{"v":43.5,"d":"43.50"},null,{"v":212,"d":"212.00"},{"v":255.5,"d":"255.50"},44.81,{"v":0,"d":"0.00"},239.56,{"$nulls":15},44.81,{"v":0,"d":"0.00"},239.56,284.37,{"v":-61.1279248,"d":"-61.13"},{"v":60785.2,"d":"60785"}]
["钢带增强聚乙烯螺旋波纹管DN400mm SN12.5 雨水管",883.3,"m",193.74,{"v":43.5,"d":"43.50"},null,{"v":212,"d":"212.00"},{"v":255.5,"d":"255.50"},44.81,{"v":0,"d":"0.00"},239.56,{"$nulls":15},44.81,{"v":0,"d":"0.00"},239.56,284.37,{"v":-72.6877386,"d":"-72.69"},{"v":171130.542,"d":"171131"}]
["钢带增强聚乙烯螺旋波纹管DN400mm SN8.0",5263.5,"m",151.36,{"v":43.5,"d":"43.50"},null,{"v":192,"d":"192.00"},{"v":235.5,"d":"235.50"},44.81,{"v":0,"d":"0.00"},216.96,{"$nulls":15},44.81,{"v":0,"d":"0.00"},216.96,261.77,{"v":-96.3925503999999,"d":"-96.39"},{"v":796683.36,"d":"796683"}]
["钢带增强聚乙烯螺旋波纹管DN500mm SN12.5 雨水管",483.6,"m",266.14,{"v":43.5,"d":"43.50"},null,{"v":386,"d":"386.00"},{"v":429.5,"d":"429.50"},44.81,{"v":0,"d":"0.00"},436.18,{"$nulls":15},44.81,{"v":0,"d":"0.00"},436.18,480.99,{"v":-190.2027746,"d":"-190.20"},{"v":128705.304,"d":"128705"}]
["钢带增强聚乙烯螺旋波纹管DN500mm SN8.0",949.36,"m",239.08,{"v":43.5,"d":"43.50"},null,{"v":351,"d":"351.00"},{"v":394.5,"d":"394.50"},44.81,{"v":0,"d":"0.00"},396.63,{"$nulls":15},44.81,{"v":0,"d":"0.00"},396.63,441.44,{"v":-180.2188012,"d":"-180.22"},{"v":226972.9888,"d":"226973"}]
["钢带增强聚乙烯螺旋波纹管DN600mm SN12.5 雨水管",532.94,"m",365.35,{"v":43.5,"d":"43.50"},null,{"v":500,"d":"500.00"},{"v":543.5,"d":"543.50"},44.81,{"v":0,"d":"0.00"},{"v":565,"d":"565.00"},{"$nulls":15},44.81,{"v":0,"d":"0.00"},{"v":565,"d":"565.00"},609.81,{"v":-210.6249365,"d":"-210.62"},{"v":194709.629,"d":"194710"}]
["钢带增强聚乙烯螺旋波纹管DN600mm SN12.5 雨水管孔网",100,"m",365.35,{"v":43.5,"d":"43.50"},null,{"v":500,"d":"500.00"},{"v":543.5,"d":"543.50"},44.81,{"v":0,"d":"0.00"},{"v":565,"d":"565.00"},{"$nulls":15},44.81,{"v":0,"d":"0.00"},{"v":565,"d":"565.00"},609.81,{"v":-210.6249365,"d":"-210.62"},36535]
["钢带增强聚乙烯螺旋波纹管DN600mm SN8.0",625,"m",275.17,{"v":43.5,"d":"43.50"},null,{"v":453,"d":"453.00"},{"v":496.5,"d":"496.50"},44.81,{"v":0,"d":"0.00"},511.89,{"$nulls":15},44.81,{"v":0,"d":"0.00"},511.89,{"v":556.7,"d":"556.70"},{"v":-256.0465063,"d":"-256.05"},{"v":171981.25,"d":"171981"}]
["钢带增强聚乙烯螺旋波纹管DN800mm SN12.5",46.8,"m",582.58,{"v":43.5,"d":"43.50"},null,{"v":910,"d":"910.00"},{"v":953.5,"d":"953.50"},44.81,{"v":0,"d":"0.00"},{"v":1028.3,"d":"1028.30"},{"$nulls":15},44.81,{"v":0,"d":"0.00"},{"v":1028.3,"d":"1028.30"},1073.11,{"v":-436.5772662,"d":"-436.58"},{"v":27264.744,"d":"27265"}]
["钢带增强聚乙烯螺旋波纹管DN800mm SN12.5 污水管",215,"m",582.58,{"v":43.5,"d":"43.50"},null,{"v":910,"d":"910.00"},{"v":953.5,"d":"953.50"},44.81,{"v":0,"d":"0.00"},{"v":1028.3,"d":"1028.30"},{"$nulls":15},44.81,{"v":0,"d":"0.00"},{"v":1028.3,"d":"1028.30"},1073.11,{"v":-436.5772662,"d":"-436.58"},{"v":125254.7,"d":"125255"}]
["钢带增强聚乙烯螺旋波纹管DN800mm SN12.5 雨水管",375.2,"m",565.33,{"v":43.5,"d":"43.50"},null,{"v":910,"d":"910.00"},{"v":953.5,"d":"953.50"},44.81,{"v":0,"d":"0.00"},{"v":1028.3,"d":"1028.30"},{"$nulls":15},44.81,{"v":0,"d":"0.00"},{"v":1028.3,"d":"1028.30"},1073.11,{"v":-455.4247887,"d":"-455.42"},{"v":212111.816,"d":"212112"}]
["钢带增强聚乙烯螺旋波纹管DN800mm SN12.5 雨水管（远期预留）",27.18,"m",565.33,{"v":43.5,"d":"43.50"},null,{"v":910,"d":"910.00"},{"v":953.5,"d":"953.50"},44.81,{"v":0,"d":"0.00"},{"v":1028.3,"d":"1028.30"},{"$nulls":15},44.81,{"v":0,"d":"0.00"},{"v":1028.3,"d":"1028.30"},1073.11,{"v":-455.4247887,"d":"-455.42"},{"v":15365.6694,"d":"15366"}]
["钢带增强聚乙烯螺旋波纹管DN800mm SN8.0",205.2,"m",484.18,{"v":43.5,"d":"43.50"},null,{"v":825,"d":"825.00"},{"v":868.5,"d":"868.50"},44.81,{"v":0,"d":"0.00"},932.25,{"$nulls":15},44.81,{"v":0,"d":"0.00"},932.25,977.06,{"v":-448.0400902,"d":"-448.04"},{"v":99353.736,"d":"99354"}]
["钢筋混凝土 沉泥井 1700×1100（井高1.80+0.5m， 图集20s515-39)",2,"座",4402.45,{"$f":"(L64+M64)*185+O64*1200+320","v":{"v":1034.8,"d":"1034.80"}},{"v":220,"d":"220.00"},{"v":4070.495,"d":"4070.50"},{"v":5325.295,"d":"5325.30"},1065.84,{"v":226.6,"d":"226.60"},4599.66,0.34,1.74,1,0.275,1,1,410,450,350,3850,400,400,{"$nulls":3},1065.84,{"v":226.6,"d":"226.60"},4599.66,{"v":5892.1,"d":"5892.10"},{"v":-1081.9391055,"d":"-1081.94"},{"v":8804.9,"d":"8805"}]
["钢筋混凝土 沉泥井 1700×1500（井高1.90+0.5m， 图集20s515-122)",7,"座",6248.84,{"v":1796.1,"d":"1796.10"},{"v":220,"d":"220.00"},6605.95,8622.05,1849.98,{"v":226.6,"d":"226.60"},7464.72,1.95,3.11,1,0.45,1,1,410,450,350,3850,400,400,{"$nulls":3},1849.98,{"v":226.6,"d":"226.60"},7464.72,{"v":9541.3,"d":"9541.30"},{"v":-2713.7549276,"d":"-2713.75"},{"v":43741.88,"d":"43742"}]
["钢筋混凝土 沉泥井 2100×1800（井高1.92+0.5m， 图集20s515-122)",2,"座",8433.92,1945.95,{"v":220,"d":"220.00"},{"v":7079.8,"d":"7079.80"},{"$f":"SUM(E66:G66)","v":9245.75},{"$f":"ROUND(E66*1.03,2)","v":2004.33},{"$f":"ROUND(F66*1.03,2)","v":{"v":226.6,"d":"226.60"}},{"$f":"ROUND(G66*1.13,2)","v":8000.17},1.95,3.92,1,0.45,1,1,410,450,350,3850,400,400,{"$nulls":3},{"$f":"I66","v":2004.33},{"$f":"J66","v":{"v":226.6,"d":"226.60"}},{"$f":"K66","v":8000.17},{"$f":"AA66+AB66+AC66","v":{"v":10231.1,"d":"10231.10"}},{"$f":"D66*1.09261-AD66","v":{"v":-1016.1146688,"d":"-1016.11"}},{"$f":"D66*B66","v":{"v":16867.84,"d":"16868"}}]
["钢筋混凝土 沉泥井 2400×2000（井高1.94+0.5m， 图集20s515-122)",1,"座",12014.56,3725.65,{"v":220,"d":"220.00"},12558.26,16503.91,3837.42,{"v":226.6,"d":"226.60"},14190.83,4.82,10.67,1,0.45,1,1,410,450,350,3850,400,400,{"$nulls":3},3837.42,{"v":226.6,"d":"226.60"},14190.83,18254.85,{"v":-5127.6215984,"d":"-5127.62"},{"v":12014.56,"d":"12015"}]
["钢筋混凝土 沉泥井 2700×2300（井高2.17+0.5m， 图集20s515-122)",3,"座",13534.42,{"v":4882.8,"d":"4882.80"},{"v":220,"d":"220.00"},{"v":17089.8,"d":"17089.80"},{"v":22192.6,"d":"22192.60"},5029.28,{"v":226.6,"d":"226.60"},19311.47,5.5,11.38,1,1.2,1,1,410,450,350,3850,400,400,{"$nulls":3},5029.28,{"v":226.6,"d":"226.60"},19311.47,24567.35,{"v":-9779.5073638,"d":"-9779.51"},{"v":40603.26,"d":"40603"}]
["钢筋混凝土 沉泥井 3800×1600（井高5.56m， 图集20s515-263)单圆形竖槽式跌水井1m",1,"座",15725.75,3987.95,{"v":220,"d":"220.00"},14623.18,18831.13,4107.59,{"v":226.6,"d":"226.60"},16524.19,2.01,9.06,1,1.35,1,1,410,450,350,3850,400,400,{"$nulls":3},4107.59,{"v":226.6,"d":"226.60"},16524.19,20858.38,{"v":-3676.2682925,"d":"-3676.27"},{"v":15725.75,"d":"15726"}]
["钢筋混凝土 沉泥井 4000×3400（井高3.23m， 图集20s515-122)",2,"座",36569.96,8476.85,{"v":220,"d":"220.00"},31007.86,39704.71,8731.16,{"v":226.6,"d":"226.60"},35038.88,5.87,17.14,1.2,3.25,1,1,410,450,350,3850,400,400,{"$nulls":3},8731.16,{"v":226.6,"d":"226.60"},35038.88,43996.64,{"v":-4039.9360044,"d":"-4039.94"},{"v":73139.92,"d":"73140"},null,{"$f":"AI70*1.03","v":10.5884000002686},10.2800000002608,{"$f":"AI70/0.03","v":342.666666675359},{"$f":"AJ70+F70","v":562.666666675359}]
["钢筋混凝土 沉泥井 A=1400（井高1.9m， 图集20s515-188)90 °",1,"座",5537.88,1445.55,229.33,5101.46,6776.34,1488.92,236.21,5764.65,0.72,4.91,1,0.07,1,1,410,450,350,3850,400,400,{"$nulls":3},1488.92,236.21,5764.65,7489.78,{"v":-1439.0369332,"d":"-1439.04"},{"v":5537.88,"d":"5538"}]
["钢筋混凝土 沉泥井 A=1700（井高1.92m， 图集20s515-188)90 °",2,"座",6013.91,{"v":1904.3,"d":"1904.30"},{"v":220,"d":"220.00"},6554.99,8679.29,1961.43,{"v":226.6,"d":"226.60"},7407.14,1.13,6.85,1,0.09,1,1,410,450,350,3850,400,400,{"$nulls":3},1961.43,{"v":226.6,"d":"226.60"},7407.14,9595.17,{"v":-3024.3117949,"d":"-3024.31"},{"v":12027.82,"d":"12028"}]
["钢筋混凝土 沉泥井 A=2200（井高1.9m， 图集20s515-188)90 °",1,"座",10690.41,{"v":3078.1,"d":"3078.10"},{"v":220,"d":"220.00"},10263.76,13561.86,3170.44,{"v":226.6,"d":"226.60"},11598.05,1.42,12.84,1,0.1,1,1,410,450,350,3850,400,400,{"$nulls":3},3170.44,{"v":226.6,"d":"226.60"},11598.05,14995.09,{"v":-3314.6411299,"d":"-3314.64"},{"v":10690.41,"d":"10690"}]
["钢筋混凝土 沉泥井 A=2400（井高1.9m， 图集20s515-188)90 °",2,"座",10943.32,{"v":3440.7,"d":"3440.70"},{"v":220,"d":"220.00"},11399.44,15060.14,3543.92,{"v":226.6,"d":"226.60"},12881.37,1.63,14.59,1,0.1,1,1,410,450,350,3850,400,400,{"$nulls":3},3543.92,{"v":226.6,"d":"226.60"},12881.37,16651.89,{"v":-4695.1091348,"d":"-4695.11"},{"v":21886.64,"d":"21887"}]
["钢筋混凝土 沉泥井 A=2600（井高1.9m， 图集20s515-188)90 °",1,"座",13755.12,{"v":4011.3,"d":"4011.30"},{"v":220,"d":"220.00"},13251.29,17482.59,4131.64,{"v":226.6,"d":"226.60"},14973.96,1.88,17.1,1,0.15,1,1,410,450,350,3850,400,400,{"$nulls":3},4131.64,{"v":226.6,"d":"226.60"},14973.96,{"v":19332.2,"d":"19332.20"},{"v":-4303.2183368,"d":"-4303.22"},{"v":13755.12,"d":"13755"}]
["钢筋混凝土 沉泥井 φ 1000（井高1.84m，DN400 图集20s515-29)",2,"座",2388.5,{"v":750,"d":"750.00"},{"v":220,"d":"220.00"},{"v":2100,"d":"2100.00"},{"v":3070,"d":"3070.00"},{"v":772.5,"d":"772.50"},{"v":226.6,"d":"226.60"},{"v":2373,"d":"2373.00"},null,null,1,null,1,1,410,450,350,3850,400,400,{"$nulls":3},{"v":772.5,"d":"772.50"},{"v":226.6,"d":"226.60"},{"v":2373,"d":"2373.00"},{"v":3372.1,"d":"3372.10"},{"v":-762.401015,"d":"-762.40"},4777,{"$f":"F76+G76","v":2320}]
["钢筋混凝土 沉泥井 φ 1000（井高1.85m，DN500 图集20s515-29)",2,"座",3294.15,{"v":750,"d":"750.00"},{"v":220,"d":"220.00"},{"v":2100,"d":"2100.00"},{"v":3070,"d":"3070.00"},{"v":772.5,"d":"772.50"},{"v":226.6,"d":"226.60"},{"v":2373,"d":"2373.00"},null,null,1,null,1,1,410,450,350,3850,400,400,{"$nulls":3},{"v":772.5,"d":"772.50"},{"v":226.6,"d":"226.60"},{"v":2373,"d":"2373.00"},{"v":3372.1,"d":"3372.10"},{"v":227.1212315,"d":"227.12"},{"v":6588.3,"d":"6588"},{"$f":"F77+G77","v":2320}]
["钢筋混凝土 沉泥井 φ 1000（井高2.9m，DN500 图集20s515-313)",11,"座",2330.21,{"v":750,"d":"750.00"},{"v":220,"d":"220.00"},{"v":2659,"d":"2659.00"},{"v":3629,"d":"3629.00"},{"v":772.5,"d":"772.50"},{"v":226.6,"d":"226.60"},3004.67,null,null,1,null,1,1,410,450,350,3850,400,400,{"$nulls":3},{"v":772.5,"d":"772.50"},{"v":226.6,"d":"226.60"},3004.67,4003.77,{"v":-1457.7592519,"d":"-1457.76"},{"v":25632.31,"d":"25632"},2879]
["钢筋混凝土 沉泥井 φ 1250（井高1.86m，DN600 图集20s515-29)",2,"座",4127.24,{"v":750,"d":"750.00"},{"v":220,"d":"220.00"},{"v":2152,"d":"2152.00"},{"v":3122,"d":"3122.00"},{"v":772.5,"d":"772.50"},{"v":226.6,"d":"226.60"},2431.76,null,null,1,null,1,1,410,450,350,3850,400,400,{"$nulls":3},{"v":772.5,"d":"772.50"},{"v":226.6,"d":"226.60"},2431.76,3430.86,{"v":1078.6036964,"d":"1078.60"},{"v":8254.48,"d":"8254"},2372]
["钢筋混凝土 沉泥井 φ 1250（井高1.88m，DN800 图集20s515-29)",1,"座",2622.73,{"v":750,"d":"750.00"},{"v":220,"d":"220.00"},{"v":2152,"d":"2152.00"},{"v":3122,"d":"3122.00"},{"v":772.5,"d":"772.50"},{"v":226.6,"d":"226.60"},2431.76,null,null,1,null,1,1,410,450,350,3850,400,400,{"$nulls":3},{"v":772.5,"d":"772.50"},{"v":226.6,"d":"226.60"},2431.76,3430.86,{"v":-565.2389747,"d":"-565.24"},{"v":2622.73,"d":"2623"},2372]
["钢筋混凝土 沉泥井 φ 1500（井高3.4m，DN1000 图集20s515-313)",1,"座",5902.21,{"v":750,"d":"750.00"},{"v":220,"d":"220.00"},{"v":2672,"d":"2672.00"},{"v":3642,"d":"3642.00"},{"v":772.5,"d":"772.50"},{"v":226.6,"d":"226.60"},3019.36,null,null,1,null,1,1,410,450,350,3850,400,400,{"$nulls":3},{"v":772.5,"d":"772.50"},{"v":226.6,"d":"226.60"},3019.36,4018.46,{"v":2430.3536681,"d":"2430.35"},{"v":5902.21,"d":"5902"},2892]
["钢筋混凝土 沉泥井 φ 1800（井高1.91+0.5m，DN1000图集20s515-29)",8,"座",3995.7,{"v":750,"d":"750.00"},{"v":220,"d":"220.00"},{"v":3322,"d":"3322.00"},{"v":4292,"d":"4292.00"},{"v":772.5,"d":"772.50"},{"v":226.6,"d":"226.60"},3753.86,null,null,1,null,1,1,410,450,350,3850,400,400,{"$nulls":3},{"v":772.5,"d":"772.50"},{"v":226.6,"d":"226.60"},3753.86,4752.96,{"v":-387.218223,"d":"-387.22"},{"v":31965.6,"d":"31966"},3542]
["钢筋混凝土 沉泥井 φ 1800（井高1.9m，DN1000 图集20s515-29)",1,"座",4754.91,{"v":750,"d":"750.00"},{"v":220,"d":"220.00"},{"v":3322,"d":"3322.00"},{"v":4292,"d":"4292.00"},{"v":772.5,"d":"772.50"},{"v":226.6,"d":"226.60"},3753.86,null,null,1,null,1,1,410,450,350,3850,400,400,{"$nulls":3},{"v":772.5,"d":"772.50"},{"v":226.6,"d":"226.60"},3753.86,4752.96,{"v":442.3022151,"d":"442.30"},{"v":4754.91,"d":"4755"},3542]
["钢筋混凝土 沉泥井（1700+1200） × 1600（井高4.76m， 图集20s515-263)单圆形竖槽式跌水井1m",1,"座",9866.79,{"$f":"(L84+M84)*185+O84*1200+320","v":{"v":2964.3,"d":"2964.30"}},{"v":220,"d":"220.00"},10799.23,13983.53,3053.23,{"v":226.6,"d":"226.60"},12203.13,1.66,7.12,1,0.85,1,1,410,450,350,3850,400,400,{"$nulls":3},3053.23,{"v":226.6,"d":"226.60"},12203.13,15482.96,{"v":-4702.4065781,"d":"-4702.41"},{"v":9866.79,"d":"9867"},11019.23]
["钢筋混凝土 沉泥井（2200+1200） × 1600（井高3.65m， 图集20s515-263)单圆形竖槽式跌水井1m",1,"座",11747.32,3133.45,{"v":220,"d":"220.00"},11375.91,14729.36,3227.45,{"v":226.6,"d":"226.60"},12854.78,2.02,7.35,1,0.9,1,1,410,450,350,3850,400,400,{"$nulls":3},3227.45,{"v":226.6,"d":"226.60"},12854.78,16308.83,{"v":-3473.5906948,"d":"-3473.59"},{"v":11747.32,"d":"11747"},11595.91]
["钢筋混凝土 沉泥井1200X1100（井高1.88+0.5m， 图集20s515-39)",1,"座",5414.73,{"v":1045.9,"d":"1045.90"},{"v":220,"d":"220.00"},{"v":4105.595,"d":"4105.60"},{"v":5371.495,"d":"5371.50"},1077.28,{"v":226.6,"d":"226.60"},4639.32,0.34,1.8,1,0.275,1,1,410,450,350,3850,400,400,{"$nulls":3},1077.28,{"v":226.6,"d":"226.60"},4639.32,{"v":5943.2,"d":"5943.20"},{"v":-27.0118547000002,"d":"-27.01"},{"v":5414.73,"d":"5415"},4325.595]
["钢筋混凝土 沉泥井1700X1100（井高1.92+0.5m， 图集20s515-39)",1,"座",4592.63,{"v":1082.9,"d":"1082.90"},{"v":220,"d":"220.00"},{"v":4222.595,"d":"4222.60"},{"v":5525.495,"d":"5525.50"},1115.39,{"v":226.6,"d":"226.60"},4771.53,0.34,2,1,0.275,1,1,410,450,350,3850,400,400,{"$nulls":3},1115.39,{"v":226.6,"d":"226.60"},4771.53,6113.52,{"v":-1095.5665357,"d":"-1095.57"},{"v":4592.63,"d":"4593"},4442.595]
["钢筋混凝土 沉泥井2200X1100（井高2.17+0.5m， 图集20s515-39)",1,"座",6295.56,1355.25,{"v":220,"d":"220.00"},5105.75,{"v":6681,"d":"6681.00"},1395.91,{"v":226.6,"d":"226.60"},{"v":5769.5,"d":"5769.50"},0.5,3.15,1,0.3,1,1,410,450,350,3850,400,400,{"$nulls":3},1395.91,{"v":226.6,"d":"226.60"},{"v":5769.5,"d":"5769.50"},7392.01,{"v":-513.418188399999,"d":"-513.42"},{"v":6295.56,"d":"6296"},5325.75]
["钢筋混凝土 沉泥井2400X1100（井高2.41+0.5m， 图集20s515-39)",10,"座",5803.61,{"v":1508.8,"d":"1508.80"},{"v":220,"d":"220.00"},{"v":5570.5,"d":"5570.50"},{"v":7299.3,"d":"7299.30"},1554.06,{"v":226.6,"d":"226.60"},6294.67,0.9,3.58,1,0.3,1,1,410,450,350,3850,400,400,{"$nulls":3},1554.06,{"v":226.6,"d":"226.60"},6294.67,8075.33,{"v":-1734.2476779,"d":"-1734.25"},{"v":58036.1,"d":"58036"},5790.5]
["钢筋混凝土 单箅偏沟式雨水口（图集16S518-39）400X700",192,"座",514.45,{"v":80,"d":"80.00"},null,639.71,719.71,{"v":82.4,"d":"82.40"},{"v":0,"d":"0.00"},722.87,null,null,1,null,1,1,410,450,350,3850,400,400,{"$nulls":3},{"v":82.4,"d":"82.40"},{"v":0,"d":"0.00"},722.87,805.27,{"v":-243.1767855,"d":"-243.18"},{"v":98774.4,"d":"98774"},639.71]
["钢筋混凝土 单箅偏沟式雨水口（图集16S518-43）400X700",225,"座",474.06,{"v":80,"d":"80.00"},null,639.71,719.71,{"v":82.4,"d":"82.40"},{"v":0,"d":"0.00"},722.87,null,null,1,null,1,1,410,450,350,3850,400,400,{"$nulls":3},{"v":82.4,"d":"82.40"},{"v":0,"d":"0.00"},722.87,805.27,{"v":-287.3073034,"d":"-287.31"},{"v":106663.5,"d":"106664"},639.71]
["钢筋混凝土 跌水井 φ 1250（井高2.75m， 图集20s515-250)",1,"座",3395.2,{"v":750,"d":"750.00"},{"v":220,"d":"220.00"},{"v":2737,"d":"2737.00"},{"v":3707,"d":"3707.00"},{"v":772.5,"d":"772.50"},{"v":226.6,"d":"226.60"},3092.81,null,null,1,null,1,1,410,450,350,3850,400,400,{"$nulls":3},{"v":772.5,"d":"772.50"},{"v":226.6,"d":"226.60"},3092.81,4091.91,{"v":-382.280528,"d":"-382.28"},{"v":3395.2,"d":"3395"},2957]
["钢筋混凝土 跌水井2100X1000（井高2.35m， 图集20s515-259)",1,"座",5603,{"$f":"(L93+M93)*185+O93*1200+320","v":{"v":1564,"d":"1564.00"}},{"v":220,"d":"220.00"},{"v":5911.1,"d":"5911.10"},{"v":7695.1,"d":"7695.10"},1610.92,{"v":226.6,"d":"226.60"},6679.54,0.5,3.5,1,0.42,1,1,410,450,350,3850,400,400,{"$nulls":3},1610.92,{"v":226.6,"d":"226.60"},6679.54,8517.06,{"v":-2395.16617,"d":"-2395.17"},5603,6131.1]
["钢筋混凝土 跌水井2100X1000（井高2.35m， 图集20s515-261)",1,"座",5734.89,{"v":1552,"d":"1552.00"},{"v":220,"d":"220.00"},5861.05,7633.05,1598.56,{"v":226.6,"d":"226.60"},6622.99,0.5,3.5,1,0.41,1,1,410,450,350,3850,400,400,{"$nulls":3},1598.56,{"v":226.6,"d":"226.60"},6622.99,8448.15,{"v":-2182.1518371,"d":"-2182.15"},{"v":5734.89,"d":"5735"},{"$f":"F94+G94","v":6081.05}]
["钢筋混凝土 跌水井2100X1000（井高2.45m，DN400 图集20s515-259)",2,"座",5321.05,{"v":1582.5,"d":"1582.50"},{"v":220,"d":"220.00"},{"v":5964.4,"d":"5964.40"},{"v":7766.9,"d":"7766.90"},1629.98,{"v":226.6,"d":"226.60"},6739.77,0.6,3.5,1,0.42,1,1,410,450,350,3850,400,400,{"$nulls":3},1629.98,{"v":226.6,"d":"226.60"},6739.77,8596.35,{"v":-2782.5175595,"d":"-2782.52"},{"v":10642.1,"d":"10642"},6184.4]
["钢筋混凝土 跌水井2200X1100（井高2.35m， 图集20s515-259)",1,"座",5866.79,{"v":1586.2,"d":"1586.20"},{"v":220,"d":"220.00"},5975.06,7781.26,1633.79,{"v":226.6,"d":"226.60"},6751.82,0.62,3.5,1,0.42,1,1,410,450,350,3850,400,400,{"$nulls":3},1633.79,{"v":226.6,"d":"226.60"},6751.82,8612.21,{"v":-2202.0965781,"d":"-2202.10"},{"v":5866.79,"d":"5867"},6195.06]
["钢筋混凝土 跌水井2400X1600（井高2.85m，DN800， 图集20s515-263)",2,"座",8706.02,1904.15,{"v":220,"d":"220.00"},7071.87,9196.02,1961.27,{"v":226.6,"d":"226.60"},7991.21,1.19,4,1,0.52,1,1,410,450,350,3850,400,400,{"$nulls":3},1961.27,{"v":226.6,"d":"226.60"},7991.21,10179.08,{"v":-666.795487799998,"d":"-666.80"},{"v":17412.04,"d":"17412"},7291.87]
["钢筋混凝土 跌水井3600X1600（井高2.35m， 图集20s515-272)",1,"座",10638.17,2662.45,{"v":220,"d":"220.00"},9566.57,12449.02,2742.32,{"v":226.6,"d":"226.60"},10810.22,1.19,7.58,1,0.6,1,1,410,450,350,3850,400,400,{"$nulls":3},2742.32,{"v":226.6,"d":"226.60"},10810.22,13779.14,{"v":-2155.7690763,"d":"-2155.77"},{"v":10638.17,"d":"10638"},9786.57]
["钢筋混凝土 检查井 1700×1100（井高1.90m， 图集20s515-59)",1,"座",4470.48,{"v":1775.2,"d":"1775.20"},{"v":220,"d":"220.00"},6385.86,8381.06,1828.46,{"v":226.6,"d":"226.60"},7216.02,1.42,4.5,1,0.3,1,1,410,450,350,3850,400,400,{"$nulls":3},1828.46,{"v":226.6,"d":"226.60"},7216.02,9271.08,{"v":-4386.5888472,"d":"-4386.59"},{"v":4470.48,"d":"4470"},6605.86]
["钢筋混凝土 检查井 1700×1500（井高1.90m， 图集20s515-122)",1,"座",6501.07,{"v":1853.7,"d":"1853.70"},{"v":220,"d":"220.00"},6715.41,8789.11,1909.31,{"v":226.6,"d":"226.60"},7588.41,1.02,5,1,0.35,1,1,410,450,350,3850,400,400,{"$nulls":3},1909.31,{"v":226.6,"d":"226.60"},7588.41,9724.32,{"v":-2621.1859073,"d":"-2621.19"},{"v":6501.07,"d":"6501"},6935.41]
["钢筋混凝土 检查井 1700×1700（井高1.90m， 图集20s515-59)",1,"座",7386.4,{"v":1956.5,"d":"1956.50"},{"v":220,"d":"220.00"},6959.16,9135.66,{"v":2015.2,"d":"2015.20"},{"v":226.6,"d":"226.60"},7863.85,1.42,5.48,1,0.3,1,1,410,450,350,3850,400,400,{"$nulls":3},{"v":2015.2,"d":"2015.20"},{"v":226.6,"d":"226.60"},7863.85,10105.65,{"v":-2035.195496,"d":"-2035.20"},{"v":7386.4,"d":"7386"},7179.16]
["钢筋混凝土 检查井 A=1400（井高1.9m， 图集20s515-188)90 °",1,"座",5537.88,1546.65,{"v":220,"d":"220.00"},5686.46,7453.11,1593.05,{"v":226.6,"d":"226.60"},{"v":6425.7,"d":"6425.70"},1.67,2.82,1,0.33,1,1,410,450,350,3850,400,400,{"$nulls":3},1593.05,{"v":226.6,"d":"226.60"},{"v":6425.7,"d":"6425.70"},8245.35,{"v":-2194.6069332,"d":"-2194.61"},{"v":5537.88,"d":"5538"},5906.46]
["钢筋混凝土 检查井 A=1700（井高1.92m， 图集20s515-188)90 °",1,"座",6589.28,1897.85,{"v":220,"d":"220.00"},6920.42,9038.27,1954.79,{"v":226.6,"d":"226.60"},7820.07,2.09,3.52,1,0.45,1,1,410,450,350,3850,400,400,{"$nulls":3},1954.79,{"v":226.6,"d":"226.60"},7820.07,10001.46,{"v":-2801.9467792,"d":"-2801.95"},{"v":6589.28,"d":"6589"},7140.42]
["钢筋混凝土 检查井 A=2200（井高1.9m， 图集20s515-188)90 °",1,"座",10690.41,{"v":2717,"d":"2717.00"},{"v":220,"d":"220.00"},9648.73,12585.73,2798.51,{"v":226.6,"d":"226.60"},10903.06,3.16,5.84,1,0.61,1,1,410,450,350,3850,400,400,{"$nulls":3},2798.51,{"v":226.6,"d":"226.60"},10903.06,13928.17,{"v":-2247.7211299,"d":"-2247.72"},{"v":10690.41,"d":"10690"},9868.73]
["钢筋混凝土 检查井 A=2200（井高2.17m， 图集20s515-188)90 °",1,"座",10474.85,{"v":2742.9,"d":"2742.90"},{"v":220,"d":"220.00"},9730.63,12693.53,2825.19,{"v":226.6,"d":"226.60"},10995.61,3.16,5.98,1,0.61,1,1,410,450,350,3850,400,400,{"$nulls":3},2825.19,{"v":226.6,"d":"226.60"},10995.61,{"v":14047.4,"d":"14047.40"},{"v":-2602.4741415,"d":"-2602.47"},{"v":10474.85,"d":"10475"},9950.63]
["钢筋混凝土 检查井 A=2400（井高1.9m， 图集20s515-188)90 °",2,"座",12761.11,2755.85,{"v":220,"d":"220.00"},9771.58,12747.43,2838.53,{"v":226.6,"d":"226.60"},11041.89,3.16,6.05,1,0.61,1,1,410,450,350,3850,400,400,{"$nulls":3},2838.53,{"v":226.6,"d":"226.60"},11041.89,14107.02,{"v":-164.103602899999,"d":"-164.10"},{"v":25522.22,"d":"25522"},9991.58]
["钢筋混凝土 检查井 φ 1000（井高1.84m，DN300、DN400 图集20s515-29)",123,"座",2100.76,{"v":750,"d":"750.00"},{"v":220,"d":"220.00"},{"v":2100,"d":"2100.00"},{"v":3070,"d":"3070.00"},{"v":772.5,"d":"772.50"},{"v":226.6,"d":"226.60"},{"v":2373,"d":"2373.00"},null,null,1,null,1,1,410,450,350,3850,400,400,{"$nulls":3},{"v":772.5,"d":"772.50"},{"v":226.6,"d":"226.60"},{"v":2373,"d":"2373.00"},{"v":3372.1,"d":"3372.10"},{"v":-1076.7886164,"d":"-1076.79"},{"v":258393.48,"d":"258393"},2320]
["钢筋混凝土 检查井 φ 1000（井高1.84m，DN400 图集20s515-29)",12,"座",2146.09,{"v":750,"d":"750.00"},{"v":220,"d":"220.00"},{"v":2100,"d":"2100.00"},{"v":3070,"d":"3070.00"},{"v":772.5,"d":"772.50"},{"v":226.6,"d":"226.60"},{"v":2373,"d":"2373.00"},null,null,1,null,1,1,410,450,350,3850,400,400,{"$nulls":3},{"v":772.5,"d":"772.50"},{"v":226.6,"d":"226.60"},{"v":2373,"d":"2373.00"},{"v":3372.1,"d":"3372.10"},{"v":-1027.2606051,"d":"-1027.26"},{"v":25753.08,"d":"25753"},2320]
["钢筋混凝土 检查井 φ 1000（井高1.86m，DN600 图集20s515-29)",224,"座",2165.42,{"v":750,"d":"750.00"},{"v":220,"d":"220.00"},{"v":2100,"d":"2100.00"},{"v":3070,"d":"3070.00"},{"v":772.5,"d":"772.50"},{"v":226.6,"d":"226.60"},{"v":2373,"d":"2373.00"},null,null,1,null,1,1,410,450,350,3850,400,400,{"$nulls":3},{"v":772.5,"d":"772.50"},{"v":226.6,"d":"226.60"},{"v":2373,"d":"2373.00"},{"v":3372.1,"d":"3372.10"},{"v":-1006.1404538,"d":"-1006.14"},{"v":485054.08,"d":"485054"},2320]
["钢筋混凝土 检查井 φ 1000（井高1.91m，DN600 图集20s515-29)",10,"座",2737.3,{"v":750,"d":"750.00"},{"v":220,"d":"220.00"},{"v":2100,"d":"2100.00"},{"v":3070,"d":"3070.00"},{"v":772.5,"d":"772.50"},{"v":226.6,"d":"226.60"},{"v":2373,"d":"2373.00"},null,null,1,null,1,1,410,450,350,3850,400,400,{"$nulls":3},{"v":772.5,"d":"772.50"},{"v":226.6,"d":"226.60"},{"v":2373,"d":"2373.00"},{"v":3372.1,"d":"3372.10"},{"v":-381.298647,"d":"-381.30"},27373,2320]
["钢筋混凝土 检查井 φ 1250（井高1.86m，DN500 图集20s515-29)",5,"座",3126.79,{"v":750,"d":"750.00"},{"v":220,"d":"220.00"},{"v":2152,"d":"2152.00"},{"v":3122,"d":"3122.00"},{"v":772.5,"d":"772.50"},{"v":226.6,"d":"226.60"},2431.76,null,null,1,null,1,1,410,450,350,3850,400,400,{"$nulls":3},{"v":772.5,"d":"772.50"},{"v":226.6,"d":"226.60"},2431.76,3430.86,{"v":-14.4979780999997,"d":"-14.50"},{"v":15633.95,"d":"15634"},2372]
["钢筋混凝土 检查井 φ 1250（井高1.88m，DN800 图集20s515-29)",18,"座",2662.82,{"v":750,"d":"750.00"},{"v":220,"d":"220.00"},{"v":2152,"d":"2152.00"},{"v":3122,"d":"3122.00"},{"v":772.5,"d":"772.50"},{"v":226.6,"d":"226.60"},2431.76,null,null,1,null,1,1,410,450,350,3850,400,400,{"$nulls":3},{"v":772.5,"d":"772.50"},{"v":226.6,"d":"226.60"},2431.76,3430.86,{"v":-521.4362398,"d":"-521.44"},{"v":47930.76,"d":"47931"},2372]
["钢筋混凝土 检查井 φ 1500（井高1.88m，DN600 图集20s515-29)",23,"座",3213.22,{"v":750,"d":"750.00"},{"v":220,"d":"220.00"},{"v":2672,"d":"2672.00"},{"v":3642,"d":"3642.00"},{"v":772.5,"d":"772.50"},{"v":226.6,"d":"226.60"},3019.36,null,null,1,null,1,1,410,450,350,3850,400,400,{"$nulls":3},{"v":772.5,"d":"772.50"},{"v":226.6,"d":"226.60"},3019.36,4018.46,{"v":-507.6636958,"d":"-507.66"},{"v":73904.06,"d":"73904"},2892]
["钢筋混凝土 检查井 φ 1800（井高1.91m，DN1000 图集20s515-29)",16,"座",3928.9,{"v":750,"d":"750.00"},{"v":220,"d":"220.00"},{"v":3322,"d":"3322.00"},{"v":4292,"d":"4292.00"},{"v":772.5,"d":"772.50"},{"v":226.6,"d":"226.60"},3753.86,null,null,1,null,1,1,410,450,350,3850,400,400,{"$nulls":3},{"v":772.5,"d":"772.50"},{"v":226.6,"d":"226.60"},3753.86,4752.96,{"v":-460.204570999999,"d":"-460.20"},{"v":62862.4,"d":"62862"},3542]
["钢筋混凝土 检查井 φ 1800（井高1.9m，DN1000 图集20s515-29)",5,"座",4535.23,{"v":750,"d":"750.00"},{"v":220,"d":"220.00"},{"v":3322,"d":"3322.00"},{"v":4292,"d":"4292.00"},{"v":772.5,"d":"772.50"},{"v":226.6,"d":"226.60"},3753.86,null,null,1,null,1,1,410,450,350,3850,400,400,{"$nulls":3},{"v":772.5,"d":"772.50"},{"v":226.6,"d":"226.60"},3753.86,4752.96,{"v":202.2776503,"d":"202.28"},{"v":22676.15,"d":"22676"},3542]
["钢筋混凝土 检查井 φ700（图集20s515-29)",5,"座",916.2,{"v":750,"d":"750.00"},{"v":220,"d":"220.00"},{"v":1541,"d":"1541.00"},{"v":2511,"d":"2511.00"},{"v":772.5,"d":"772.50"},{"v":226.6,"d":"226.60"},1741.33,null,null,1,null,1,1,410,450,350,3850,400,400,{"$nulls":3},{"v":772.5,"d":"772.50"},{"v":226.6,"d":"226.60"},1741.33,2740.43,{"v":-1739.380718,"d":"-1739.38"},4581,1761]
["钢筋混凝土 检查井（井高1.5m， 图集20S515-328）700X700",26,"座",1172.64,{"v":750,"d":"750.00"},{"v":220,"d":"220.00"},{"v":1560,"d":"1560.00"},{"v":2530,"d":"2530.00"},{"v":772.5,"d":"772.50"},{"v":226.6,"d":"226.60"},{"v":1762.8,"d":"1762.80"},null,null,1,null,1,1,410,450,350,3850,400,400,{"$nulls":3},{"v":772.5,"d":"772.50"},{"v":226.6,"d":"226.60"},{"v":1762.8,"d":"1762.80"},{"v":2761.9,"d":"2761.90"},{"v":-1480.6618096,"d":"-1480.66"},{"v":30488.64,"d":"30489"},1780]
["钢筋混凝土 检查井（井高1m， 图集20S515-326）600X600",3,"座",1704.83,{"v":750,"d":"750.00"},{"v":220,"d":"220.00"},{"v":780,"d":"780.00"},{"v":1750,"d":"1750.00"},{"v":772.5,"d":"772.50"},{"v":226.6,"d":"226.60"},{"v":881.4,"d":"881.40"},null,null,1,null,1,1,410,450,350,3850,400,400,{"$nulls":3},{"v":772.5,"d":"772.50"},{"v":226.6,"d":"226.60"},{"v":881.4,"d":"881.40"},{"v":1880.5,"d":"1880.50"},{"v":-17.7856936999999,"d":"-17.79"},{"v":5114.49,"d":"5114"},1000]
["钢筋混凝土 检查井（井高1m， 图集20S515-328）700X700",11,"座",765.86,{"v":751,"d":"751.00"},{"v":220,"d":"220.00"},{"v":845,"d":"845.00"},{"v":1816,"d":"1816.00"},773.53,{"v":226.6,"d":"226.60"},954.85,null,null,1,null,1,1,410,450,350,3850,400,400,{"$nulls":3},773.53,{"v":226.6,"d":"226.60"},954.85,1954.98,{"v":-1118.1937054,"d":"-1118.19"},{"v":8424.46,"d":"8424"},{"$f":"F119+G119","v":1065}]
["钢筋混凝土 检查井1200X1100（井高1.88m， 图集20s515-39)",2,"座",3954.32,{"$f":"(L120+M120)*185+O120*1200+320","v":1090.75},{"v":220,"d":"220.00"},4239.43,5550.18,1123.47,{"v":226.6,"d":"226.60"},4790.56,0.61,1.74,1,0.28,1,1,410,450,350,3850,400,400,{"$nulls":3},1123.47,{"v":226.6,"d":"226.60"},4790.56,6140.63,{"v":-1820.1004248,"d":"-1820.10"},{"v":7908.64,"d":"7909"},4459.43]
["钢筋混凝土 检查井1400X1100（井高1.88m， 图集20s515-39)",1,"座",5175.67,1117.55,{"v":220,"d":"220.00"},4332.64,5670.19,1151.08,{"v":226.6,"d":"226.60"},4895.88,0.68,1.75,1,0.29,1,1,410,450,350,3850,400,400,{"$nulls":3},1151.08,{"v":226.6,"d":"226.60"},4895.88,6273.56,{"v":-618.571201299999,"d":"-618.57"},{"v":5175.67,"d":"5176"},4552.64]
["钢筋混凝土 检查井1700X1100（井高1.88m， 图集20s515-39)",5,"座",3063.51,{"v":1205.8,"d":"1205.80"},{"v":220,"d":"220.00"},{"v":4644.185,"d":"4644.19"},{"v":6069.985,"d":"6069.99"},1241.97,{"v":226.6,"d":"226.60"},5247.93,0.87,1.81,1,0.325,1,1,410,450,350,3850,400,400,{"$nulls":3},1241.97,{"v":226.6,"d":"226.60"},5247.93,{"v":6716.5,"d":"6716.50"},{"v":-3369.2783389,"d":"-3369.28"},{"v":15317.55,"d":"15318"},4864.185]
["钢筋混凝土 检查井1700X1100（井高1.92m， 图集20s515-39)",3,"座",4605.49,1218.75,{"v":220,"d":"220.00"},{"v":4685.135,"d":"4685.14"},{"v":6123.885,"d":"6123.89"},1255.31,{"v":226.6,"d":"226.60"},{"v":5294.2,"d":"5294.20"},0.87,1.88,1,0.325,1,1,410,450,350,3850,400,400,{"$nulls":3},1255.31,{"v":226.6,"d":"226.60"},{"v":5294.2,"d":"5294.20"},6776.11,{"v":-1744.1055711,"d":"-1744.11"},{"v":13816.47,"d":"13816"},4905.135]
["钢筋混凝土 检查井1700X1500（井高1.9m， 图集20s515-122)",1,"座",6311.6,1240.95,{"v":220,"d":"220.00"},{"v":4755.335,"d":"4755.34"},{"v":6216.285,"d":"6216.29"},1278.18,{"v":226.6,"d":"226.60"},5373.53,0.87,2,1,0.325,1,1,410,450,350,3850,400,400,{"$nulls":3},1278.18,{"v":226.6,"d":"226.60"},5373.53,6878.31,{"v":17.8072760000014,"d":"17.81"},{"v":6311.6,"d":"6312"},4975.335]
["钢筋混凝土 检查井1900X1100（井高1.94m， 图集20s515-39)",2,"座",5374.97,1442.35,{"v":220,"d":"220.00"},{"v":5505.435,"d":"5505.44"},{"v":7167.785,"d":"7167.79"},1485.62,{"v":226.6,"d":"226.60"},6221.14,1.02,2.29,1,0.425,1,1,410,450,350,3850,400,400,{"$nulls":3},1485.62,{"v":226.6,"d":"226.60"},6221.14,7933.36,{"v":-2060.6140283,"d":"-2060.61"},{"v":10749.94,"d":"10750"},5725.435]
["钢筋混凝土 检查井2200X1100（井高2.17m， 图集20s515-39)",5,"座",5308.21,{"v":1943.6,"d":"1943.60"},{"v":220,"d":"220.00"},7338.37,9501.97,2001.91,{"v":226.6,"d":"226.60"},8292.36,1.49,3.07,1,0.65,1,1,410,450,350,3850,400,400,{"$nulls":3},2001.91,{"v":226.6,"d":"226.60"},8292.36,10520.87,{"v":-4721.0666719,"d":"-4721.07"},{"v":26541.05,"d":"26541"},7558.37]
["钢筋混凝土 检查井2200X1100（井高2.41m， 图集20s515-39)",2,"座",5618.88,{"v":1999.1,"d":"1999.10"},{"v":220,"d":"220.00"},7513.87,9732.97,2059.07,{"v":226.6,"d":"226.60"},8490.67,1.49,3.37,1,0.65,1,1,410,450,350,3850,400,400,{"$nulls":3},2059.07,{"v":226.6,"d":"226.60"},8490.67,10776.34,{"v":-4637.0955232,"d":"-4637.10"},{"v":11237.76,"d":"11238"},7733.87]
["钢筋混凝土 检查井2400X1100（井高2.41m， 图集20s515-39)",11,"座",5725.13,2086.35,{"v":220,"d":"220.00"},{"v":7864.285,"d":"7864.29"},{"v":10170.635,"d":"10170.64"},2148.94,{"v":226.6,"d":"226.60"},8886.64,1.57,3.34,1,0.715,1,1,410,450,350,3850,400,400,{"$nulls":3},2148.94,{"v":226.6,"d":"226.60"},8886.64,11262.18,{"v":-5006.8457107,"d":"-5006.85"},{"v":62976.43,"d":"62976"},8084.285]
["钢筋混凝土 检查井2600X1100（井高2.75m， 图集20s515-39)",4,"座",6357.05,2366.85,{"v":220,"d":"220.00"},8854.82,11441.67,2437.86,{"v":226.6,"d":"226.60"},10005.95,1.79,4.02,1,0.81,1,1,410,450,350,3850,400,400,{"$nulls":3},2437.86,{"v":226.6,"d":"226.60"},10005.95,12670.41,{"v":-5724.6335995,"d":"-5724.63"},{"v":25428.2,"d":"25428"},9074.82]
["钢筋混凝土 双箅偏沟式雨水口（图集16S518-43）400X700X2",286,"座",948.12,{"v":80,"d":"80.00"},null,{"v":1197.449,"d":"1197.45"},{"$f":"SUM(E130:G130)","v":{"v":1277.449,"d":"1277.45"}},{"$f":"ROUND(E130*1.03,2)","v":{"v":82.4,"d":"82.40"}},{"$f":"ROUND(F130*1.03,2)","v":{"v":0,"d":"0.00"}},{"$f":"ROUND(G130*1.13,2)","v":1353.12},null,null,1,null,1,1,410,450,350,3850,400,400,{"$nulls":3},{"$f":"I130","v":{"v":82.4,"d":"82.40"}},{"$f":"J130","v":{"v":0,"d":"0.00"}},{"$f":"K130","v":1353.12},{"$f":"AA130+AB130+AC130","v":1435.52},{"$f":"D130*1.09261-AD130","v":{"v":-399.5946068,"d":"-399.59"}},{"$f":"D130*B130","v":{"v":271162.32,"d":"271162"}},1197.449]
["钢筋混凝土 污水检查井 φ1000（井高1.84m，DN400图集20s515-30)",1,"座",2952.83,{"v":750,"d":"750.00"},{"v":220,"d":"220.00"},{"v":2100,"d":"2100.00"},{"v":3070,"d":"3070.00"},{"v":772.5,"d":"772.50"},{"v":226.6,"d":"226.60"},{"v":2373,"d":"2373.00"},null,null,1,null,1,1,410,450,350,3850,400,400,{"$nulls":3},{"v":772.5,"d":"772.50"},{"v":226.6,"d":"226.60"},{"v":2373,"d":"2373.00"},{"v":3372.1,"d":"3372.10"},{"v":-145.8084137,"d":"-145.81"},{"v":2952.83,"d":"2953"},2320]
["钢筋混凝土 污水检查井 φ1000（井高1.86m，DN400图集20s515-29)",12,"座",2903.74,{"v":750,"d":"750.00"},{"v":220,"d":"220.00"},{"v":2100,"d":"2100.00"},{"v":3070,"d":"3070.00"},{"v":772.5,"d":"772.50"},{"v":226.6,"d":"226.60"},{"v":2373,"d":"2373.00"},null,null,1,null,1,1,410,450,350,3850,400,400,{"$nulls":3},{"v":772.5,"d":"772.50"},{"v":226.6,"d":"226.60"},{"v":2373,"d":"2373.00"},{"v":3372.1,"d":"3372.10"},{"v":-199.4446386,"d":"-199.44"},{"v":34844.88,"d":"34845"},2320]
["钢筋混凝土 污水检查井 φ1000（井高2.24m，DN400图集20s515-30)",6,"座",2612.95,{"v":750,"d":"750.00"},{"v":220,"d":"220.00"},{"v":2379.5,"d":"2379.50"},{"v":3349.5,"d":"3349.50"},{"v":772.5,"d":"772.50"},{"v":226.6,"d":"226.60"},2688.84,null,null,1,null,1,1,410,450,350,3850,400,400,{"$nulls":3},{"v":772.5,"d":"772.50"},{"v":226.6,"d":"226.60"},2688.84,3687.94,{"v":-833.0047005,"d":"-833.00"},{"v":15677.7,"d":"15678"},2599.5]
["钢筋混凝土 污水检查井 φ1250（井高1.88m，DN800图集20s515-30)",9,"座",4972.94,{"v":750,"d":"750.00"},{"v":220,"d":"220.00"},{"v":2152,"d":"2152.00"},{"v":3122,"d":"3122.00"},{"v":772.5,"d":"772.50"},{"v":226.6,"d":"226.60"},2431.76,null,null,1,null,1,1,410,450,350,3850,400,400,{"$nulls":3},{"v":772.5,"d":"772.50"},{"v":226.6,"d":"226.60"},2431.76,3430.86,{"v":2002.6239734,"d":"2002.62"},{"v":44756.46,"d":"44756"},2372]
["钢筋混凝土 污水检查井 φ1500（井高2.9m，DN1000图集20s515-29)",2,"座",4497.72,{"v":750,"d":"750.00"},{"v":220,"d":"220.00"},{"v":4492,"d":"4492.00"},{"v":5462,"d":"5462.00"},{"v":772.5,"d":"772.50"},{"v":226.6,"d":"226.60"},5075.96,null,null,1,null,1,1,410,450,350,3850,400,400,{"$nulls":3},{"v":772.5,"d":"772.50"},{"v":226.6,"d":"226.60"},5075.96,6075.06,{"v":-1160.8061508,"d":"-1160.81"},{"v":8995.44,"d":"8995"},4712]
["钢筋混凝土 溢流井 680×380 井高1m",1,"座",615.63,{"v":80,"d":"80.00"},{"v":220,"d":"220.00"},639.71,939.71,{"v":82.4,"d":"82.40"},{"v":226.6,"d":"226.60"},722.87,null,null,1,null,1,1,410,450,350,3850,400,400,{"$nulls":3},{"v":82.4,"d":"82.40"},{"v":226.6,"d":"226.60"},722.87,1031.87,{"v":-359.2265057,"d":"-359.23"},{"v":615.63,"d":"616"},859.71]
["钢筋混凝土 溢流井（井高1m，详见大样图）700X400",7,"座",646.28,{"v":80,"d":"80.00"},{"v":220,"d":"220.00"},639.71,939.71,{"v":82.4,"d":"82.40"},{"v":226.6,"d":"226.60"},722.87,null,null,1,null,1,1,410,450,350,3850,400,400,{"$nulls":3},{"v":82.4,"d":"82.40"},{"v":226.6,"d":"226.60"},722.87,1031.87,{"v":-325.7380092,"d":"-325.74"},{"v":4523.96,"d":"4524"},859.71]
["沟槽回填石屑",20426.31,"m3",227.4,27.68,{"v":6.5,"d":"6.50"},{"v":177,"d":"177.00"},211.18,28.51,{"v":6.7,"d":"6.70"},200.01,{"$nulls":15},28.51,{"v":6.7,"d":"6.70"},200.01,235.22,{"v":13.239514,"d":"13.24"},{"v":4644942.894,"d":"4644943"}]
["沟槽回填土方（利用挖方）",14162.88,"m3",6.7,1.26,5.68,null,6.94,{"v":1.3,"d":"1.30"},5.85,{"v":0,"d":"0.00"},{"$nulls":15},{"v":1.3,"d":"1.30"},5.85,{"v":0,"d":"0.00"},7.15,{"v":0.170487000000001,"d":"0.17"},{"v":94891.296,"d":"94891"}]
["管道封堵",296,"处",150,{"v":35,"d":"35.00"},{"v":0,"d":"0.00"},{"v":15,"d":"15.00"},{"v":50,"d":"50.00"},36.05,{"v":0,"d":"0.00"},16.95,{"$nulls":15},36.05,{"v":0,"d":"0.00"},16.95,{"v":53,"d":"53.00"},{"v":110.8915,"d":"110.89"},44400]
["管道封堵 DN300",36,"处",150,{"v":35,"d":"35.00"},{"v":0,"d":"0.00"},{"v":15,"d":"15.00"},{"v":50,"d":"50.00"},36.05,{"v":0,"d":"0.00"},16.95,{"$nulls":15},36.05,{"v":0,"d":"0.00"},16.95,{"v":53,"d":"53.00"},{"v":110.8915,"d":"110.89"},5400]
["管道基础模板",3468.3,"m2",35.05,{"v":18,"d":"18.00"},{"v":0.5,"d":"0.50"},{"v":38,"d":"38.00"},{"v":56.5,"d":"56.50"},18.54,0.52,42.94,{"$nulls":15},18.54,0.52,42.94,{"v":62,"d":"62.00"},{"v":-23.7040195,"d":"-23.70"},{"v":121563.915,"d":"121564"}]
["花岗岩路缘石90×15×30cm",3691.7,"m",229.78,{"v":35,"d":"35.00"},null,162.72,197.72,36.05,{"v":0,"d":"0.00"},183.87,{"$nulls":15},36.05,{"v":0,"d":"0.00"},183.87,219.92,{"v":31.1399258,"d":"31.14"},{"v":848278.826,"d":"848279"}]
["换填1:1碎石砂",1612.66,"m3",271.87,{"v":15,"d":"15.00"},{"v":22.495,"d":"22.50"},{"v":140,"d":"140.00"},{"v":177.495,"d":"177.50"},15.45,23.17,{"v":158.2,"d":"158.20"},{"$nulls":15},15.45,23.17,{"v":158.2,"d":"158.20"},196.82,{"v":100.2278807,"d":"100.23"},{"v":438433.8742,"d":"438434"}]
["混凝土出水口 D1650",1,"座",22000,{"v":1000,"d":"1000.00"},null,{"v":17000,"d":"17000.00"},{"v":18000,"d":"18000.00"},{"v":1030,"d":"1030.00"},{"v":0,"d":"0.00"},{"v":19210,"d":"19210.00"},{"$nulls":15},{"v":1030,"d":"1030.00"},{"v":0,"d":"0.00"},{"v":19210,"d":"19210.00"},{"v":20240,"d":"20240.00"},3797.42,22000]
["混凝土出水口 D1800",1,"座",25000,{"v":2000,"d":"2000.00"},null,{"v":18000,"d":"18000.00"},{"v":20000,"d":"20000.00"},{"v":2060,"d":"2060.00"},{"v":0,"d":"0.00"},{"v":20340,"d":"20340.00"},{"$nulls":15},{"v":2060,"d":"2060.00"},{"v":0,"d":"0.00"},{"v":20340,"d":"20340.00"},{"v":22400,"d":"22400.00"},4915.25,25000]
["混凝土出水口 D3000",1,"座",40000,{"v":2000,"d":"2000.00"},null,{"v":35000,"d":"35000.00"},{"v":37000,"d":"37000.00"},{"v":2060,"d":"2060.00"},{"v":0,"d":"0.00"},{"v":39550,"d":"39550.00"},{"$nulls":15},{"v":2060,"d":"2060.00"},{"v":0,"d":"0.00"},{"v":39550,"d":"39550.00"},{"v":41610,"d":"41610.00"},{"v":2094.4,"d":"2094.40"},40000]
["混凝土出水口 D400",2,"座",3500,{"v":800,"d":"800.00"},null,{"v":2250,"d":"2250.00"},{"v":3050,"d":"3050.00"},{"v":824,"d":"824.00"},{"v":0,"d":"0.00"},{"v":2542.5,"d":"2542.50"},{"$nulls":15},{"v":824,"d":"824.00"},{"v":0,"d":"0.00"},{"v":2542.5,"d":"2542.50"},{"v":3366.5,"d":"3366.50"},{"v":457.635,"d":"457.64"},7000]
["混凝土垫层 C20",80,"m3",468.05,65.48,27.48,398.06,491.02,67.44,{"v":28.3,"d":"28.30"},449.81,{"$nulls":15},67.44,{"v":28.3,"d":"28.30"},449.81,545.55,{"v":-34.1538894999999,"d":"-34.15"},37444]
["混凝土方沟 300×400",5363.68,"m",445.78,{"v":25,"d":"25.00"},null,{"v":402.5,"d":"402.50"},{"v":427.5,"d":"427.50"},25.75,{"v":0,"d":"0.00"},454.83,{"$nulls":15},25.75,{"v":0,"d":"0.00"},454.83,480.58,{"v":6.48368580000005,"d":"6.48"},{"v":2391021.2704,"d":"2391021"}]
["混凝土基础 C20包管",23.27,"m3",484.27,65.48,27.48,398.06,491.02,67.44,{"v":28.3,"d":"28.30"},449.81,{"$nulls":15},67.44,{"v":28.3,"d":"28.30"},449.81,545.55,{"v":-16.4317553,"d":"-16.43"},{"v":11268.9629,"d":"11269"}]
["检查井周加强",631,"座",2000,{"v":600,"d":"600.00"},null,{"$f":"0.8*245*4.15*1.3","v":1057.42},1657.42,{"v":618,"d":"618.00"},{"v":0,"d":"0.00"},1194.88,{"$nulls":15},{"v":618,"d":"618.00"},{"v":0,"d":"0.00"},1194.88,1812.88,372.34,1262000]
["井壁模板",12859.82,"m2",44.08,{"v":18,"d":"18.00"},{"v":0.5,"d":"0.50"},{"v":38,"d":"38.00"},{"v":56.5,"d":"56.50"},18.54,0.52,42.94,{"$nulls":15},18.54,0.52,42.94,{"v":62,"d":"62.00"},{"v":-13.8377512,"d":"-13.84"},{"v":566860.8656,"d":"566861"}]
["井底模板",1490.1,"m2",37.18,{"v":18,"d":"18.00"},{"v":0.5,"d":"0.50"},{"v":38,"d":"38.00"},{"v":56.5,"d":"56.50"},18.54,0.52,42.94,{"$nulls":15},18.54,0.52,42.94,{"v":62,"d":"62.00"},{"v":-21.3767602,"d":"-21.38"},{"v":55401.918,"d":"55402"}]
["立管断接",7,"处",250,{"v":80,"d":"80.00"},{"v":15,"d":"15.00"},{"$f":"6*17.5+40","v":{"v":145,"d":"145.00"}},{"v":240,"d":"240.00"},{"v":82.4,"d":"82.40"},15.45,163.85,{"$nulls":15},{"v":82.4,"d":"82.40"},15.45,163.85,{"v":261.7,"d":"261.70"},{"v":11.4525,"d":"11.45"},1750]
["立管断接 UPVC管 PVC-U排水管 DN200（含弯头、聚乙烯缓冲沉砂井等）",106,"处",250,{"v":80,"d":"80.00"},{"v":15,"d":"15.00"},{"$f":"6*17.5+40","v":{"v":145,"d":"145.00"}},{"v":240,"d":"240.00"},{"v":82.4,"d":"82.40"},15.45,163.85,{"$nulls":15},{"v":82.4,"d":"82.40"},15.45,163.85,{"v":261.7,"d":"261.70"},{"v":11.4525,"d":"11.45"},26500]
["立管接驳--UPVC管 PVC-U排水管 DN200",1296.25,"m",55.24,{"v":15,"d":"15.00"},null,{"v":33,"d":"33.00"},{"v":48,"d":"48.00"},15.45,{"v":0,"d":"0.00"},37.29,{"$nulls":15},15.45,{"v":0,"d":"0.00"},37.29,52.74,{"v":7.61577640000001,"d":"7.62"},{"v":71604.85,"d":"71605"}]
["立柱式杆件φ89*4*5150mm",63,"套",1288.48,{"v":180,"d":"180.00"},null,{"v":950,"d":"950.00"},{"v":1130,"d":"1130.00"},{"v":185.4,"d":"185.40"},{"v":0,"d":"0.00"},{"v":1073.5,"d":"1073.50"},{"$nulls":15},{"v":185.4,"d":"185.40"},{"v":0,"d":"0.00"},{"v":1073.5,"d":"1073.50"},{"v":1258.9,"d":"1258.90"},{"v":148.9061328,"d":"148.91"},{"v":81174.24,"d":"81174"}]
["破除并修复围墙",36,"m",800,{"$f":"248*1.65","v":{"v":409.2,"d":"409.20"}},null,{"$f":"(552*0.4+200*0.2)*1.65","v":430.32},839.52,421.48,{"v":0,"d":"0.00"},486.26,{"$nulls":15},421.48,{"v":0,"d":"0.00"},486.26,907.74,{"v":-33.6519999999999,"d":"-33.65"},28800]
["铺种草皮",87,"m2",45.54,{"v":15,"d":"15.00"},null,{"v":20,"d":"20.00"},{"v":35,"d":"35.00"},15.45,{"v":0,"d":"0.00"},{"v":22.6,"d":"22.60"},{"$nulls":15},15.45,{"v":0,"d":"0.00"},{"v":22.6,"d":"22.60"},38.05,{"v":11.7074594,"d":"11.71"},{"v":3961.98,"d":"3962"}]
["墙面脚手架",5713.51,"m2",10.23,{"v":8.4,"d":"8.40"},0.12,6.48,{"v":15,"d":"15.00"},8.65,0.12,7.32,{"$nulls":15},8.65,0.12,7.32,16.09,{"v":-4.9125997,"d":"-4.91"},{"v":58449.2073,"d":"58449"}]
["球墨铸铁防坠网",560,"座",100,{"v":10,"d":"10.00"},null,{"v":45,"d":"45.00"},{"v":55,"d":"55.00"},{"v":10.3,"d":"10.30"},{"v":0,"d":"0.00"},50.85,{"$nulls":15},{"v":10.3,"d":"10.30"},{"v":0,"d":"0.00"},50.85,61.15,{"v":48.111,"d":"48.11"},56000]
["人行横道标线",683.8,"m2",39.23,3.04,{"v":6,"d":"6.00"},{"v":27,"d":"27.00"},36.04,3.13,6.18,30.51,{"$nulls":15},3.13,6.18,30.51,39.82,{"v":3.0430903,"d":"3.04"},{"v":26825.474,"d":"26825"}]
["砂垫层",7191.08,"m3",311.16,{"v":15,"d":"15.00"},null,{"v":185,"d":"185.00"},{"v":200,"d":"200.00"},15.45,{"v":0,"d":"0.00"},209.05,{"$nulls":15},15.45,{"v":0,"d":"0.00"},209.05,{"v":224.5,"d":"224.50"},{"v":115.4765276,"d":"115.48"},{"v":2237576.4528,"d":"2237576"}]
["水马1.3X0.65（摊销5次）",6489,"m",17.25,{"$f":"3.5","v":{"v":3.5,"d":"3.50"}},null,{"$f":"65/5","v":{"v":13,"d":"13.00"}},{"v":16.5,"d":"16.50"},3.61,{"v":0,"d":"0.00"},14.69,{"$nulls":15},3.61,{"v":0,"d":"0.00"},14.69,{"v":18.3,"d":"18.30"},{"v":0.547522499999999,"d":"0.55"},{"v":111935.25,"d":"111935"}]
["太阳能导向牌（1.4×0.4m）",22,"套",1442.72,{"v":30,"d":"30.00"},null,{"v":758,"d":"758.00"},{"v":788,"d":"788.00"},{"v":30.9,"d":"30.90"},{"v":0,"d":"0.00"},856.54,{"$nulls":15},{"v":30.9,"d":"30.90"},{"v":0,"d":"0.00"},856.54,887.44,{"v":688.8902992,"d":"688.89"},{"v":31739.84,"d":"31740"}]
["太阳能施工牌（1.2×0.5m）",194,"套",1530.72,{"v":30,"d":"30.00"},null,{"v":715,"d":"715.00"},{"v":745,"d":"745.00"},{"v":30.9,"d":"30.90"},{"v":0,"d":"0.00"},807.95,{"$nulls":15},{"v":30.9,"d":"30.90"},{"v":0,"d":"0.00"},807.95,838.85,{"v":833.6299792,"d":"833.63"},{"v":296959.68,"d":"296960"}]
["铁马1.5X1m（摊销5次）",680,"m",44.26,{"v":3.5,"d":"3.50"},null,{"$f":"51/5","v":{"v":10.2,"d":"10.20"}},{"v":13.7,"d":"13.70"},3.61,{"v":0,"d":"0.00"},11.53,{"$nulls":15},3.61,{"v":0,"d":"0.00"},11.53,15.14,{"v":33.2189186,"d":"33.22"},{"v":30096.8,"d":"30097"}]
["挖沟槽石方（极软岩)",10496.17,"m3",9.34,1.35,{"v":11,"d":"11.00"},null,12.35,1.39,11.33,{"v":0,"d":"0.00"},{"$nulls":15},1.39,11.33,{"v":0,"d":"0.00"},12.72,{"v":-2.5150226,"d":"-2.52"},{"v":98034.2278,"d":"98034"}]
["挖沟槽石方（较软岩）",5248.1,"m3",43.59,1.35,{"$f":"150/7","v":{"v":21.4285714285714,"d":"21.43"}},null,{"v":22.7785714285714,"d":"22.78"},1.39,22.07,{"v":0,"d":"0.00"},{"$nulls":15},1.39,22.07,{"v":0,"d":"0.00"},23.46,{"v":24.1668699,"d":"24.17"},{"v":228764.679,"d":"228765"}]
["挖沟槽土方",42062.23,"m3",7.93,1.35,{"$f":"150/19","v":{"v":7.89473684210526,"d":"7.89"}},null,{"v":9.24473684210526,"d":"9.24"},1.39,8.13,{"v":0,"d":"0.00"},{"$nulls":15},1.39,8.13,{"v":0,"d":"0.00"},9.52,{"v":-0.8556027,"d":"-0.86"},{"v":333553.4839,"d":"333553"}]
["挖淤泥、流砂",258.99,"m3",11.89,1.35,{"$f":"150/19","v":{"v":7.89473684210526,"d":"7.89"}},null,{"v":9.24473684210526,"d":"9.24"},1.39,8.13,{"v":0,"d":"0.00"},{"$nulls":15},1.39,8.13,{"v":0,"d":"0.00"},9.52,{"v":3.4711329,"d":"3.47"},{"v":3079.3911,"d":"3079"}]
["围挡H=2.5m",9046.8,"m",83.35,null,null,{"v":150,"d":"150.00"},{"v":150,"d":"150.00"},{"v":0,"d":"0.00"},{"v":0,"d":"0.00"},{"v":169.5,"d":"169.50"},{"$nulls":15},{"v":0,"d":"0.00"},{"v":0,"d":"0.00"},{"v":169.5,"d":"169.50"},{"v":169.5,"d":"169.50"},{"v":-78.4309565,"d":"-78.43"},{"v":754050.78,"d":"754051"}]
["围堰",846,"m3",61.24,{"v":15,"d":"15.00"},null,{"v":35,"d":"35.00"},{"v":50,"d":"50.00"},15.45,{"v":0,"d":"0.00"},39.55,{"$nulls":15},15.45,{"v":0,"d":"0.00"},39.55,{"v":55,"d":"55.00"},{"v":11.9114364,"d":"11.91"},{"v":51809.04,"d":"51809"}]
["污水管改道 钢带增强聚乙烯螺旋波纹管 DN400mmSN8.0",189,"m",161.94,{"v":43.5,"d":"43.50"},{"v":20,"d":"20.00"},71.11,134.61,44.81,{"v":20.6,"d":"20.60"},80.35,{"$nulls":15},44.81,{"v":20.6,"d":"20.60"},80.35,145.76,{"v":31.1772634,"d":"31.18"},{"v":30606.66,"d":"30607"}]
["污水管检修孔",2,"座",2000,{"v":500,"d":"500.00"},null,{"v":1500,"d":"1500.00"},{"v":2000,"d":"2000.00"},{"v":515,"d":"515.00"},{"v":0,"d":"0.00"},{"v":1695,"d":"1695.00"},{"$nulls":15},{"v":515,"d":"515.00"},{"v":0,"d":"0.00"},{"v":1695,"d":"1695.00"},{"v":2210,"d":"2210.00"},{"v":-24.7799999999997,"d":"-24.78"},4000]
["现浇构件钢筋 螺纹钢HRB400",157.39,"t",3826.48,{"v":1020,"d":"1020.00"},{"v":50,"d":"50.00"},3763.73,4833.73,{"v":1050.6,"d":"1050.60"},{"v":51.5,"d":"51.50"},4253.01,{"$nulls":15},{"v":1050.6,"d":"1050.60"},{"v":51.5,"d":"51.50"},4253.01,5355.11,{"v":-1174.2596872,"d":"-1174.26"},{"v":602249.6872,"d":"602250"}]
["现浇混凝土池壁（隔墙）",509.54,"m3",516.89,{"v":80,"d":"80.00"},{"v":30,"d":"30.00"},{"v":418,"d":"418.00"},{"v":528,"d":"528.00"},{"v":82.4,"d":"82.40"},{"v":30.9,"d":"30.90"},472.34,{"$nulls":15},{"v":82.4,"d":"82.40"},{"v":30.9,"d":"30.90"},472.34,585.64,{"v":-20.8808170999999,"d":"-20.88"},{"v":263376.1306,"d":"263376"}]
["现浇混凝土池底",307.34,"m3",516.19,{"v":80,"d":"80.00"},{"v":30,"d":"30.00"},{"v":418,"d":"418.00"},{"v":528,"d":"528.00"},{"v":82.4,"d":"82.40"},{"v":30.9,"d":"30.90"},472.34,{"$nulls":15},{"v":82.4,"d":"82.40"},{"v":30.9,"d":"30.90"},472.34,585.64,{"v":-21.6456440999999,"d":"-21.65"},{"v":158645.8346,"d":"158646"}]
["现浇混凝土池盖板",307.34,"m3",520.62,{"v":80,"d":"80.00"},{"v":30,"d":"30.00"},{"v":418,"d":"418.00"},{"v":528,"d":"528.00"},{"v":82.4,"d":"82.40"},{"v":30.9,"d":"30.90"},472.34,{"$nulls":15},{"v":82.4,"d":"82.40"},{"v":30.9,"d":"30.90"},472.34,585.64,{"v":-16.8053818,"d":"-16.81"},{"v":160007.3508,"d":"160007"}]
["箱涵侧墙模板",1374.96,"m2",43.25,{"v":18,"d":"18.00"},{"v":0.5,"d":"0.50"},{"v":38,"d":"38.00"},{"v":56.5,"d":"56.50"},18.54,0.52,42.94,{"$nulls":15},18.54,0.52,42.94,{"v":62,"d":"62.00"},{"v":-14.7446175,"d":"-14.74"},{"v":59467.02,"d":"59467"}]
["箱涵垫层模板",40.44,"m2",30.36,{"v":18,"d":"18.00"},{"v":0.5,"d":"0.50"},{"v":38,"d":"38.00"},{"v":56.5,"d":"56.50"},18.54,0.52,42.94,{"$nulls":15},18.54,0.52,42.94,{"v":62,"d":"62.00"},{"v":-28.8283604,"d":"-28.83"},{"v":1227.7584,"d":"1228"}]
["箱涵顶板模板",606.6,"m2",46.3,{"v":18,"d":"18.00"},{"v":0.5,"d":"0.50"},{"v":38,"d":"38.00"},{"v":56.5,"d":"56.50"},18.54,0.52,42.94,{"$nulls":15},18.54,0.52,42.94,{"v":62,"d":"62.00"},{"v":-11.412157,"d":"-11.41"},{"v":28085.58,"d":"28086"}]
["箱涵滑（底）板模板",161.76,"m2",47.21,{"v":18,"d":"18.00"},{"v":0.5,"d":"0.50"},{"v":38,"d":"38.00"},{"v":56.5,"d":"56.50"},18.54,0.52,42.94,{"$nulls":15},18.54,0.52,42.94,{"v":62,"d":"62.00"},{"v":-10.4178819,"d":"-10.42"},{"v":7636.6896,"d":"7637"}]
["夜间行驶闪光灯",1360,"个",15.86,null,null,6.98,6.98,{"v":0,"d":"0.00"},{"v":0,"d":"0.00"},7.89,{"$nulls":15},{"v":0,"d":"0.00"},{"v":0,"d":"0.00"},7.89,7.89,{"v":9.4387946,"d":"9.44"},{"v":21569.6,"d":"21570"}]
["引孔后注粘土浆 比重1.4",4566.58,"m3",100,{"v":10,"d":"10.00"},{"v":50,"d":"50.00"},{"v":10,"d":"10.00"},{"v":70,"d":"70.00"},{"v":10.3,"d":"10.30"},{"v":51.5,"d":"51.50"},{"v":11.3,"d":"11.30"},{"$nulls":15},{"v":10.3,"d":"10.30"},{"v":51.5,"d":"51.50"},{"v":11.3,"d":"11.30"},{"v":73.1,"d":"73.10"},{"v":36.161,"d":"36.16"},456658]
["余方弃置(弃石）",15744.27,"m3",14.58,null,{"$f":"220/18.5","v":{"v":11.8918918918919,"d":"11.89"}},null,{"v":11.8918918918919,"d":"11.89"},{"v":0,"d":"0.00"},12.25,{"v":0,"d":"0.00"},{"$nulls":15},{"v":0,"d":"0.00"},12.25,{"v":0,"d":"0.00"},12.25,{"v":3.6802538,"d":"3.68"},{"v":229551.4566,"d":"229551"}]
["余方弃置(弃土）",27895.35,"m3",12.75,null,{"$f":"220/18.5","v":{"v":11.8918918918919,"d":"11.89"}},null,{"v":11.8918918918919,"d":"11.89"},{"v":0,"d":"0.00"},12.25,{"v":0,"d":"0.00"},{"$nulls":15},{"v":0,"d":"0.00"},12.25,{"v":0,"d":"0.00"},12.25,{"v":1.6807775,"d":"1.68"},{"v":355665.7125,"d":"355666"}]
["余方弃置(弃淤泥）",449.96,"m3",19.12,null,{"v":18.5,"d":"18.50"},null,{"v":18.5,"d":"18.50"},{"v":0,"d":"0.00"},19.06,{"v":0,"d":"0.00"},{"$nulls":15},{"v":0,"d":"0.00"},19.06,{"v":0,"d":"0.00"},19.06,{"v":1.83070320000001,"d":"1.83"},{"v":8603.2352,"d":"8603"}]
["余方弃置(弃渣）",14226.21,"m3",14.58,null,{"$f":"220/18.5","v":{"v":11.8918918918919,"d":"11.89"}},null,{"v":11.8918918918919,"d":"11.89"},{"v":0,"d":"0.00"},12.25,{"v":0,"d":"0.00"},{"$nulls":15},{"v":0,"d":"0.00"},12.25,{"v":0,"d":"0.00"},12.25,{"v":3.6802538,"d":"3.68"},{"v":207418.1418,"d":"207418"}]
["雨水井周加强",727,"座",200,{"v":200,"d":"200.00"},null,null,{"v":200,"d":"200.00"},{"v":206,"d":"206.00"},{"v":0,"d":"0.00"},{"v":0,"d":"0.00"},{"$nulls":15},{"v":206,"d":"206.00"},{"v":0,"d":"0.00"},{"v":0,"d":"0.00"},{"v":206,"d":"206.00"},{"v":12.522,"d":"12.52"},145400]
["雨水口 废除",589,"座",200,null,{"v":50,"d":"50.00"},null,{"v":50,"d":"50.00"},{"v":0,"d":"0.00"},{"v":51.5,"d":"51.50"},{"v":0,"d":"0.00"},{"$nulls":15},{"v":0,"d":"0.00"},{"v":51.5,"d":"51.50"},{"v":0,"d":"0.00"},{"v":51.5,"d":"51.50"},{"v":167.022,"d":"167.02"},117800]
["雨水口 封盖 450X750X60混凝土盖板",282,"座",83.62,{"v":15,"d":"15.00"},null,{"v":45,"d":"45.00"},{"v":60,"d":"60.00"},15.45,{"v":0,"d":"0.00"},50.85,{"$nulls":15},15.45,{"v":0,"d":"0.00"},50.85,{"v":66.3,"d":"66.30"},{"v":25.0640482,"d":"25.06"},{"v":23580.84,"d":"23581"}]
["植草沟",25,"m",68.74,{"v":15,"d":"15.00"},null,{"v":50,"d":"50.00"},{"$f":"SUM(E194:G194)","v":{"v":65,"d":"65.00"}},{"$f":"ROUND(E194*1.03,2)","v":15.45},{"$f":"ROUND(F194*1.03,2)","v":{"v":0,"d":"0.00"}},{"$f":"ROUND(G194*1.13,2)","v":{"v":56.5,"d":"56.50"}},{"$nulls":15},{"$f":"I194","v":15.45},{"$f":"J194","v":{"v":0,"d":"0.00"}},{"$f":"K194","v":{"v":56.5,"d":"56.50"}},{"$f":"AA194+AB194+AC194","v":71.95},{"$f":"D194*1.09261-AD194","v":{"v":3.1560114,"d":"3.16"}},{"$f":"D194*B194","v":{"v":1718.5,"d":"1719"}}]
["植草沟 B=500",58,"m",45.05,{"v":15,"d":"15.00"},null,{"v":50,"d":"50.00"},{"$f":"SUM(E195:G195)","v":{"v":65,"d":"65.00"}},{"$f":"ROUND(E195*1.03,2)","v":15.45},{"$f":"ROUND(F195*1.03,2)","v":{"v":0,"d":"0.00"}},{"$f":"ROUND(G195*1.13,2)","v":{"v":56.5,"d":"56.50"}},{"$nulls":15},{"$f":"I195","v":15.45},{"$f":"J195","v":{"v":0,"d":"0.00"}},{"$f":"K195","v":{"v":56.5,"d":"56.50"}},{"$f":"AA195+AB195+AC195","v":71.95},{"$f":"D195*1.09261-AD195","v":{"v":-22.7279195,"d":"-22.73"}},{"$f":"D195*B195","v":{"v":2612.9,"d":"2613"}}]
["锥形交通标",643,"个",30,null,null,{"v":15,"d":"15.00"},{"$f":"SUM(E196:G196)","v":{"v":15,"d":"15.00"}},{"$f":"ROUND(E196*1.03,2)","v":{"v":0,"d":"0.00"}},{"$f":"ROUND(F196*1.03,2)","v":{"v":0,"d":"0.00"}},{"$f":"ROUND(G196*1.13,2)","v":16.95},{"$nulls":15},{"$f":"I196","v":{"v":0,"d":"0.00"}},{"$f":"J196","v":{"v":0,"d":"0.00"}},{"$f":"K196","v":16.95},{"$f":"AA196+AB196+AC196","v":16.95},{"$f":"D196*1.09261-AD196","v":{"v":15.8283,"d":"15.83"}},{"$f":"D196*B196","v":19290}]
{"$rows_empty":9}
[{"$nulls":9},{"$f":"308/0.03","v":10266.6666666667}]

{"sheet":"Sheet1","index":2,"n_rows":8,"n_cols":25,"rows_kept":8,"hidden":true}
["1 分部分项及单价措施项目",900565.1,920768.62,97127.77,135542.34,18885.7,120008.71,86520.28,414085.79,23307.99,86129.15,24846.63,10202.36,47316.15,60186.46,412962.06,128957.4,39997.18,247568.3,43540.17,494563.99,300000,184086.15,133927.43,{"$f":"SUM(B1:X1)","v":4931095.73}]
["2 总价措施项目",38157.64,35784.42,2113.15,2307.02,1549.07,7959.56,7725.14,9748.03,1357.01,3975.24,1394.21,555.61,3184.64,2900.09,16481.62,6315.95,2178.76,14351.97,2014.04,12298.81,null,644.86,1299.47,{"$f":"SUM(B2:X2)","v":174296.31}]
["2.1 其中：安全文明施工费",36025.52,33784.9,1995.08,2178.11,1462.51,7514.8,7293.48,9203.34,1281.19,3753.13,1316.3,524.56,3006.69,2738.05,15560.68,5963.04,2057.01,13550.02,1901.5,11611.59,null,608.83,1226.86,164557.19]
["4 规费",17095.66,13660.34,804.64,983.25,677.26,3382.16,3306.15,3079.63,569.9,1671.65,611.48,231.32,1350.34,1261.9,7015.59,2674.56,929.06,6309.27,854.19,5308.21,null,283.85,571.14,72631.55]
["6 税前不含税工程造价",955818.4,970213.38,100045.56,138832.61,21112.03,131350.43,97551.57,426913.45,25234.9,91776.04,26852.32,10989.29,51851.13,64348.45,436459.27,137947.91,43105,268229.54,46408.4,512171.01,300000,185014.86,135798.04,5178023.59]
["7 销项增值税额",86023.66,87319.2,9004.1,12494.93,1900.08,11821.54,8779.64,38422.21,2271.14,8259.84,2416.71,989.04,4666.6,5791.36,39281.33,12415.31,3879.45,24140.66,4176.76,46095.39,27000,16651.34,12221.82,466022.11]
["8 附加税",2991.71,3036.77,313.14,434.55,66.08,411.13,305.34,1336.24,78.99,287.26,84.05,34.4,162.29,201.41,1366.12,431.78,134.92,839.56,145.26,1603.1,939,579.1,425.05,16207.25]
["招标控制价/投标报价总价合计=税前不含税工程造价+销项增值税额+附加税",1044833.77,1060569.35,109362.8,151762.09,23078.19,143583.1,106636.55,466671.9,27585.03,100323.14,29353.08,12012.73,56680.02,70341.22,477106.72,150795,47119.37,293209.76,50730.42,559869.5,327939,202245.3,148444.91,5660252.95]